From mboxrd@z Thu Jan 1 00:00:00 1970 Return-Path: Received: from mails.dpdk.org (mails.dpdk.org [217.70.189.124]) by inbox.dpdk.org (Postfix) with ESMTP id A16AB461CE for ; Sat, 8 Feb 2025 23:48:39 +0100 (CET) Received: from mails.dpdk.org (localhost [127.0.0.1]) by mails.dpdk.org (Postfix) with ESMTP id 81AAA402D7; Sat, 8 Feb 2025 23:48:39 +0100 (CET) Received: from mail-pl1-f227.google.com (mail-pl1-f227.google.com [209.85.214.227]) by mails.dpdk.org (Postfix) with ESMTP id 099B8402A4 for ; Sat, 8 Feb 2025 23:48:39 +0100 (CET) Received: by mail-pl1-f227.google.com with SMTP id d9443c01a7336-21f2339dcfdso50997095ad.1 for ; Sat, 08 Feb 2025 14:48:38 -0800 (PST) DKIM-Signature: v=1; a=rsa-sha256; c=relaxed/relaxed; d=iol.unh.edu; s=unh-iol; t=1739054918; x=1739659718; darn=dpdk.org; h=cc:to:from:subject:message-id:date:from:to:cc:subject:date :message-id:reply-to; bh=7ABk41GRgS/fQwwWS9sxmqm8khJgjWpZ7J0Tba1gjYY=; b=B4BC2Gg76BpsTny0QtK+X+T/JAgiiw5tMgjkc+teL2Yx128mIOlHcAKUmb/N8Gil2N OfDK4ofExRTvPZp5KNCmvZnaa43QCrMgSZSvct3K3dhovGRFYW0vb5PiZD/aDHzPgdOz eDRHWM/BafFfVEtnUSr29DVxlimleO9JFIbpQ= X-Google-DKIM-Signature: v=1; a=rsa-sha256; c=relaxed/relaxed; d=1e100.net; s=20230601; t=1739054918; x=1739659718; h=cc:to:from:subject:message-id:date:x-gm-message-state:from:to:cc :subject:date:message-id:reply-to; bh=7ABk41GRgS/fQwwWS9sxmqm8khJgjWpZ7J0Tba1gjYY=; b=pOKwyzPyE2i82KNeZ7+gGoC2n3xagtShNb+ndb30DorwYBeUcVVqwoHQD9zuhGPibf P/bkzl+gyCSj6i7bbAxFVP+mmm0K/7G0UbTORRSm/gYoTUD7swcqb4KRsmQ/KibsKZY6 vyKAXpdWDV9Gz42I51ONjquP64jX9xwfWEKXNlkTe0S/1yNtjtGDLog1+8EngAnHgXem iKuURZzrEVvATxRo0aJQToI4n37bRQaikcCGMdBGdDLIE4qvcWpM3tA2VfuKgaTqCQPm h4ZrJYBN75KvySpCyX4UIKxUNx35FssydiOn7cRBW/hcVXRvKuHsG/RqzqjiskWoSmaC Dxjw== X-Gm-Message-State: AOJu0YxI2fkZSsrmqR8khBr1RZwjX7pn27G1mEskSXoS4ukJ1yGEgwcm dBJU0xe3x2BCuMp39BeEWtYYX+1j9hDG4F0hdga9laq3EEQ/vbWF8cexEqVrXVrP3AvrLnC/UpF MGYUJO+YxmTQ5gGQai8YTEnRj4lvknbM1 X-Gm-Gg: ASbGncuTsfQxpTRDAIXjQwX+3lC5Zjj/OCRYoRBwK538nvN0tCgTg3DPi8xuvOiDIrA B1aRIOVIpotb6BdvbkAarTRIWrhy4Q2TdEpKV8HSIjl3NerhccdS2EdXfFsm0UHCDVTVdzCsvLV ZMddsEE9LVLLyBmmV0pa7uYyjaOYy6tyBz5vyNHRggqoNPc+cWYUCZ8k64lUeKAjdTBCYxUkD3L 9tOMcM/1SPSbzW/qn28hj+s6pO7/lOqFUArjjV0r9GScn5s/VdJibFPG83j+/nKMsjueMjTUNlX /bGWipHxw2NolCuvNLo0m+WT64g+gA== X-Google-Smtp-Source: AGHT+IEr9VPAqGYZ4sVD0tfmIOuvP00Z29/VZJR9bEbef4/+jXF/d1jO0olHWetoC9NO1OKhp3H3JrhtZBV4 X-Received: by 2002:a17:902:fc8d:b0:216:311e:b1c4 with SMTP id d9443c01a7336-21f2f1376bdmr199659785ad.4.1739054918206; Sat, 08 Feb 2025 14:48:38 -0800 (PST) Received: from postal.iol.unh.edu (postal.iol.unh.edu. [132.177.123.84]) by smtp-relay.gmail.com with ESMTPS id d9443c01a7336-21f3c2d00a1sm3636445ad.90.2025.02.08.14.48.38 (version=TLS1_2 cipher=ECDHE-ECDSA-AES128-GCM-SHA256 bits=128/128); Sat, 08 Feb 2025 14:48:38 -0800 (PST) X-Relaying-Domain: iol.unh.edu Date: Sat, 08 Feb 2025 14:48:38 -0800 (PST) Message-ID: <67a7df46.170a0220.254a26.24a1SMTPIN_ADDED_MISSING@mx.google.com> Received: from [172.17.0.3] (unknown [172.18.0.217]) by postal.iol.unh.edu (Postfix) with ESMTP id 428FC6052471; Sat, 8 Feb 2025 17:48:07 -0500 (EST) Subject: |SUCCESS| [GIT MASTER] f2eea2f37a82bb73fb01d56350708f7d70e21379 From: dpdklab@iol.unh.edu To: Test Report Cc: dpdk-test-reports@iol.unh.edu, Xueming Li , Christian Ehrhardt , Kevin Traynor , Luca Boccassi Content-Type: text/plain X-BeenThere: test-report@dpdk.org X-Mailman-Version: 2.1.29 Precedence: list List-Id: automatic DPDK test reports List-Unsubscribe: , List-Archive: List-Post: List-Help: List-Subscribe: , Errors-To: test-report-bounces@dpdk.org _Testing PASS_ Branch: tags/v24.11 f2eea2f37a82bb73fb01d56350708f7d70e21379 --> testing pass Upstream job id: ACVP-FIPS-testing#8822 Test environment and result as below: +--------------------+----------------------+----------------------+ | Environment | compressdev_zlib_pmd | dpdk_fips_validation | +====================+======================+======================+ | Ubuntu 22.04 (ARM) | PASS | SKIPPED | +--------------------+----------------------+----------------------+ | Ubuntu 22.04 | PASS | SKIPPED | +--------------------+----------------------+----------------------+ | Ubuntu 20.04 | SKIPPED | PASS | +--------------------+----------------------+----------------------+ Ubuntu 22.04 (ARM) Kernel: 5.15.0-97-generic Compiler: gcc gcc (Ubuntu 11.4.0-1ubuntu1~22.04) 11.4.0 Ubuntu 22.04 Kernel: 5.15.0-100-generic Compiler: gcc gcc (Ubuntu 11.4.0-1ubuntu1~22.04) 11.4.0 Ubuntu 20.04 Kernel: Depends on container host Compiler: gcc (Ubuntu 9.4.0-1ubuntu1~20.04.2) 9.4.0 To view detailed results, visit: https://lab.dpdk.org/results/dashboard/tarballs/32483/ UNH-IOL DPDK Community Lab To manage your email subscriptions, visit: https://lab.dpdk.org/results/dashboard/preferences/subscriptions/