From mboxrd@z Thu Jan 1 00:00:00 1970 Return-Path: Received: from mails.dpdk.org (mails.dpdk.org [217.70.189.124]) by inbox.dpdk.org (Postfix) with ESMTP id E78F84616C for ; Sun, 9 Feb 2025 00:15:03 +0100 (CET) Received: from mails.dpdk.org (localhost [127.0.0.1]) by mails.dpdk.org (Postfix) with ESMTP id 0FBCC402A4; Sun, 9 Feb 2025 00:15:03 +0100 (CET) Received: from mail-il1-f225.google.com (mail-il1-f225.google.com [209.85.166.225]) by mails.dpdk.org (Postfix) with ESMTP id 6FD304028B for ; Sun, 9 Feb 2025 00:15:01 +0100 (CET) Received: by mail-il1-f225.google.com with SMTP id e9e14a558f8ab-3ce85545983so9806815ab.0 for ; Sat, 08 Feb 2025 15:15:01 -0800 (PST) DKIM-Signature: v=1; a=rsa-sha256; c=relaxed/relaxed; d=iol.unh.edu; s=unh-iol; t=1739056501; x=1739661301; darn=dpdk.org; h=cc:to:from:subject:message-id:date:from:to:cc:subject:date :message-id:reply-to; bh=bBYgHwRRzicfcwGfYqjNaTNSWyyb7y4SYslyejMYBlU=; b=aWA0QcBhSew+SqEcaHmnT+TLSkfjs2pRDzPKYuGGMgasK9fGVStNpm6fk+mCC380GB 7bAlYpK0S3uGRv8f4P1f9fgrPQX7akb0ezrSTt6toByXTYvymx5ONUWOCEJ4w1Z8mQxw TpMwSX8RUYvFEEJBZ7Q4YsilRQWf4ekqDkO1w= X-Google-DKIM-Signature: v=1; a=rsa-sha256; c=relaxed/relaxed; d=1e100.net; s=20230601; t=1739056501; x=1739661301; h=cc:to:from:subject:message-id:date:x-gm-message-state:from:to:cc :subject:date:message-id:reply-to; bh=bBYgHwRRzicfcwGfYqjNaTNSWyyb7y4SYslyejMYBlU=; b=mgscQ7jroOfpRXBmyYggOM2h6EDMAU420eOBJp2nmo4nZOL6DYegSCDIpja4DuNVwB l4wkC+nCcaJ6xOC1ECif03AU4Va9pcuP+SPdPe3j1iixEwGuhHsyemfnozrMr6/01FLa M+S85N/HKVuvqMBWRV8e9eGyEvpWwRiq625F8cGDN++OuuqiSQZtqOrGXdUZSFTheL5j PD8JUFJ00HOfUrwX3QFVKCS7jM3GUudyenGTKU2XTBR+zV26AwQA67qI8w+b3QpyeuP2 UDZDMGfTHRYsiETHF2KvGLw7+Fb+pjkk0RpBOuOLmNdu72hyns9hu363EW4YtfdcROzj DaPg== X-Gm-Message-State: AOJu0YwKyXtmFFc3RXQMcRyLqrC1B9bsHLkXlR5OKk9LidCSzev26gnW Ylq4YbR1vazrV/B2kMdEJzK0JpJIVsAcm6xJk8ojA6eKePJGB8pGCWUdYN1VSuxVY3NupKvZTNK E9WsSZcM7bgJ4kcVoXSzh6zigfxegFi/Y X-Gm-Gg: ASbGncuC4QwvJU8IgM6tavkDWK9QAjeKFAcv3ef0tYEDUr9zhWm79EW7BEyFdzVg6cm BdNfTe6EEN+lMtaKarcg/cSU9p013aERoPBqpAUy7Ew1myQ+F/sz1dUz7q0FW+AD/kZbC1O/Yah gP57HR2BgkfoDY3STikG+m9ayEoBoHkOEMy3XWlsbwm84Y4oSyK7Tptv5eqA5Erh7s7cCMgvdkK is5203hR2diqyIlBdZ13fjRzvjR/f+3SNe+3hl2sQR/ls1ckeqzsKUN5lh2ZKh910ORYobMiZuf +1tpDFsD0fZms/S5k0U4WLmKs3aJWQ== X-Google-Smtp-Source: AGHT+IEduDZ3ZQv//R6LM0NzaM6JB0mxe15QgXpIQ/C0BfJrmSrWxpvYxcs8ObZX7UCUmfpypct55x2r/EMt X-Received: by 2002:a05:6e02:1c86:b0:3ce:7da0:6fe2 with SMTP id e9e14a558f8ab-3d13dfa7e85mr69996985ab.0.1739056500783; Sat, 08 Feb 2025 15:15:00 -0800 (PST) Received: from postal.iol.unh.edu (postal.iol.unh.edu. [132.177.123.84]) by smtp-relay.gmail.com with ESMTPS id e9e14a558f8ab-3d05e9f08c9sm4180255ab.53.2025.02.08.15.15.00 (version=TLS1_2 cipher=ECDHE-ECDSA-AES128-GCM-SHA256 bits=128/128); Sat, 08 Feb 2025 15:15:00 -0800 (PST) X-Relaying-Domain: iol.unh.edu Date: Sat, 08 Feb 2025 15:15:00 -0800 (PST) Message-ID: <67a7e574.050a0220.205d2d.5e92SMTPIN_ADDED_MISSING@mx.google.com> Received: from [172.17.0.3] (unknown [172.18.0.217]) by postal.iol.unh.edu (Postfix) with ESMTP id 3B8AD6052471; Sat, 8 Feb 2025 18:14:30 -0500 (EST) Subject: |SUCCESS| [GIT MASTER] c66daa12e76d7b4912cfb7109a761856a7a873ab From: dpdklab@iol.unh.edu To: Test Report Cc: dpdk-test-reports@iol.unh.edu, Xueming Li , Christian Ehrhardt , Kevin Traynor , Luca Boccassi Content-Type: text/plain X-BeenThere: test-report@dpdk.org X-Mailman-Version: 2.1.29 Precedence: list List-Id: automatic DPDK test reports List-Unsubscribe: , List-Archive: List-Post: List-Help: List-Subscribe: , Errors-To: test-report-bounces@dpdk.org _Testing PASS_ Branch: tags/v23.11 c66daa12e76d7b4912cfb7109a761856a7a873ab --> testing pass Upstream job id: ACVP-FIPS-testing#8823 Test environment and result as below: +--------------------+----------------------+----------------------+ | Environment | compressdev_zlib_pmd | dpdk_fips_validation | +====================+======================+======================+ | Ubuntu 22.04 (ARM) | PASS | SKIPPED | +--------------------+----------------------+----------------------+ | Ubuntu 22.04 | PASS | SKIPPED | +--------------------+----------------------+----------------------+ | Ubuntu 20.04 | SKIPPED | PASS | +--------------------+----------------------+----------------------+ Ubuntu 22.04 (ARM) Kernel: 5.15.0-97-generic Compiler: gcc gcc (Ubuntu 11.4.0-1ubuntu1~22.04) 11.4.0 Ubuntu 22.04 Kernel: 5.15.0-100-generic Compiler: gcc gcc (Ubuntu 11.4.0-1ubuntu1~22.04) 11.4.0 Ubuntu 20.04 Kernel: Depends on container host Compiler: gcc (Ubuntu 9.4.0-1ubuntu1~20.04.2) 9.4.0 To view detailed results, visit: https://lab.dpdk.org/results/dashboard/tarballs/32484/ UNH-IOL DPDK Community Lab To manage your email subscriptions, visit: https://lab.dpdk.org/results/dashboard/preferences/subscriptions/