From mboxrd@z Thu Jan 1 00:00:00 1970 Return-Path: Received: from mails.dpdk.org (mails.dpdk.org [217.70.189.124]) by inbox.dpdk.org (Postfix) with ESMTP id CD417461B2 for ; Sun, 9 Feb 2025 00:41:59 +0100 (CET) Received: from mails.dpdk.org (localhost [127.0.0.1]) by mails.dpdk.org (Postfix) with ESMTP id 9EB31402A4; Sun, 9 Feb 2025 00:41:59 +0100 (CET) Received: from mail-oo1-f97.google.com (mail-oo1-f97.google.com [209.85.161.97]) by mails.dpdk.org (Postfix) with ESMTP id 9FEAA4028B for ; Sun, 9 Feb 2025 00:41:57 +0100 (CET) Received: by mail-oo1-f97.google.com with SMTP id 006d021491bc7-5fc13355a5bso1632792eaf.3 for ; Sat, 08 Feb 2025 15:41:57 -0800 (PST) DKIM-Signature: v=1; a=rsa-sha256; c=relaxed/relaxed; d=iol.unh.edu; s=unh-iol; t=1739058116; x=1739662916; darn=dpdk.org; h=cc:to:from:subject:message-id:date:from:to:cc:subject:date :message-id:reply-to; bh=CY4bv6VNhsU3GN8FkS5LnLaLWf+dUM4agxk6l3+vspY=; b=ChiCU79eEX7EmdzrlulHVRSdEZPw2PkKwY/Sps09aqt2S3DNfvpAsu/fWHoV2X7suU VTX6uRbqy79iCT8frkUZuGD/yOrd48VWjhtWsdFy8TlH+FY5QZ+tRmfy3SiQE5DgnDpL kjV3R2P34sTOuVVNMSE3NjLO15Zk6cruFJAV0= X-Google-DKIM-Signature: v=1; a=rsa-sha256; c=relaxed/relaxed; d=1e100.net; s=20230601; t=1739058116; x=1739662916; h=cc:to:from:subject:message-id:date:x-gm-message-state:from:to:cc :subject:date:message-id:reply-to; bh=CY4bv6VNhsU3GN8FkS5LnLaLWf+dUM4agxk6l3+vspY=; b=qNrvaShXmK9+muW/7pkDe+h5pqPgspWniDKV8BvpLK9oSwTwJWtmGJXkLavVnfGzU9 0cwkociP1iNtdH0RH4B9jlMntyAaDX6WlySq6CgLj/fXNbEnejmfH20jtaqCC9ea9t0J HnPC9vSNK8JLtdnD9NssfpWW6DvIrd7QcdOuhHpSeWCfx+6kZQkz7Mt9ASzrBZaL2xz1 snUZ2CzRU/n3ryx/SgWt4yOoUBlBq3IMmiJ6Wd198FNZw9tyDtFLYiWBC65fDxlU4NK9 jj4CbFNzFLBoz8w4KPcohW+MFKbZCfDxv0hOatyoa4NUqCpwvcsQyUc1wbTUAPjg7zP9 snWg== X-Gm-Message-State: AOJu0YwVEB8Pe0eOdov37+S3fYI+0Hits7fxZW4zv/fUiNqoU3hM3Adv oV1oB2ww65WCTBWWQ9xpnZlB0boW1djyj9d36T/e+lNMXpPpOwFLbpOe6Uftq12g3lvHvk0svgm UvnuGUkLNPOMUdIzKI/1MNLEeWywlISV5 X-Gm-Gg: ASbGnctWeDYIlBUmzGWrae7ql9TtGJREVmxb+Whu6AMzwUPFmsxMmRIZ8yBsJHcWvD4 bwzMDZyozDsmZG70mn4v4hx8kQF2ZPtOyTPuF+yTV05Ed6UDt3NbbKZOYfDW9tox+Kv1OLPC15m myD/PYNDkMezkzK7mfl0+Z0Agctb74jaAiew/jesG1CMtQdvG6LBqUx/zWDfRSIaplFWdZpgaKu Q6iLbx3q9PDKZe0j+8qsVgXdI06lXh4dnJuxFY1YjljAHf8j3u72QTY3IWzLBeYEXAhiV34fMwZ ZAKCCLsaEhUOEvdwrWP1fuG5CzWlmQ== X-Google-Smtp-Source: AGHT+IGvjbgK8QfnHTsOXMi9MsIVg0wyBvSJLUhuAmv9nTH1OSGbWId+DXyB8RkuRdfGd9T4konWAYY0WQPe X-Received: by 2002:a05:6870:89a5:b0:294:cac8:c780 with SMTP id 586e51a60fabf-2b83eb9a629mr5569277fac.6.1739058116585; Sat, 08 Feb 2025 15:41:56 -0800 (PST) Received: from postal.iol.unh.edu (postal.iol.unh.edu. [132.177.123.84]) by smtp-relay.gmail.com with ESMTPS id 586e51a60fabf-2b8261dd0e2sm312358fac.25.2025.02.08.15.41.56 (version=TLS1_2 cipher=ECDHE-ECDSA-AES128-GCM-SHA256 bits=128/128); Sat, 08 Feb 2025 15:41:56 -0800 (PST) X-Relaying-Domain: iol.unh.edu Date: Sat, 08 Feb 2025 15:41:56 -0800 (PST) Message-ID: <67a7ebc4.050a0220.2a83f5.f888SMTPIN_ADDED_MISSING@mx.google.com> Received: from [172.17.0.3] (unknown [172.18.0.217]) by postal.iol.unh.edu (Postfix) with ESMTP id 003BA6052471; Sat, 8 Feb 2025 18:41:25 -0500 (EST) Subject: |SUCCESS| [GIT MASTER] 7ce7d3341d7e21c2a81f2fea8e451681d7306d77 From: dpdklab@iol.unh.edu To: Test Report Cc: dpdk-test-reports@iol.unh.edu, Xueming Li , Christian Ehrhardt , Kevin Traynor , Luca Boccassi Content-Type: text/plain X-BeenThere: test-report@dpdk.org X-Mailman-Version: 2.1.29 Precedence: list List-Id: automatic DPDK test reports List-Unsubscribe: , List-Archive: List-Post: List-Help: List-Subscribe: , Errors-To: test-report-bounces@dpdk.org _Testing PASS_ Branch: tags/v22.11 7ce7d3341d7e21c2a81f2fea8e451681d7306d77 --> testing pass Upstream job id: ACVP-FIPS-testing#8824 Test environment and result as below: +--------------------+----------------------+----------------------+ | Environment | compressdev_zlib_pmd | dpdk_fips_validation | +====================+======================+======================+ | Ubuntu 22.04 (ARM) | PASS | SKIPPED | +--------------------+----------------------+----------------------+ | Ubuntu 22.04 | PASS | SKIPPED | +--------------------+----------------------+----------------------+ | Ubuntu 20.04 | SKIPPED | PASS | +--------------------+----------------------+----------------------+ Ubuntu 22.04 (ARM) Kernel: 5.15.0-97-generic Compiler: gcc gcc (Ubuntu 11.4.0-1ubuntu1~22.04) 11.4.0 Ubuntu 22.04 Kernel: 5.15.0-100-generic Compiler: gcc gcc (Ubuntu 11.4.0-1ubuntu1~22.04) 11.4.0 Ubuntu 20.04 Kernel: Depends on container host Compiler: gcc (Ubuntu 9.4.0-1ubuntu1~20.04.2) 9.4.0 To view detailed results, visit: https://lab.dpdk.org/results/dashboard/tarballs/32482/ UNH-IOL DPDK Community Lab To manage your email subscriptions, visit: https://lab.dpdk.org/results/dashboard/preferences/subscriptions/