From mboxrd@z Thu Jan 1 00:00:00 1970 Return-Path: Received: from mails.dpdk.org (mails.dpdk.org [217.70.189.124]) by inbox.dpdk.org (Postfix) with ESMTP id 50488461B2 for ; Sun, 9 Feb 2025 01:08:37 +0100 (CET) Received: from mails.dpdk.org (localhost [127.0.0.1]) by mails.dpdk.org (Postfix) with ESMTP id 5D35D402A4; Sun, 9 Feb 2025 01:08:36 +0100 (CET) Received: from mail-il1-f226.google.com (mail-il1-f226.google.com [209.85.166.226]) by mails.dpdk.org (Postfix) with ESMTP id E51AD4028B for ; Sun, 9 Feb 2025 01:08:34 +0100 (CET) Received: by mail-il1-f226.google.com with SMTP id e9e14a558f8ab-3d15bacddbdso652825ab.1 for ; Sat, 08 Feb 2025 16:08:34 -0800 (PST) DKIM-Signature: v=1; a=rsa-sha256; c=relaxed/relaxed; d=iol.unh.edu; s=unh-iol; t=1739059714; x=1739664514; darn=dpdk.org; h=references:in-reply-to:cc:to:from:subject:message-id:date:from:to :cc:subject:date:message-id:reply-to; bh=DPApAlwToHMHW8VceUuHAh1bQRbes7aK/2IKM6pEIF4=; b=S7btDa65BRMkZGAKiTGzfkarCNaHelpvvHy865NIUHPFNYQ3BQHPHKtV47bmBYmxih v/bVZvvUIaoXxbG6QbuYxxuEIKTda3cD/7aWoQ/Q66uoLGgJSBxgezCQRUWnGmPt0FH/ +WAPNMXSVt7cujOkPbk9OhTsF5bYFNGQJJSFs= X-Google-DKIM-Signature: v=1; a=rsa-sha256; c=relaxed/relaxed; d=1e100.net; s=20230601; t=1739059714; x=1739664514; h=references:in-reply-to:cc:to:from:subject:message-id:date :x-gm-message-state:from:to:cc:subject:date:message-id:reply-to; bh=DPApAlwToHMHW8VceUuHAh1bQRbes7aK/2IKM6pEIF4=; b=FUY+M1d6Yq8IHteEGeJnv2VPh+Ve/2wEaPaYPW6QuutNVBtZnPHjeiek0VkR/A7KZd PDw/YX3k0/cZVNRxUMTQhgrLqnFyRCdDi0UiiE0aZH5XhXwX5hWHY932zKjpcra4XHVZ MWiZscc4biwGaMWizb5Xc5Jc4skFH1fb+iF51v2pv1H1pAvmiVPIdR9lzRzbFJpMpEmr AUXuyv4C3Xbm/0QyMKl97kkGCuuODya6mME96m+iA3SS9RuLEsdHYDU0ZlGykxtcarhc 4tLERb93fauqNNL3gJwrkj1d4YSAbHmGkoYKwtUoXZmOvI2nwzDCLz6rwmKooC2xhHg8 Z5Cg== X-Gm-Message-State: AOJu0YzUuz1jC88RULMok81wvdWR4UvuwqOAhpUB5CAR26T7UomohmjJ WiRel2SKd6PHwT+jAC49FpIgyc3xKp6TxRLHhLeK2ZW7XDU5huG408P80fJRdRQOXHWSLjYX6YO evAw5Pl5E+yw1W5S1daqhAMM90j594e9k/uglya9w X-Gm-Gg: ASbGncuYe4tQYo1/D+RtdoCWZdvArB+d0u42zWJ3j3RMUkR1SvBakhhE0e5mtFJuAP8 8seCKHpz+QQCnAQzsaieouT3nG+iW8W07C9lQ4UsX+/ueP7Jd43bUGhVMXCrQYh5RkNVnHKAC7C SMXNSVuUh6GMGIPsnGnfAUxG6wmfRr2fADmVmNde0WyuGIMtgjPaDQvi0BjfcXGTUJFuosANar1 RZW7tZ5bjRF9waCLv6JGPkirr23oo5lH95mnGwbv9I/Hg6KgDk4KNjnl1Ep+GDLg6Lpz/UuhqXf nIJqYjm86EucnLUkKqT5xkXpVecSxg== X-Google-Smtp-Source: AGHT+IFkTq0HS0Bxnn50DIRrTkjeWkMK1PThx3nuPf+QLt4BNrtBM/tOLv5hkdEgUlvsp+GH0p40BfS7U/g8 X-Received: by 2002:a05:6e02:20c8:b0:3d0:2280:ce30 with SMTP id e9e14a558f8ab-3d13dd2a3f2mr65809545ab.8.1739059714247; Sat, 08 Feb 2025 16:08:34 -0800 (PST) Received: from postal.iol.unh.edu (postal.iol.unh.edu. [132.177.123.84]) by smtp-relay.gmail.com with ESMTPS id 8926c6da1cb9f-4eccf9d5303sm399825173.29.2025.02.08.16.08.34 (version=TLS1_2 cipher=ECDHE-ECDSA-AES128-GCM-SHA256 bits=128/128); Sat, 08 Feb 2025 16:08:34 -0800 (PST) X-Relaying-Domain: iol.unh.edu Date: Sat, 08 Feb 2025 16:08:34 -0800 (PST) Message-ID: <67a7f202.050a0220.2024f1.3e26SMTPIN_ADDED_MISSING@mx.google.com> Received: from [172.17.0.3] (unknown [172.18.0.217]) by postal.iol.unh.edu (Postfix) with ESMTP id AF8C16052471; Sat, 8 Feb 2025 19:08:33 -0500 (EST) Subject: |SUCCESS| pw151078 [PATCH] [v4] net: add thread-safe crc api From: dpdklab@iol.unh.edu To: Test Report Cc: dpdk-test-reports@iol.unh.edu In-Reply-To: <20250207063758.3971992-1-arkadiuszx.kusztal@intel.com> References: <20250207063758.3971992-1-arkadiuszx.kusztal@intel.com> Content-Type: text/plain X-BeenThere: test-report@dpdk.org X-Mailman-Version: 2.1.29 Precedence: list List-Id: automatic DPDK test reports List-Unsubscribe: , List-Archive: List-Post: List-Help: List-Subscribe: , Errors-To: test-report-bounces@dpdk.org Test-Label: iol-sample-apps-testing Test-Status: SUCCESS http://dpdk.org/patch/151078 _Testing PASS_ Submitter: Arkadiusz Kusztal Date: Friday, February 07 2025 06:37:58 DPDK git baseline: Repo:dpdk Branch: master CommitID:7125636162d67b1c40ba6802a3ff4466d125d243 151078 --> testing pass Upstream job id: ACVP-FIPS-testing#8825 Test environment and result as below: +--------------------+----------------------+----------------------+ | Environment | compressdev_zlib_pmd | dpdk_fips_validation | +====================+======================+======================+ | Ubuntu 22.04 (ARM) | PASS | SKIPPED | +--------------------+----------------------+----------------------+ | Ubuntu 22.04 | PASS | SKIPPED | +--------------------+----------------------+----------------------+ | Ubuntu 20.04 | SKIPPED | PASS | +--------------------+----------------------+----------------------+ Ubuntu 22.04 (ARM) Kernel: 5.15.0-97-generic Compiler: gcc gcc (Ubuntu 11.4.0-1ubuntu1~22.04) 11.4.0 Ubuntu 22.04 Kernel: 5.15.0-100-generic Compiler: gcc gcc (Ubuntu 11.4.0-1ubuntu1~22.04) 11.4.0 Ubuntu 20.04 Kernel: Depends on container host Compiler: gcc (Ubuntu 9.4.0-1ubuntu1~20.04.2) 9.4.0 To view detailed results, visit: https://lab.dpdk.org/results/dashboard/patchsets/32519/ UNH-IOL DPDK Community Lab To manage your email subscriptions, visit: https://lab.dpdk.org/results/dashboard/preferences/subscriptions/