From mboxrd@z Thu Jan 1 00:00:00 1970 Return-Path: Received: from mails.dpdk.org (mails.dpdk.org [217.70.189.124]) by inbox.dpdk.org (Postfix) with ESMTP id C6346461B2 for ; Sun, 9 Feb 2025 01:39:08 +0100 (CET) Received: from mails.dpdk.org (localhost [127.0.0.1]) by mails.dpdk.org (Postfix) with ESMTP id 92472402A4; Sun, 9 Feb 2025 01:39:08 +0100 (CET) Received: from mail-yb1-f228.google.com (mail-yb1-f228.google.com [209.85.219.228]) by mails.dpdk.org (Postfix) with ESMTP id DAE984028B for ; Sun, 9 Feb 2025 01:39:06 +0100 (CET) Received: by mail-yb1-f228.google.com with SMTP id 3f1490d57ef6-e5b32f64ffeso2705515276.3 for ; Sat, 08 Feb 2025 16:39:06 -0800 (PST) DKIM-Signature: v=1; a=rsa-sha256; c=relaxed/relaxed; d=iol.unh.edu; s=unh-iol; t=1739061546; x=1739666346; darn=dpdk.org; h=cc:to:from:subject:message-id:date:from:to:cc:subject:date :message-id:reply-to; bh=iGzMFQj+UCA4UE2Agk41KeiHv6956swL/+yzXr+Sl8M=; b=Z9Wlmkrpp5/cNnjmEWa6TUTjqk6oRXlqsesrLikgmjBYzucFbwGMsX2efEnf+FpnSf +5O6om5z+/4geaMoEycO7GmYfas962fssAnc/NuX+cnveE+6Gmn/e6VO8XIrVbXOcb1v COcbM9pS7LYZrPErZkmRIFshAkldamRPHfpEc= X-Google-DKIM-Signature: v=1; a=rsa-sha256; c=relaxed/relaxed; d=1e100.net; s=20230601; t=1739061546; x=1739666346; h=cc:to:from:subject:message-id:date:x-gm-message-state:from:to:cc :subject:date:message-id:reply-to; bh=iGzMFQj+UCA4UE2Agk41KeiHv6956swL/+yzXr+Sl8M=; b=JxkIWRwwSxBGpQ0InEFFhEZuEcYaSqt0ppWkWCbEi/8C77TXmkKZPYERpwkF4D41V6 u2qBWU7Cm6gcf5rTFjq+M0C0rn0/1kzn25cMTMDQnFrbJgB2mNUcjdXbGVXc1FNxsyt/ I+z/y7jZ+xP8AhDwju8FTqxUFFaK2Zi2zaqqsTebMq7oWgdGnzXDAFrn8XP/wvGJavO1 bemSxi/53HDdcB0GM/lCxh1LpLrKCcIGiJiDsMZO1DzYRnLV8o8sBwW6/VG2qHKdUNzg tbfxbO1Q5AylYXoLjRJpVHrd//iZL9YEuKKnPTnEI7N7wgqfHde7KiEXSBOCzbNOfbq+ yRKQ== X-Gm-Message-State: AOJu0YxgFSRHmjPA306LfyDhUUf+31ujlsqcjLBRgkNOz9HNO2i+eFSC Q3OFVOXL4nKLZSWs3WRq3UodXHBJ70kUOEGGiyoQ+cjpe1FMaEWd87B3d4XM403RMtzpzOeP+Oi MlCtCAfSwM8Kic8mFMylYrBI2dGCf38y9Wo4AiANs X-Gm-Gg: ASbGnctPotR47gPD9tWXiMW+dWzW3jxwc7ShOFVbslhTUoE42/nNZ2knciH3Fs0L/nC JSi8K/RCiwoA2+88h1sGL1rYBR0myhFs4ybHiJ3XgIMU/QAcyT2BIu5w8YS2D7eK/xKF8prwgih dSeZZ/ocPu5Vw3//giSwnc5BSui/AeXtl2PJhGgTzd0AwqB05A9pOckcjYb2Tlmc+h+c8HXRe7C y21hq2x824erNnCaJmCC88eYFR/6t6WXTEAFW3pTZDqdRdoFw6z4RNM9mrDNiBzpG7qMp78svrc 90jrZjJ5qTQKhnUmTLelFy3iBNHRDQ== X-Google-Smtp-Source: AGHT+IFxZDFNDO2gFKqx7NmZHmL7qkM2DRVKKmB8k3AVbJGF7SLEHuDhWM3RCxSMHVna64skGXHB9BJOlHuw X-Received: by 2002:a05:6902:240e:b0:e5b:2e2f:e4e6 with SMTP id 3f1490d57ef6-e5b461c2fe2mr7430870276.29.1739061546120; Sat, 08 Feb 2025 16:39:06 -0800 (PST) Received: from postal.iol.unh.edu (postal.iol.unh.edu. [132.177.123.84]) by smtp-relay.gmail.com with ESMTPS id 3f1490d57ef6-e5b3a433c2bsm374776276.22.2025.02.08.16.39.06 (version=TLS1_2 cipher=ECDHE-ECDSA-AES128-GCM-SHA256 bits=128/128); Sat, 08 Feb 2025 16:39:06 -0800 (PST) X-Relaying-Domain: iol.unh.edu Date: Sat, 08 Feb 2025 16:39:06 -0800 (PST) Message-ID: <67a7f92a.250a0220.237e0.3c9fSMTPIN_ADDED_MISSING@mx.google.com> Received: from [172.17.0.3] (unknown [172.18.0.217]) by postal.iol.unh.edu (Postfix) with ESMTP id B06756052471; Sat, 8 Feb 2025 19:38:35 -0500 (EST) Subject: |SUCCESS| [GIT MASTER] e5ece9ae686535f29ae72c03fec26dc16ff7a925 From: dpdklab@iol.unh.edu To: Test Report Cc: dpdk-test-reports@iol.unh.edu, Stephen Hemminger Content-Type: text/plain X-BeenThere: test-report@dpdk.org X-Mailman-Version: 2.1.29 Precedence: list List-Id: automatic DPDK test reports List-Unsubscribe: , List-Archive: List-Post: List-Help: List-Subscribe: , Errors-To: test-report-bounces@dpdk.org _Testing PASS_ Branch: dpdk-next-net e5ece9ae686535f29ae72c03fec26dc16ff7a925 --> testing pass Upstream job id: ACVP-FIPS-testing#8826 Test environment and result as below: +--------------------+----------------------+----------------------+ | Environment | compressdev_zlib_pmd | dpdk_fips_validation | +====================+======================+======================+ | Ubuntu 22.04 (ARM) | PASS | SKIPPED | +--------------------+----------------------+----------------------+ | Ubuntu 22.04 | PASS | SKIPPED | +--------------------+----------------------+----------------------+ | Ubuntu 20.04 | SKIPPED | PASS | +--------------------+----------------------+----------------------+ Ubuntu 22.04 (ARM) Kernel: 5.15.0-97-generic Compiler: gcc gcc (Ubuntu 11.4.0-1ubuntu1~22.04) 11.4.0 Ubuntu 22.04 Kernel: 5.15.0-100-generic Compiler: gcc gcc (Ubuntu 11.4.0-1ubuntu1~22.04) 11.4.0 Ubuntu 20.04 Kernel: Depends on container host Compiler: gcc (Ubuntu 9.4.0-1ubuntu1~20.04.2) 9.4.0 To view detailed results, visit: https://lab.dpdk.org/results/dashboard/tarballs/32486/ UNH-IOL DPDK Community Lab To manage your email subscriptions, visit: https://lab.dpdk.org/results/dashboard/preferences/subscriptions/