From mboxrd@z Thu Jan 1 00:00:00 1970 Return-Path: Received: from mails.dpdk.org (mails.dpdk.org [217.70.189.124]) by inbox.dpdk.org (Postfix) with ESMTP id 760BB461CE for ; Sun, 9 Feb 2025 02:08:45 +0100 (CET) Received: from mails.dpdk.org (localhost [127.0.0.1]) by mails.dpdk.org (Postfix) with ESMTP id 40C51402A4; Sun, 9 Feb 2025 02:08:45 +0100 (CET) Received: from mail-io1-f99.google.com (mail-io1-f99.google.com [209.85.166.99]) by mails.dpdk.org (Postfix) with ESMTP id 6E5024028B for ; Sun, 9 Feb 2025 02:08:44 +0100 (CET) Received: by mail-io1-f99.google.com with SMTP id ca18e2360f4ac-844eb33827eso105282839f.2 for ; Sat, 08 Feb 2025 17:08:44 -0800 (PST) DKIM-Signature: v=1; a=rsa-sha256; c=relaxed/relaxed; d=iol.unh.edu; s=unh-iol; t=1739063323; x=1739668123; darn=dpdk.org; h=references:in-reply-to:cc:to:from:subject:message-id:date:from:to :cc:subject:date:message-id:reply-to; bh=WghVCeoNJ10DYrP72q86EOHo7K0M41F3QmBLUtVhZ4Q=; b=OvbJ5WdYMjBSxV7XLapZXrBB652um0d3NkRghdnnvJJd3NnOsI/kJgVvSJfAxqCmer eWNM71nFREnyIQyGl6WAzuVggcZ7r0/QH4lzBBy0kKgnVDGcBIZdDnm0vysrT/aQtp5w sc4QDxN78Keir3WuIHWzvBqwPF5cRtyrwWGZs= X-Google-DKIM-Signature: v=1; a=rsa-sha256; c=relaxed/relaxed; d=1e100.net; s=20230601; t=1739063323; x=1739668123; h=references:in-reply-to:cc:to:from:subject:message-id:date :x-gm-message-state:from:to:cc:subject:date:message-id:reply-to; bh=WghVCeoNJ10DYrP72q86EOHo7K0M41F3QmBLUtVhZ4Q=; b=X8xK96HQ3gj0XPH8WI0AGh3Pv4hF+6Q+ER2mArecQufQ/PLov+Yf1nrsIaXy+yjsDT aVGy7+1J04QxFrdsqS2aTcaE2AA0Gsq/Pcu8m7rvduyg0xxC9l6DSxKX37WZvMF1gTJ6 Jwr/xdmPxu3JUb9vLl5PZV36CNAxOdgZN/GeJyuFIDu4Hn5Nd8YcKByGf4eF/d2B7alb 9m6Wa104dxrCYkwKKk90ROZztd0xBmBI3cWBeTP/ulFftA60yr1N97teKb0iuFwkurde kU6O8T4l96p+6DahCFmFi+prA8xx/+vxfQh5eMMH1fUWbuZmWzg8OHPMYMeJcwSVxvo3 tZFQ== X-Gm-Message-State: AOJu0Yyqqgs8XCyzFXJ74urC1tGLeADsb5HX8o9JgGk4wDalW7+h2n/o CUJ6SKSVTCb8HwrSbxmdtK5g0DleOHLNlJCPpESlKpTz8olUSzY7jI4OMDMzsBRys0r2siZbDyu PEh0OXxIkbWQa22ko17Hkj3V1JKPTJuzA677P4Rzb X-Gm-Gg: ASbGncvfil0DeAjm0xEiE944HK126Gu1l6vzQ7MFi+Ofio30uD6pTeECWCaA1K6kEwp AYJ1As9jYDb/wNdQTWfJ+DDGILNZVbt9L1b2dxHWgN/dXl8gvBfLzt0LMQ1ouOQy0+DoV3/U009 IDSAr77hIamJJSzDIXF3O7ae9K3i5SRmkUC6j0yxAwWSIUQ+cwZjPnPmsdCyyvHtpVAAWdQJLHE n1LtxgFQbtHF5J5jOxsTBBGucUnAaU9XxRtPK56C99G8MyggSszGCRXB0gFyt/C5hcfqJ1wvrNk qPM2CWfkPmuanVEzfo8MO/m70m3pmQ== X-Google-Smtp-Source: AGHT+IGhwh/rRSD3WbSqpHs5rgkk+A9WxkSr38gijWza7n9ICn3GHJEfL/qMdbs9gjGzSthkikCl8aLGNOo6 X-Received: by 2002:a05:6602:3e95:b0:844:c9b1:f08f with SMTP id ca18e2360f4ac-854fd8854f3mr841657339f.3.1739063323605; Sat, 08 Feb 2025 17:08:43 -0800 (PST) Received: from postal.iol.unh.edu (postal.iol.unh.edu. [132.177.123.84]) by smtp-relay.gmail.com with ESMTPS id 8926c6da1cb9f-4ece5899077sm145872173.68.2025.02.08.17.08.43 (version=TLS1_2 cipher=ECDHE-ECDSA-AES128-GCM-SHA256 bits=128/128); Sat, 08 Feb 2025 17:08:43 -0800 (PST) X-Relaying-Domain: iol.unh.edu Date: Sat, 08 Feb 2025 17:08:43 -0800 (PST) Message-ID: <67a8001b.050a0220.ef325.6fa6SMTPIN_ADDED_MISSING@mx.google.com> Received: from [172.17.0.3] (unknown [172.18.0.217]) by postal.iol.unh.edu (Postfix) with ESMTP id 1AD4D6052471; Sat, 8 Feb 2025 20:08:43 -0500 (EST) Subject: |SUCCESS| pw151079-151088 [PATCH] [RFC,10/10] eal: deprecate weak sy From: dpdklab@iol.unh.edu To: Test Report Cc: dpdk-test-reports@iol.unh.edu In-Reply-To: <20250207083252.3131588-11-david.marchand@redhat.com> References: <20250207083252.3131588-11-david.marchand@redhat.com> Content-Type: text/plain X-BeenThere: test-report@dpdk.org X-Mailman-Version: 2.1.29 Precedence: list List-Id: automatic DPDK test reports List-Unsubscribe: , List-Archive: List-Post: List-Help: List-Subscribe: , Errors-To: test-report-bounces@dpdk.org Test-Label: iol-sample-apps-testing Test-Status: SUCCESS http://dpdk.org/patch/151088 _Testing PASS_ Submitter: David Marchand Date: Friday, February 07 2025 08:32:50 DPDK git baseline: Repo:dpdk Branch: master CommitID:1bf86800f7daf8d5c71a08a0776ff3b754ee6570 151079-151088 --> testing pass Upstream job id: ACVP-FIPS-testing#8827 Test environment and result as below: +--------------------+----------------------+----------------------+ | Environment | compressdev_zlib_pmd | dpdk_fips_validation | +====================+======================+======================+ | Ubuntu 22.04 (ARM) | PASS | SKIPPED | +--------------------+----------------------+----------------------+ | Ubuntu 22.04 | PASS | SKIPPED | +--------------------+----------------------+----------------------+ | Ubuntu 20.04 | SKIPPED | PASS | +--------------------+----------------------+----------------------+ Ubuntu 22.04 (ARM) Kernel: 5.15.0-97-generic Compiler: gcc gcc (Ubuntu 11.4.0-1ubuntu1~22.04) 11.4.0 Ubuntu 22.04 Kernel: 5.15.0-100-generic Compiler: gcc gcc (Ubuntu 11.4.0-1ubuntu1~22.04) 11.4.0 Ubuntu 20.04 Kernel: Depends on container host Compiler: gcc (Ubuntu 9.4.0-1ubuntu1~20.04.2) 9.4.0 To view detailed results, visit: https://lab.dpdk.org/results/dashboard/patchsets/32520/ UNH-IOL DPDK Community Lab To manage your email subscriptions, visit: https://lab.dpdk.org/results/dashboard/preferences/subscriptions/