From mboxrd@z Thu Jan 1 00:00:00 1970 Return-Path: Received: from mails.dpdk.org (mails.dpdk.org [217.70.189.124]) by inbox.dpdk.org (Postfix) with ESMTP id 8CE49461CE for ; Sun, 9 Feb 2025 02:43:32 +0100 (CET) Received: from mails.dpdk.org (localhost [127.0.0.1]) by mails.dpdk.org (Postfix) with ESMTP id 5CCB7402A4; Sun, 9 Feb 2025 02:43:32 +0100 (CET) Received: from mail-yb1-f225.google.com (mail-yb1-f225.google.com [209.85.219.225]) by mails.dpdk.org (Postfix) with ESMTP id 56FB04028B for ; Sun, 9 Feb 2025 02:43:31 +0100 (CET) Received: by mail-yb1-f225.google.com with SMTP id 3f1490d57ef6-e4419a47887so2552749276.0 for ; Sat, 08 Feb 2025 17:43:31 -0800 (PST) DKIM-Signature: v=1; a=rsa-sha256; c=relaxed/relaxed; d=iol.unh.edu; s=unh-iol; t=1739065410; x=1739670210; darn=dpdk.org; h=references:in-reply-to:cc:to:from:subject:message-id:date:from:to :cc:subject:date:message-id:reply-to; bh=+6GL13tKH2Y+r1sAEXzHVNdvshHZ8VyRjr+PEMUznP0=; b=UN/nRUYa3QgZVcs918albpWvvckPHyaGGV/GUM2cxxCaP4RSpH5rxfJXEhjSrsdKzC mEPABj6MA19ConT7lSQ8kMmGxu0mG17yEIOKsGJnr//g8HYvcBCfvr03P3mbvB1AcJ1G KZ9HT4GFya8R5WNKfaVTuUK8E2zENMPJrJ/ik= X-Google-DKIM-Signature: v=1; a=rsa-sha256; c=relaxed/relaxed; d=1e100.net; s=20230601; t=1739065410; x=1739670210; h=references:in-reply-to:cc:to:from:subject:message-id:date :x-gm-message-state:from:to:cc:subject:date:message-id:reply-to; bh=+6GL13tKH2Y+r1sAEXzHVNdvshHZ8VyRjr+PEMUznP0=; b=QyVUYmjtiwe23YLlPnzRFMN8DArLZQHXA0l+DbUDSL+sG50x2NwskFrDACzymQrne+ +aHwhPU7XcGtdocTc4Xc+yMOTJ7NSYyOktKKXUM4YEJhzXfB5CTrfp5KgtocF2eGJprF ZGhDrk1hacElQKDdySX4E6eaKev0KsK/EVJpdkvxkqsq83Kv9ijnda+JVQDlcioJY7Q8 nrfpZ777kXAFt7SmJ0kauaDpihWSzSg9htm5NEcXTmRBSqyvLuw/ABGtLASV49UU7gCD CQlK0Rz0SDLfmOlBX5RwTQMk7d+zKQVU8Z8z4GKR+TwNnfqb1Y6z4UxFTD8TLioHBUed jtyg== X-Gm-Message-State: AOJu0Yw7PQ56TYhDf95qfPbuIyc9XhPpBqcM+xDZJLpHEcoORcXkuZNT L8900tGR9e3AaXRfTtzSvHnZOFrkboP9Pjm9rFFIj/nt/3gkTZ5iXOwM1c1V1ROhhjRpm28J59i 62ldqOj1dJuRHh2NScemdEbXhsHD9yzAbykob3gG6 X-Gm-Gg: ASbGncumqVNTSNWWeSU4BIHmBPDhijptCjWLwKcf2Or/fV5nVhzoeLwDAUEYRR/C+/w QWmFmN3CLZqcq1aA89u06cWivxYwpN4DfMWjh1FZ5UI+1I1AbkH9WKf+03s13nPCIOH3c5k60JP L6rCjabpDLn6Bhsue6IX6FAysNOd6k3HOltKUAJC/epMPTtrtkd75LCzk7Q9eaQHOz8v6AjXSp7 /TuXwb97nypY0/pbej/VPAj661RLLImXSABddMuI9mfmM6h+oPLAJrK7iJCQN7Ld7yzEayatpqV FazzIcXZc1axtFZtLVKzLce8PpEU4g== X-Google-Smtp-Source: AGHT+IH2VWdOReo/7tfI/8BQ84Xgp0bRjl+0Q3jviFO5bdgTeRhA5PyGsu2C4rnHO/l0HS8SUV074m7IvSEC X-Received: by 2002:a05:6902:27c8:b0:e58:7aa:7de4 with SMTP id 3f1490d57ef6-e5b462c2b38mr7150578276.45.1739065410675; Sat, 08 Feb 2025 17:43:30 -0800 (PST) Received: from postal.iol.unh.edu (postal.iol.unh.edu. [132.177.123.84]) by smtp-relay.gmail.com with ESMTPS id 3f1490d57ef6-e5b3a1f37d9sm163040276.5.2025.02.08.17.43.30 (version=TLS1_2 cipher=ECDHE-ECDSA-AES128-GCM-SHA256 bits=128/128); Sat, 08 Feb 2025 17:43:30 -0800 (PST) X-Relaying-Domain: iol.unh.edu Date: Sat, 08 Feb 2025 17:43:30 -0800 (PST) Message-ID: <67a80842.250a0220.86ead.75c0SMTPIN_ADDED_MISSING@mx.google.com> Received: from [172.17.0.3] (unknown [172.18.0.217]) by postal.iol.unh.edu (Postfix) with ESMTP id E9A076052471; Sat, 8 Feb 2025 20:42:59 -0500 (EST) Subject: |SUCCESS| pw151089 [PATCH] common/qat: fix incorrect size in the par From: dpdklab@iol.unh.edu To: Test Report Cc: dpdk-test-reports@iol.unh.edu In-Reply-To: <20250207095832.4032332-1-arkadiuszx.kusztal@intel.com> References: <20250207095832.4032332-1-arkadiuszx.kusztal@intel.com> Content-Type: text/plain X-BeenThere: test-report@dpdk.org X-Mailman-Version: 2.1.29 Precedence: list List-Id: automatic DPDK test reports List-Unsubscribe: , List-Archive: List-Post: List-Help: List-Subscribe: , Errors-To: test-report-bounces@dpdk.org Test-Label: iol-sample-apps-testing Test-Status: SUCCESS http://dpdk.org/patch/151089 _Testing PASS_ Submitter: Arkadiusz Kusztal Date: Friday, February 07 2025 09:58:32 DPDK git baseline: Repo:dpdk Branch: master CommitID:7125636162d67b1c40ba6802a3ff4466d125d243 151089 --> testing pass Upstream job id: ACVP-FIPS-testing#8828 Test environment and result as below: +--------------------+----------------------+----------------------+ | Environment | compressdev_zlib_pmd | dpdk_fips_validation | +====================+======================+======================+ | Ubuntu 22.04 (ARM) | PASS | SKIPPED | +--------------------+----------------------+----------------------+ | Ubuntu 22.04 | PASS | SKIPPED | +--------------------+----------------------+----------------------+ | Ubuntu 20.04 | SKIPPED | PASS | +--------------------+----------------------+----------------------+ Ubuntu 22.04 (ARM) Kernel: 5.15.0-97-generic Compiler: gcc gcc (Ubuntu 11.4.0-1ubuntu1~22.04) 11.4.0 Ubuntu 22.04 Kernel: 5.15.0-100-generic Compiler: gcc gcc (Ubuntu 11.4.0-1ubuntu1~22.04) 11.4.0 Ubuntu 20.04 Kernel: Depends on container host Compiler: gcc (Ubuntu 9.4.0-1ubuntu1~20.04.2) 9.4.0 To view detailed results, visit: https://lab.dpdk.org/results/dashboard/patchsets/32521/ UNH-IOL DPDK Community Lab To manage your email subscriptions, visit: https://lab.dpdk.org/results/dashboard/preferences/subscriptions/