From mboxrd@z Thu Jan 1 00:00:00 1970 Return-Path: Received: from mails.dpdk.org (mails.dpdk.org [217.70.189.124]) by inbox.dpdk.org (Postfix) with ESMTP id B451B461CE for ; Sun, 9 Feb 2025 03:07:48 +0100 (CET) Received: from mails.dpdk.org (localhost [127.0.0.1]) by mails.dpdk.org (Postfix) with ESMTP id 7D2F6402A4; Sun, 9 Feb 2025 03:07:48 +0100 (CET) Received: from mail-io1-f98.google.com (mail-io1-f98.google.com [209.85.166.98]) by mails.dpdk.org (Postfix) with ESMTP id 037774028B for ; Sun, 9 Feb 2025 03:07:46 +0100 (CET) Received: by mail-io1-f98.google.com with SMTP id ca18e2360f4ac-844eb33827eso106126739f.2 for ; Sat, 08 Feb 2025 18:07:46 -0800 (PST) DKIM-Signature: v=1; a=rsa-sha256; c=relaxed/relaxed; d=iol.unh.edu; s=unh-iol; t=1739066866; x=1739671666; darn=dpdk.org; h=references:in-reply-to:cc:to:from:subject:message-id:date:from:to :cc:subject:date:message-id:reply-to; bh=nLzcQxrhAeRPrp9CEaZv6EuCjV+362cGzipDX0ELrpY=; b=QQwuMxFFEFNQYN/QBh5AnQD42IOD/nQr3Nn3CcBnK00f7u5iluAKpJi3oMmcC9S7bJ b/otOUg1a3MEnZ5adzImK6wdFQtMIOnA29sxS3uXC7iIpoTSJrGPR/islC+g+E0exYt4 Qg/eau4q5tiJCA39gCjACdsQDlj7IRFoQSF3w= X-Google-DKIM-Signature: v=1; a=rsa-sha256; c=relaxed/relaxed; d=1e100.net; s=20230601; t=1739066866; x=1739671666; h=references:in-reply-to:cc:to:from:subject:message-id:date :x-gm-message-state:from:to:cc:subject:date:message-id:reply-to; bh=nLzcQxrhAeRPrp9CEaZv6EuCjV+362cGzipDX0ELrpY=; b=QKeS67t6qGK5RVSiiKQdNm/eJpLd2obQy7qk5fo5hUf9YEuiSSBIn7PfZcVq2IeG3K CLtdLDBb22Lj+DjvfcOpy6RxfNNGShzP5ExZ1hlR3P/yaj5LYBwX0LZ+z3gbL453J4iv lJYuYaezQ7WdbCdnK1Hc36c4okz6qP3XWBs5VdGTVkPqR7n8lz+tUalW2qWygRgyjnLL nas5Sd9Fk8MrzOGR4CpKBAXAdPt8uqBh5QD/CQ2m9yUj0TVhpENKFoyvqcm/mxtQ+QV+ L/XDJLwnflh53MzsgnA/LQ4nxS5uGzS0M1mmmuHN7NkjEbI/uBdR3I5A4vaHLefvXbrt 30UQ== X-Gm-Message-State: AOJu0YyTqh2Av+cw42QwxjHelJ9OeKqk1f7KY76dlH/7m3pRPg6zkNuc BYjoLflmuC1CGXGnHUgvf9RzNPaOz2nUAUjMDTKU9bj7KxC5U8CYfrVjT5kUGRm4m9zt6I4JEpM iGy8zsIjDl8GCX8SkRNPiEF57crkWUwhbvgCX8tK7 X-Gm-Gg: ASbGncvNL6P2NEJNezu8MTcXPx0A0MC6lTN6LhRXVPhMvnT7MHPqyTNjgq1HPKAztI6 osT3I6wojtrqafmmgPCaBVV2Fw6KKqcw9v0/u2PDg/EgjpldNTxlkricgdoezDygVL9pkz7v0RO W3Uj26uLbwWPz7K8SeCjrNYQ849+OXI/GtXFkwqj/gamC02leismLKbhv4HLwVYnm6Z/MeHymdk 6sJ9kuaVrjAeysXp3EVGochGshoskJKcDrGfcdvXArYLKFGkWvBN24laeNpeLJQeo4EfNy++zNx 8LVAUWp4M5rQgZGB7460OLMo/6Yebw== X-Google-Smtp-Source: AGHT+IHhaJxtqxi0w5JwCHj/EOqrLc6kXE493Epgd0nSmzrCrXTyRqA83iINb3cOoCaHJkWfCsIAlYQu8pr0 X-Received: by 2002:a05:6e02:1a23:b0:3cf:cd3c:bdfd with SMTP id e9e14a558f8ab-3d13dd3f2c2mr72491065ab.12.1739066866154; Sat, 08 Feb 2025 18:07:46 -0800 (PST) Received: from postal.iol.unh.edu (postal.iol.unh.edu. [132.177.123.84]) by smtp-relay.gmail.com with ESMTPS id e9e14a558f8ab-3d157e0a0d2sm703095ab.48.2025.02.08.18.07.46 (version=TLS1_2 cipher=ECDHE-ECDSA-AES128-GCM-SHA256 bits=128/128); Sat, 08 Feb 2025 18:07:46 -0800 (PST) X-Relaying-Domain: iol.unh.edu Date: Sat, 08 Feb 2025 18:07:46 -0800 (PST) Message-ID: <67a80df2.920a0220.a7d05.3b37SMTPIN_ADDED_MISSING@mx.google.com> Received: from [172.17.0.3] (unknown [172.18.0.217]) by postal.iol.unh.edu (Postfix) with ESMTP id 9C1FA6052471; Sat, 8 Feb 2025 21:07:15 -0500 (EST) Subject: |SUCCESS| pw151184-151215 [PATCH] [32/32] test/cryptodev: replace me From: dpdklab@iol.unh.edu To: Test Report Cc: dpdk-test-reports@iol.unh.edu In-Reply-To: <20250208203142.242284-33-stephen@networkplumber.org> References: <20250208203142.242284-33-stephen@networkplumber.org> Content-Type: text/plain X-BeenThere: test-report@dpdk.org X-Mailman-Version: 2.1.29 Precedence: list List-Id: automatic DPDK test reports List-Unsubscribe: , List-Archive: List-Post: List-Help: List-Subscribe: , Errors-To: test-report-bounces@dpdk.org Test-Label: iol-compile-arm64-testing Test-Status: SUCCESS http://dpdk.org/patch/151215 _Testing PASS_ Submitter: Stephen Hemminger Date: Saturday, February 08 2025 20:22:24 DPDK git baseline: Repo:dpdk Branch: master CommitID:3553897d84d8b54a1b1136cbf04dd7f1a40fd85b 151184-151215 --> testing pass Upstream job id: Generic-DPDK-Compile-Meson#359716 Test environment and result as below: +----------------------------------------+--------------------+ | Environment | dpdk_meson_compile | +========================================+====================+ | RHEL9 (ARM) | PASS | +----------------------------------------+--------------------+ | Ubuntu 20.04 ARM GCC Cross Compile | PASS | +----------------------------------------+--------------------+ | Ubuntu 20.04 ARM SVE | PASS | +----------------------------------------+--------------------+ | Fedora 40 (ARM Clang) | PASS | +----------------------------------------+--------------------+ | Fedora 40 (ARM) | PASS | +----------------------------------------+--------------------+ | Fedora 41 (ARM Clang) | PASS | +----------------------------------------+--------------------+ | Ubuntu 20.04 (ARM) | PASS | +----------------------------------------+--------------------+ | Fedora 41 (ARM) | PASS | +----------------------------------------+--------------------+ | Ubuntu 22.04 (ARM) | PASS | +----------------------------------------+--------------------+ | Ubuntu 24.04 (ARM) | PASS | +----------------------------------------+--------------------+ | CentOS Stream 9 (ARM) | PASS | +----------------------------------------+--------------------+ | Ubuntu 20.04 aarch32 GCC Cross Compile | PASS | +----------------------------------------+--------------------+ | Debian 12 (arm) | PASS | +----------------------------------------+--------------------+ | Debian 11 (Buster) (ARM) | PASS | +----------------------------------------+--------------------+ | Ubuntu 20.04 ARM Clang Cross Compile | PASS | +----------------------------------------+--------------------+ | Debian 12 with MUSDK | PASS | +----------------------------------------+--------------------+ RHEL9 (ARM) Kernel: Depends on container host Compiler: gcc 11.5.0 20240719 (Red Hat 11.5.0-2) Ubuntu 20.04 ARM GCC Cross Compile Kernel: Depends on container host Compiler: aarch64-linux-gnu-gcc (Ubuntu 9.4.0-1ubuntu1~20.04.2) 9.4.0 Ubuntu 20.04 ARM SVE Kernel: Depends on container host Compiler: gcc (Ubuntu 10.5.0-1ubuntu1~20.04) 10.5.0 Fedora 40 (ARM Clang) Kernel: Depends on container host Compiler: clang 18.1.8 (Fedora 18.1.8-1.fc40) Fedora 40 (ARM) Kernel: Depends on container host Compiler: gcc 14.2.1 20240912 (Red Hat 14.2.1-3) Fedora 41 (ARM Clang) Kernel: Depends on container host Compiler: clang 19.1.5 (Fedora 19.1.5-1.fc41) Ubuntu 20.04 (ARM) Kernel: Depends on container host Compiler: gcc (Ubuntu 9.4.0-1ubuntu1~20.04.2) 9.4.0 Fedora 41 (ARM) Kernel: Depends on container host Compiler: gcc 14.2.1 20240912 (Red Hat 14.2.1-3) Ubuntu 22.04 (ARM) Kernel: Depends on container host Compiler: gcc (Ubuntu 11.4.0-1ubuntu1~22.04) 11.4.0 Ubuntu 24.04 (ARM) Kernel: Depends on container host Compiler: gcc (Ubuntu 13.3.0-6ubuntu2~24.04) 13.3.0 CentOS Stream 9 (ARM) Kernel: Depends on container host Compiler: gcc 11.5.0 20240719 (Red Hat 11.5.0-2) Ubuntu 20.04 aarch32 GCC Cross Compile Kernel: Depends on container host Compiler: gcc 9.4.0 Debian 12 (arm) Kernel: Depends on container host Compiler: gcc (Debian 12.2.0-14) 12.2.0 Debian 11 (Buster) (ARM) Kernel: Depends on container host Compiler: gcc (Debian 10.2.1-6) 10.2.1 20210110 Ubuntu 20.04 ARM Clang Cross Compile Kernel: Depends on container host Compiler: clang 10.0.0-4ubuntu1 Debian 12 with MUSDK Kernel: Depends on container host Compiler: gcc (Debian 12.2.0-14) 12.2.0 To view detailed results, visit: https://lab.dpdk.org/results/dashboard/patchsets/32537/ UNH-IOL DPDK Community Lab To manage your email subscriptions, visit: https://lab.dpdk.org/results/dashboard/preferences/subscriptions/