From mboxrd@z Thu Jan 1 00:00:00 1970 Return-Path: Received: from mails.dpdk.org (mails.dpdk.org [217.70.189.124]) by inbox.dpdk.org (Postfix) with ESMTP id 1D804461CE for ; Sun, 9 Feb 2025 03:20:59 +0100 (CET) Received: from mails.dpdk.org (localhost [127.0.0.1]) by mails.dpdk.org (Postfix) with ESMTP id 0E00B402A4; Sun, 9 Feb 2025 03:20:59 +0100 (CET) Received: from mail-pj1-f100.google.com (mail-pj1-f100.google.com [209.85.216.100]) by mails.dpdk.org (Postfix) with ESMTP id DF1F64028B for ; Sun, 9 Feb 2025 03:20:57 +0100 (CET) Received: by mail-pj1-f100.google.com with SMTP id 98e67ed59e1d1-2fa1d9fb990so4564517a91.2 for ; Sat, 08 Feb 2025 18:20:57 -0800 (PST) DKIM-Signature: v=1; a=rsa-sha256; c=relaxed/relaxed; d=iol.unh.edu; s=unh-iol; t=1739067657; x=1739672457; darn=dpdk.org; h=cc:to:from:subject:message-id:date:from:to:cc:subject:date :message-id:reply-to; bh=jtRnjx8lzT5yyD7mRHZk5gF6EpIgBRA02sjNdXg7EAY=; b=ffNMbwJz80DpMSdNtEUpGiSn8Xvlg0zUv8JCq2GjdMto09DdYq7Y+qnyhJPCAnPVHC 3r6zwFYEJHSpE5K/rOorG52g1sii8M1M6Yon1gCTGYkIiFMCjDr/0DKS0auGW+RCCxhy yGnOXvpE4e/7MLVtvinB209A0qN677vjyQOZs= X-Google-DKIM-Signature: v=1; a=rsa-sha256; c=relaxed/relaxed; d=1e100.net; s=20230601; t=1739067657; x=1739672457; h=cc:to:from:subject:message-id:date:x-gm-message-state:from:to:cc :subject:date:message-id:reply-to; bh=jtRnjx8lzT5yyD7mRHZk5gF6EpIgBRA02sjNdXg7EAY=; b=J4MIQpyPV74lxJ4syVQyQfhTpuPcIiICize6PEJzPwKeT0lsXJvhMEKaVPDuThwZkM hSCTDnyWf9QvcQy80o3IzokvWv/J/EInxCWHMXQfOGVFdU3RwhFScRgrnBotQNf1Fyno dxWZq+NAk8QVroJuvwnTHiXhrVc/BzPrLzBNkRF8DfS3zi/sXUggM2OvJ9RjUFTZwcH4 qYysnvTVCG/d687CAjbcRvxOC11OnoKLHaotYv38ZD7v2orCcKzWli9FFA4VuZcqyBoY +fYH2erlULDyVAla681ylYGKv4Sm3fzN1OsfYCUeQ1XI+iktWWw2CKQspV18wQNhQLw9 FNEA== X-Gm-Message-State: AOJu0YygOUpiBKFfxF/kcaX7P6hZukgAPrFNXXT6Nkw90KEX0f/lC3YI hK6CIqt7YhaTiiJnD7/X5YyZRJMIgaXfNlqxtMGgZxZR6XaxqeT9Rk01Jm8uiNIwV1hg1l0XVYx AjXAJEh8Vpc8rXSHSDeJmWYyDeie2SbuwJE2BBmnY X-Gm-Gg: ASbGncs5rfbqfOjmGv8zDCVSHPZdurWbTo/KmrHfkjVFGa1FqDBIQ4tvqxKiu/i3mBl Vj9ocFSZ793kUbXoTykF4SoaGjk523NMVWAKcJ9A9sQjUnBD0OgLyR6KP+jdX+sdQ16mX5y5/Fw 74xKX6qJjuAKey+4NcGq/MLnsAzF/P6M5DUYNBnfUMrcLrAA90cRcen6kiu5mSgUS2oPAbMLXxo OJGhVjGGp1cCAoi6H4NfmDIH39AB17ECb5d7ytonyFSL8IKoo4PjPc41MmiGNwEu8Re4QuYIKv0 eoD1f2Q8gvkdYB6dXjLpxn6qSo4Xgg== X-Google-Smtp-Source: AGHT+IG/9LI1Den3KTVM8MKrijFTYLuiDaEUsZFVPp7u00rJV+aO6Lcj05+Wi7jVUI05PizSBHVm6ZdxZ2J5 X-Received: by 2002:a17:90b:5544:b0:2f9:c56b:6ec8 with SMTP id 98e67ed59e1d1-2fa24069385mr14365290a91.10.1739067656847; Sat, 08 Feb 2025 18:20:56 -0800 (PST) Received: from postal.iol.unh.edu (postal.iol.unh.edu. [132.177.123.84]) by smtp-relay.gmail.com with ESMTPS id 98e67ed59e1d1-2fa4b46b495sm151216a91.2.2025.02.08.18.20.56 (version=TLS1_2 cipher=ECDHE-ECDSA-AES128-GCM-SHA256 bits=128/128); Sat, 08 Feb 2025 18:20:56 -0800 (PST) X-Relaying-Domain: iol.unh.edu Date: Sat, 08 Feb 2025 18:20:56 -0800 (PST) Message-ID: <67a81108.170a0220.93cd4.7214SMTPIN_ADDED_MISSING@mx.google.com> Received: from [172.17.0.3] (unknown [172.18.0.217]) by postal.iol.unh.edu (Postfix) with ESMTP id EE7D86052471; Sat, 8 Feb 2025 21:20:55 -0500 (EST) Subject: |SUCCESS| [GIT MASTER] e145d919d60b440c649abe6fd0d55c42357330f1 From: dpdklab@iol.unh.edu To: Test Report Cc: dpdk-test-reports@iol.unh.edu, Bruce Richardson Content-Type: text/plain X-BeenThere: test-report@dpdk.org X-Mailman-Version: 2.1.29 Precedence: list List-Id: automatic DPDK test reports List-Unsubscribe: , List-Archive: List-Post: List-Help: List-Subscribe: , Errors-To: test-report-bounces@dpdk.org _Testing PASS_ Branch: dpdk-next-net-intel e145d919d60b440c649abe6fd0d55c42357330f1 --> testing pass Upstream job id: ACVP-FIPS-testing#8829 Test environment and result as below: +--------------------+----------------------+----------------------+ | Environment | compressdev_zlib_pmd | dpdk_fips_validation | +====================+======================+======================+ | Ubuntu 22.04 (ARM) | PASS | SKIPPED | +--------------------+----------------------+----------------------+ | Ubuntu 22.04 | PASS | SKIPPED | +--------------------+----------------------+----------------------+ | Ubuntu 20.04 | SKIPPED | PASS | +--------------------+----------------------+----------------------+ Ubuntu 22.04 (ARM) Kernel: 5.15.0-97-generic Compiler: gcc gcc (Ubuntu 11.4.0-1ubuntu1~22.04) 11.4.0 Ubuntu 22.04 Kernel: 5.15.0-100-generic Compiler: gcc gcc (Ubuntu 11.4.0-1ubuntu1~22.04) 11.4.0 Ubuntu 20.04 Kernel: Depends on container host Compiler: gcc (Ubuntu 9.4.0-1ubuntu1~20.04.2) 9.4.0 To view detailed results, visit: https://lab.dpdk.org/results/dashboard/tarballs/32489/ UNH-IOL DPDK Community Lab To manage your email subscriptions, visit: https://lab.dpdk.org/results/dashboard/preferences/subscriptions/