From mboxrd@z Thu Jan 1 00:00:00 1970 Return-Path: Received: from mails.dpdk.org (mails.dpdk.org [217.70.189.124]) by inbox.dpdk.org (Postfix) with ESMTP id 3974E461CE for ; Sun, 9 Feb 2025 03:53:58 +0100 (CET) Received: from mails.dpdk.org (localhost [127.0.0.1]) by mails.dpdk.org (Postfix) with ESMTP id 1922D402A4; Sun, 9 Feb 2025 03:53:58 +0100 (CET) Received: from mail-qv1-f99.google.com (mail-qv1-f99.google.com [209.85.219.99]) by mails.dpdk.org (Postfix) with ESMTP id 245B34028B for ; Sun, 9 Feb 2025 03:53:57 +0100 (CET) Received: by mail-qv1-f99.google.com with SMTP id 6a1803df08f44-6e442b79de4so25150166d6.2 for ; Sat, 08 Feb 2025 18:53:57 -0800 (PST) DKIM-Signature: v=1; a=rsa-sha256; c=relaxed/relaxed; d=iol.unh.edu; s=unh-iol; t=1739069636; x=1739674436; darn=dpdk.org; h=references:in-reply-to:cc:to:from:subject:message-id:date:from:to :cc:subject:date:message-id:reply-to; bh=2VJ/zTg1LWrY2nZaO78Z2p8QFId0UCxSsGN60MGF7Mk=; b=YIQpDRLCLnRunmVaVzClTdYTWFjYGR1dfyqPqsWNFhxqg9D5npojQwwzf/h7C7tPAh ikcojk9ZTt1In8N3VeAYcjt7romI6o+C4eLGPMZOTB/AXE99ljPHVP+p0iBLEsH551Aw g3BtNS9bQPJDCvFCDQ9bvct+v3vMwkhq2TXAM= X-Google-DKIM-Signature: v=1; a=rsa-sha256; c=relaxed/relaxed; d=1e100.net; s=20230601; t=1739069636; x=1739674436; h=references:in-reply-to:cc:to:from:subject:message-id:date :x-gm-message-state:from:to:cc:subject:date:message-id:reply-to; bh=2VJ/zTg1LWrY2nZaO78Z2p8QFId0UCxSsGN60MGF7Mk=; b=ehjOjgEzxY30XaEbnrt2kxAfQYHHQLsGU7PNfwwOybM3+mcKLae8k7y+tfk0JLhdau V2c5lZY6Ap5dFiaGVUhBfea0wJGK/4kGdxFGpy8B8oJODk1cINMdhd8ndO4N6TgaFR2Y 9+W3KkK5IHZ651whLx5CY5qZIF97MG0236bFrBmQ9KF/0so3Q5JKP32hGoN8PRRHcSXk IQX7NR5LQwYgOAogCAbaOGiXH2lZNKUSBJKWfO1uTL8fSPcs3AgKFWwigI7xC+sIUTcQ 72tEwWHTvLl4znNrIlJS7HY3oEyd/jKEmKjWbufe/dJbLHVrYmLsIq3bf33SfaowkFDl w7Dw== X-Gm-Message-State: AOJu0YwlJXkgSJnh1yP8NADyXrYVFQSuKasCJo6uUdrhy+AUffufUKcx HUknlJDEZhb2LHHS8QnYdddWVEKWwIls4+7udT9j4Jt4zc04KlVW6PrHN1aRsywSyO8CzYbdnIQ vU/o43Lr1s7ti2RBXhBaMC8gKLRlEqezQqFebKGK3 X-Gm-Gg: ASbGnctkNw5ZDfWiy7HcGeq9PFfk5hAuL53shAU2IjoWGFwOvzLKzxcPy2SLmACLv/H OK3I7Lz66rF0leXZseXQiXnfdeV4NTWLE6Bib7GvQQofZKobRQIDdBpoun7CPY6MJB02y7RUAl0 cJIPsoDK4VOfefvZUIKQ4m9HvVkF8yQme8w2HDGWzkg868fSgJ5q5zwh9gQngAcbn+bThv0IjFM LJtcFdOXpOEHDSYui/oRktAXwEg4ZSJsrbNJ4NUhK7XmLJYXD6WQ0nJt6fRtFyAjNJUQLGiQq9L qedYRefbd9stvsjoev+0DyRdpQ/BsQ== X-Google-Smtp-Source: AGHT+IHa+2Ud5IqqzWfaeKx5rgFG9WAa8RZFEYvrp1Tvtnc47kRXmFqms4BGKzXzpx6+sf3TUUjZuuclAHgz X-Received: by 2002:a05:6214:2463:b0:6e4:28ef:d9ed with SMTP id 6a1803df08f44-6e4456ffff1mr154310456d6.37.1739069636392; Sat, 08 Feb 2025 18:53:56 -0800 (PST) Received: from postal.iol.unh.edu (postal.iol.unh.edu. [132.177.123.84]) by smtp-relay.gmail.com with ESMTPS id 6a1803df08f44-6e4517571a4sm1409586d6.35.2025.02.08.18.53.56 (version=TLS1_2 cipher=ECDHE-ECDSA-AES128-GCM-SHA256 bits=128/128); Sat, 08 Feb 2025 18:53:56 -0800 (PST) X-Relaying-Domain: iol.unh.edu Date: Sat, 08 Feb 2025 18:53:56 -0800 (PST) Message-ID: <67a818c4.050a0220.17d9ed.7b39SMTPIN_ADDED_MISSING@mx.google.com> Received: from [172.17.0.3] (unknown [172.18.0.217]) by postal.iol.unh.edu (Postfix) with ESMTP id 01B2D6052471; Sat, 8 Feb 2025 21:53:25 -0500 (EST) Subject: |SUCCESS| pw151090-151091 [PATCH] [v9,2/2] net/af_xdp: Refactor af_x From: dpdklab@iol.unh.edu To: Test Report Cc: dpdk-test-reports@iol.unh.edu In-Reply-To: <20250207104552.1663519-3-ariel.otilibili@6wind.com> References: <20250207104552.1663519-3-ariel.otilibili@6wind.com> Content-Type: text/plain X-BeenThere: test-report@dpdk.org X-Mailman-Version: 2.1.29 Precedence: list List-Id: automatic DPDK test reports List-Unsubscribe: , List-Archive: List-Post: List-Help: List-Subscribe: , Errors-To: test-report-bounces@dpdk.org Test-Label: iol-sample-apps-testing Test-Status: SUCCESS http://dpdk.org/patch/151091 _Testing PASS_ Submitter: Ariel Otilibili Date: Friday, February 07 2025 10:45:52 DPDK git baseline: Repo:dpdk Branch: master CommitID:e5ece9ae686535f29ae72c03fec26dc16ff7a925 151090-151091 --> testing pass Upstream job id: ACVP-FIPS-testing#8830 Test environment and result as below: +--------------------+----------------------+----------------------+ | Environment | compressdev_zlib_pmd | dpdk_fips_validation | +====================+======================+======================+ | Ubuntu 22.04 (ARM) | PASS | SKIPPED | +--------------------+----------------------+----------------------+ | Ubuntu 22.04 | PASS | SKIPPED | +--------------------+----------------------+----------------------+ | Ubuntu 20.04 | SKIPPED | PASS | +--------------------+----------------------+----------------------+ Ubuntu 22.04 (ARM) Kernel: 5.15.0-97-generic Compiler: gcc gcc (Ubuntu 11.4.0-1ubuntu1~22.04) 11.4.0 Ubuntu 22.04 Kernel: 5.15.0-100-generic Compiler: gcc gcc (Ubuntu 11.4.0-1ubuntu1~22.04) 11.4.0 Ubuntu 20.04 Kernel: Depends on container host Compiler: gcc (Ubuntu 9.4.0-1ubuntu1~20.04.2) 9.4.0 To view detailed results, visit: https://lab.dpdk.org/results/dashboard/patchsets/32522/ UNH-IOL DPDK Community Lab To manage your email subscriptions, visit: https://lab.dpdk.org/results/dashboard/preferences/subscriptions/