From mboxrd@z Thu Jan 1 00:00:00 1970 Return-Path: Received: from mails.dpdk.org (mails.dpdk.org [217.70.189.124]) by inbox.dpdk.org (Postfix) with ESMTP id 43A3A461D3 for ; Sun, 9 Feb 2025 04:58:54 +0100 (CET) Received: from mails.dpdk.org (localhost [127.0.0.1]) by mails.dpdk.org (Postfix) with ESMTP id 1DBA0402AB; Sun, 9 Feb 2025 04:58:54 +0100 (CET) Received: from mail-pl1-f226.google.com (mail-pl1-f226.google.com [209.85.214.226]) by mails.dpdk.org (Postfix) with ESMTP id CDA17402A4 for ; Sun, 9 Feb 2025 04:58:52 +0100 (CET) Received: by mail-pl1-f226.google.com with SMTP id d9443c01a7336-21f5268cf50so26726075ad.1 for ; Sat, 08 Feb 2025 19:58:52 -0800 (PST) DKIM-Signature: v=1; a=rsa-sha256; c=relaxed/relaxed; d=iol.unh.edu; s=unh-iol; t=1739073532; x=1739678332; darn=dpdk.org; h=references:in-reply-to:cc:to:from:subject:message-id:date:from:to :cc:subject:date:message-id:reply-to; bh=AxiBmw7C6JXqHXl2FjgJIjHX/BNMzp/WUh8vAR4qcP4=; b=Wn3ZRu1/laqo6mvrDDvVouQAvBqmwrzVKehMc2gZ0cGIeJI0x4+M8q7xUqv8A7a/ut cLWrdDI/zdb6v4rxOXgqy0o25kQy+jxy9gpGPrqfPY7p4fW18k9y8DpSRKQEu5HpcQth l/2taXraS6X1+k+MQQIql9wKbnkDrPoyWsnZU= X-Google-DKIM-Signature: v=1; a=rsa-sha256; c=relaxed/relaxed; d=1e100.net; s=20230601; t=1739073532; x=1739678332; h=references:in-reply-to:cc:to:from:subject:message-id:date :x-gm-message-state:from:to:cc:subject:date:message-id:reply-to; bh=AxiBmw7C6JXqHXl2FjgJIjHX/BNMzp/WUh8vAR4qcP4=; b=i+eg1N1lXklKCl1NpGMZe0ITfkX7lENmNtQoMHZTZT7BCLH4wSi/Nqt0urzQUCyHIX 6LXTMuMDc5oIuAAy+grTqhLRCU56NqWPA6RUT2aVKl/Slky4FI+AQiBUspUgF1TraMyv WmgC5ICEAN2kl+oM+RviCKSC3Rr6Iky+ek15wz/Fob8IWB0nhusFAGirfpGer+pVhkfX tCeDxrU54hhy9L3NxbKChSUEFMJcwoyU5fq7p8fLIlJzgVZO6CU0EM2hVX/ilgy87gIx bMQPajUdAalA/WS8p8sbiVwO8ovYajGoFjZCcD9GazFNuQ6CXWYFsMx6UTTOKASOrq/p LvNg== X-Gm-Message-State: AOJu0YxE2O87Gmt2J9rE2foO4AMlZeNtnsLtDqN88uR4gvWiCadnfasm aqbkhAkMSBlQQaHxi5aNxAM9V5yIo/3uLW7X78nqNpKkEep7GrP3dxgS862OmbQT0MqVcKFWBhC aFCbpQhnjKByKRVJgdfuEQ0Q3fuzQnZ+yTTQBhxDG X-Gm-Gg: ASbGnct5uTMyvOHMQtEnlzytNVWuNfC9oFiFdRbYT0tu8YMAKCDq5/ldPs2rC5IUBY8 vC/y5ed3jGtRyPrBvCij+pyMNZT+qNdlCMVNfNwqIYcCy2TvGmDfncVlhRX1WCvfo0PdGzYzA7h Cvs50BiAKQzDlWNJF+hBPlMtOpF8WDDa/O6xetAawXM8Ynw+3UWJAQGr3UTu+6g1I5LLjnyYsyx L3GGXEtsynrUsG3uexpVhTBRWomedUenAmIo3SqMG5yu/7nQyXGohyP1VlKsVYX65vasgWVzIxQ t6LOBdMA9Yl++h9f/S/seO9QfwzJsA== X-Google-Smtp-Source: AGHT+IEgRIoBX6u3FH6zD37rcBmGKNvbMVc+DFq08ABOVkx3GiMSdqX3JS+inXd1aFA/QJVvso4nkTxPFndV X-Received: by 2002:a05:6a21:4f87:b0:1ee:171c:fc7f with SMTP id adf61e73a8af0-1ee171d0037mr5536376637.14.1739073531834; Sat, 08 Feb 2025 19:58:51 -0800 (PST) Received: from postal.iol.unh.edu (postal.iol.unh.edu. [132.177.123.84]) by smtp-relay.gmail.com with ESMTPS id 41be03b00d2f7-ad51af6d35dsm383211a12.31.2025.02.08.19.58.51 (version=TLS1_2 cipher=ECDHE-ECDSA-AES128-GCM-SHA256 bits=128/128); Sat, 08 Feb 2025 19:58:51 -0800 (PST) X-Relaying-Domain: iol.unh.edu Date: Sat, 08 Feb 2025 19:58:51 -0800 (PST) Message-ID: <67a827fb.630a0220.16df5b.4a87SMTPIN_ADDED_MISSING@mx.google.com> Received: from [172.17.0.3] (unknown [172.18.0.217]) by postal.iol.unh.edu (Postfix) with ESMTP id 10C5B6052471; Sat, 8 Feb 2025 22:58:51 -0500 (EST) Subject: |SUCCESS| pw151129-151131 [PATCH] [3/3] test/event: unit test to bur From: dpdklab@iol.unh.edu To: Test Report Cc: dpdk-test-reports@iol.unh.edu In-Reply-To: <20250207140910.721374-4-sthotton@marvell.com> References: <20250207140910.721374-4-sthotton@marvell.com> Content-Type: text/plain X-BeenThere: test-report@dpdk.org X-Mailman-Version: 2.1.29 Precedence: list List-Id: automatic DPDK test reports List-Unsubscribe: , List-Archive: List-Post: List-Help: List-Subscribe: , Errors-To: test-report-bounces@dpdk.org Test-Label: iol-sample-apps-testing Test-Status: SUCCESS http://dpdk.org/patch/151131 _Testing PASS_ Submitter: Shijith Thotton Date: Friday, February 07 2025 14:09:10 DPDK git baseline: Repo:dpdk Branch: master CommitID:32c18e7364e30a8e43cc7cc6709a7ce606fa285e 151129-151131 --> testing pass Upstream job id: ACVP-FIPS-testing#8832 Test environment and result as below: +--------------------+----------------------+----------------------+ | Environment | compressdev_zlib_pmd | dpdk_fips_validation | +====================+======================+======================+ | Ubuntu 22.04 (ARM) | PASS | SKIPPED | +--------------------+----------------------+----------------------+ | Ubuntu 22.04 | PASS | SKIPPED | +--------------------+----------------------+----------------------+ | Ubuntu 20.04 | SKIPPED | PASS | +--------------------+----------------------+----------------------+ Ubuntu 22.04 (ARM) Kernel: 5.15.0-97-generic Compiler: gcc gcc (Ubuntu 11.4.0-1ubuntu1~22.04) 11.4.0 Ubuntu 22.04 Kernel: 5.15.0-100-generic Compiler: gcc gcc (Ubuntu 11.4.0-1ubuntu1~22.04) 11.4.0 Ubuntu 20.04 Kernel: Depends on container host Compiler: gcc (Ubuntu 9.4.0-1ubuntu1~20.04.2) 9.4.0 To view detailed results, visit: https://lab.dpdk.org/results/dashboard/patchsets/32525/ UNH-IOL DPDK Community Lab To manage your email subscriptions, visit: https://lab.dpdk.org/results/dashboard/preferences/subscriptions/