From mboxrd@z Thu Jan 1 00:00:00 1970 Return-Path: Received: from mails.dpdk.org (mails.dpdk.org [217.70.189.124]) by inbox.dpdk.org (Postfix) with ESMTP id A63DA461D3 for ; Sun, 9 Feb 2025 05:52:11 +0100 (CET) Received: from mails.dpdk.org (localhost [127.0.0.1]) by mails.dpdk.org (Postfix) with ESMTP id 90B3A402AB; Sun, 9 Feb 2025 05:52:11 +0100 (CET) Received: from mail-pl1-f227.google.com (mail-pl1-f227.google.com [209.85.214.227]) by mails.dpdk.org (Postfix) with ESMTP id C621F402A4 for ; Sun, 9 Feb 2025 05:52:09 +0100 (CET) Received: by mail-pl1-f227.google.com with SMTP id d9443c01a7336-21f6022c2c3so21409765ad.0 for ; Sat, 08 Feb 2025 20:52:09 -0800 (PST) DKIM-Signature: v=1; a=rsa-sha256; c=relaxed/relaxed; d=iol.unh.edu; s=unh-iol; t=1739076729; x=1739681529; darn=dpdk.org; h=references:in-reply-to:cc:to:from:subject:message-id:date:from:to :cc:subject:date:message-id:reply-to; bh=zUKIb242UAZL6Rh49WmdZAy60lXdsAZj/vfqKSPu6W4=; b=RWNVi3Huzs2ZskXvlDFeY8hm2u0Qmvs2DvAAAWKcVQoQxsJwL4vqjuUiaqcq6jpSlC pfSu4T+LipPftg8Pi023JI80X9ZY9gZLKdtnTW7hOLvUxT6BJR47lwLxbSwiXfc0+pq8 9cwNbT2bFeuxogCWxyUu99q07dvCcB1piXXvU= X-Google-DKIM-Signature: v=1; a=rsa-sha256; c=relaxed/relaxed; d=1e100.net; s=20230601; t=1739076729; x=1739681529; h=references:in-reply-to:cc:to:from:subject:message-id:date :x-gm-message-state:from:to:cc:subject:date:message-id:reply-to; bh=zUKIb242UAZL6Rh49WmdZAy60lXdsAZj/vfqKSPu6W4=; b=sGHy7HFgJxI08yuUligSDe7ZNvs+cY4nKi57wm4SiXzRuZw0kfVhb9apDoVeroOxpH afu/K2l2wum/8/buWExpPFMwXcKl+E7YCNV+nrERbVn0feDjAWxMHHKamCoNhSXvxYG/ /9uC/2wpDxQPIf3vU7gKJsBZ95kaYw5970lxBf8YNqbq7bbqLa4tBhydSttaHGyIgoa1 Jufj1eF2gpzZrl5lj9BIPvbXObmNUFe9eHNfi3XwL/olWxpudw/9VqvTF3Km4adEMv08 gFh7NFUq+6KeZ8DTlPYJ8oo+VbA8AeOyj462R4DFyfmxiy9i9ZOmb35HVjaPZoQ64LnN M8UQ== X-Gm-Message-State: AOJu0Yz6bWdlMNrLpoBJYzLUza1bK8L7MkBXJw2jh4vhbt/tcLP3eisC 5O0foYDWLgo7zVE/HNh3cm3OOOKCx5r6rXVjo5PHXb7JXRJHi4oh9PNwXhkOxVtq6X6rjBED39G YXPmXtrq68YFUs5D/y8gdCsY/bxmskpH0Z1JkGOdW X-Gm-Gg: ASbGncs+gWnoeenZj/UnxpJnyOk//C4Zd9ZzoU/eSj4Z+PXnnhQU+i/HpbrixAShPyO XKdmIZStkqJT74Pi+0274t3RKJoUa2epg9/oM4vmyKohLK6bNyDuyf9Di5O9JAf6lhIX7ZYJ1uV TxAnV8fb0OZ6d+9PUplw4I7jZU3cdYkWd70u1hJ+6tf4vyX+WnYLdjyn9jUue608cXIWXDiGKOA l4uzSYK+8qMb4uvJHoamb+m0RFUL/6Bx1o+srcgs50P/rPOnp6cSHDx28AAu+kEzyXmZMRMrr51 d+6O1AZZhkqQ/5Qeiuc7B6gVWZT8fA== X-Google-Smtp-Source: AGHT+IGkafcGYa/qwcNMq6V5exyOGBeA5rSM7i4hfgpDJl8A69+UlE3mD+OXD12j5FCILTQJRoPk5ZsVKzH3 X-Received: by 2002:a17:902:f78d:b0:21f:40de:ae4e with SMTP id d9443c01a7336-21f4f13bc2fmr143818855ad.9.1739076728979; Sat, 08 Feb 2025 20:52:08 -0800 (PST) Received: from postal.iol.unh.edu (postal.iol.unh.edu. [132.177.123.84]) by smtp-relay.gmail.com with ESMTPS id d9443c01a7336-21f368906bbsm3664275ad.121.2025.02.08.20.52.08 (version=TLS1_2 cipher=ECDHE-ECDSA-AES128-GCM-SHA256 bits=128/128); Sat, 08 Feb 2025 20:52:08 -0800 (PST) X-Relaying-Domain: iol.unh.edu Date: Sat, 08 Feb 2025 20:52:08 -0800 (PST) Message-ID: <67a83478.170a0220.2a39ef.2eccSMTPIN_ADDED_MISSING@mx.google.com> Received: from [172.17.0.3] (unknown [172.18.0.217]) by postal.iol.unh.edu (Postfix) with ESMTP id 6B1606052471; Sat, 8 Feb 2025 23:52:08 -0500 (EST) Subject: |SUCCESS| pw151128 [PATCH] examples/ipsec-secgw: fix iv len in ctr 1 From: dpdklab@iol.unh.edu To: Test Report Cc: dpdk-test-reports@iol.unh.edu In-Reply-To: <20250207134545.63820-1-nkaithakadan@marvell.com> References: <20250207134545.63820-1-nkaithakadan@marvell.com> Content-Type: text/plain X-BeenThere: test-report@dpdk.org X-Mailman-Version: 2.1.29 Precedence: list List-Id: automatic DPDK test reports List-Unsubscribe: , List-Archive: List-Post: List-Help: List-Subscribe: , Errors-To: test-report-bounces@dpdk.org Test-Label: iol-sample-apps-testing Test-Status: SUCCESS http://dpdk.org/patch/151128 _Testing PASS_ Submitter: Nithinsen Kaithakadan Date: Friday, February 07 2025 13:45:43 DPDK git baseline: Repo:dpdk Branch: master CommitID:388b1abe291544106e406cb0a200b5b0c96fe599 151128 --> testing pass Upstream job id: ACVP-FIPS-testing#8834 Test environment and result as below: +--------------------+----------------------+----------------------+ | Environment | compressdev_zlib_pmd | dpdk_fips_validation | +====================+======================+======================+ | Ubuntu 22.04 (ARM) | PASS | SKIPPED | +--------------------+----------------------+----------------------+ | Ubuntu 22.04 | PASS | SKIPPED | +--------------------+----------------------+----------------------+ | Ubuntu 20.04 | SKIPPED | PASS | +--------------------+----------------------+----------------------+ Ubuntu 22.04 (ARM) Kernel: 5.15.0-97-generic Compiler: gcc gcc (Ubuntu 11.4.0-1ubuntu1~22.04) 11.4.0 Ubuntu 22.04 Kernel: 5.15.0-100-generic Compiler: gcc gcc (Ubuntu 11.4.0-1ubuntu1~22.04) 11.4.0 Ubuntu 20.04 Kernel: Depends on container host Compiler: gcc (Ubuntu 9.4.0-1ubuntu1~20.04.2) 9.4.0 To view detailed results, visit: https://lab.dpdk.org/results/dashboard/patchsets/32524/ UNH-IOL DPDK Community Lab To manage your email subscriptions, visit: https://lab.dpdk.org/results/dashboard/preferences/subscriptions/