From mboxrd@z Thu Jan  1 00:00:00 1970
Return-Path: <test-report-bounces@dpdk.org>
Received: from mails.dpdk.org (mails.dpdk.org [217.70.189.124])
	by inbox.dpdk.org (Postfix) with ESMTP id 6EF17461D3
	for <public@inbox.dpdk.org>; Sun,  9 Feb 2025 06:22:27 +0100 (CET)
Received: from mails.dpdk.org (localhost [127.0.0.1])
	by mails.dpdk.org (Postfix) with ESMTP id 4E267402AB;
	Sun,  9 Feb 2025 06:22:27 +0100 (CET)
Received: from mail-qv1-f100.google.com (mail-qv1-f100.google.com
 [209.85.219.100])
 by mails.dpdk.org (Postfix) with ESMTP id CE32E402A4
 for <test-report@dpdk.org>; Sun,  9 Feb 2025 06:22:25 +0100 (CET)
Received: by mail-qv1-f100.google.com with SMTP id
 6a1803df08f44-6e45258610bso7584566d6.1
 for <test-report@dpdk.org>; Sat, 08 Feb 2025 21:22:25 -0800 (PST)
DKIM-Signature: v=1; a=rsa-sha256; c=relaxed/relaxed;
 d=iol.unh.edu; s=unh-iol; t=1739078545; x=1739683345; darn=dpdk.org;
 h=references:in-reply-to:cc:to:from:subject:message-id:date:from:to
 :cc:subject:date:message-id:reply-to;
 bh=S+0jMMjClBy3IebYnJB7qiFx1XerXhmEeRkYw7C9Wpc=;
 b=dkUxtv9AyArICb1Su3TObxVVEDroLDQ8RD56xOi2ubRX5s3zlBjpAu7m2t4p8xdAdk
 waqpwpf5DFk79KJHiDwiQqUTgdaOzpl3Yj6CNDUwE9RCHQmYMlcDAOBKkNakdzBDZ8rb
 Glb9qhgxtlTb3+LtGseM8aWe5GucH4eDAD1D0=
X-Google-DKIM-Signature: v=1; a=rsa-sha256; c=relaxed/relaxed;
 d=1e100.net; s=20230601; t=1739078545; x=1739683345;
 h=references:in-reply-to:cc:to:from:subject:message-id:date
 :x-gm-message-state:from:to:cc:subject:date:message-id:reply-to;
 bh=S+0jMMjClBy3IebYnJB7qiFx1XerXhmEeRkYw7C9Wpc=;
 b=nD9gaV6Gu7gL0kaPBkrC/lhDRnKMrBzU/I4REj9DGbkz1R3MDYp2MefEMnvstQ1olr
 7Z8m/oz1o/S8fIQm1LGqcOCxRrbfBOuFErig2AvcMw2z4s3lGwYbET2yRYpjBWti6T2F
 b/uVOdKzHgowcm+IUm/RUcSCXb9amgfzSx51D/NBkpfab3X1S9xn1XN9a/5R5Eq+UMrD
 PlVMk5EmY9eYTd+01Y0bl5QguGTVs7dCJ6OX9uW1pjp3wpRyoacuQgcC5uUFNXANCx48
 5L1PCpcxBaJp/l8/kyYhYeaAUsQhY3mXcvcpCZv12uV56cwWy8qrZg7tbfxDMn/4DhKM
 8BjA==
X-Gm-Message-State: AOJu0Yx1QfC1An4ZFZmZgJwSL4/sRTd+n4HLKUNM9mHkr4H5Zm7qUfRr
 dpBSoKaQzPx7E/zt2s75+q6PzkACkUBGb2DZ8NygQ7Kt/2lkQtyPe+cpt3fKSx0dugB1r+eazyD
 gNSodYmJDhbbXPWqbcfjUMs975xI9vQYobFX+Se4F
X-Gm-Gg: ASbGncv9k4iKGW8tnQpFi2ejnypS4GiTLBmWmGBzoihFBD5ngG3OaupkQp750ardY0Q
 UUB9vTqEPKB018BKLMtzl0dtjuZchF9wXmLfpI2wrfVNelflzdy0nMaKJay/T5lPjgVz6uddMlb
 AWLp5ZhpSNW8AMf4F4kBSzNfZ4U9a0U/NwnRCRmCbyggdUnsuIFwwNacqd5sECTT8teJUQAMHSk
 jyPIfUhvyWF8gycrEsu1q+crJT3mumjvpa95HSX8lQfOEBEGxnwMvxLdAtxQG9wzMYZf4UUM/4U
 DJKk/PIiWsePIV6seXMzQvfi+RPnkg==
X-Google-Smtp-Source: AGHT+IG7hkrUiRMryWmjtdxRnkdL89tPbs01EGcoTiMh/jWRNsthjgYCZxPJ5uR9QlSsmO68ZAKeQJjUGCcn
X-Received: by 2002:ad4:4ee5:0:b0:6e4:2c11:4d33 with SMTP id
 6a1803df08f44-6e445a4e0e8mr130993996d6.21.1739078545028; 
 Sat, 08 Feb 2025 21:22:25 -0800 (PST)
Received: from postal.iol.unh.edu (postal.iol.unh.edu. [132.177.123.84])
 by smtp-relay.gmail.com with ESMTPS id
 6a1803df08f44-6e446aea016sm4349826d6.56.2025.02.08.21.22.24
 (version=TLS1_2 cipher=ECDHE-ECDSA-AES128-GCM-SHA256 bits=128/128);
 Sat, 08 Feb 2025 21:22:25 -0800 (PST)
X-Relaying-Domain: iol.unh.edu
Date: Sat, 08 Feb 2025 21:22:25 -0800 (PST)
Message-ID: <67a83b91.0c0a0220.3b393.74b7SMTPIN_ADDED_MISSING@mx.google.com>
Received: from [172.21.0.5] (unknown [172.18.0.240])
 by postal.iol.unh.edu (Postfix) with ESMTP id 5EED66052471;
 Sun,  9 Feb 2025 00:21:54 -0500 (EST)
Subject: |SUCCESS| pw151135 [PATCH] [v5,1/1] drivers/net: use 64-bit shift an
From: dpdklab@iol.unh.edu
To: Test Report <test-report@dpdk.org>
Cc: dpdk-test-reports@iol.unh.edu
In-Reply-To: <1738950069-21059-2-git-send-email-andremue@linux.microsoft.com>
References: <1738950069-21059-2-git-send-email-andremue@linux.microsoft.com>
Content-Type: text/plain
X-BeenThere: test-report@dpdk.org
X-Mailman-Version: 2.1.29
Precedence: list
List-Id: automatic DPDK test reports <test-report.dpdk.org>
List-Unsubscribe: <https://mails.dpdk.org/options/test-report>,
 <mailto:test-report-request@dpdk.org?subject=unsubscribe>
List-Archive: <http://mails.dpdk.org/archives/test-report/>
List-Post: <mailto:test-report@dpdk.org>
List-Help: <mailto:test-report-request@dpdk.org?subject=help>
List-Subscribe: <https://mails.dpdk.org/listinfo/test-report>,
 <mailto:test-report-request@dpdk.org?subject=subscribe>
Errors-To: test-report-bounces@dpdk.org

Test-Label: iol-sample-apps-testing
Test-Status: SUCCESS
http://dpdk.org/patch/151135

_Testing PASS_

Submitter: Andre Muezerie <andremue@linux.microsoft.com>
Date: Friday, February 07 2025 17:41:09 
DPDK git baseline: Repo:dpdk
  Branch: master
  CommitID:cebec711bdc507d1b271b50ea1e696db86a3a202

151135 --> testing pass

Upstream job id: ACVP-FIPS-testing#8835

Test environment and result as below:

+--------------------+----------------------+----------------------+
|    Environment     | compressdev_zlib_pmd | dpdk_fips_validation |
+====================+======================+======================+
| Ubuntu 22.04 (ARM) | PASS                 | SKIPPED              |
+--------------------+----------------------+----------------------+
| Ubuntu 22.04       | PASS                 | SKIPPED              |
+--------------------+----------------------+----------------------+
| Ubuntu 20.04       | SKIPPED              | PASS                 |
+--------------------+----------------------+----------------------+


Ubuntu 22.04 (ARM)
	Kernel: 5.15.0-97-generic
	Compiler: gcc gcc (Ubuntu 11.4.0-1ubuntu1~22.04) 11.4.0

Ubuntu 22.04
	Kernel: 5.15.0-100-generic
	Compiler: gcc gcc (Ubuntu 11.4.0-1ubuntu1~22.04) 11.4.0

Ubuntu 20.04
	Kernel: Depends on container host
	Compiler: gcc (Ubuntu 9.4.0-1ubuntu1~20.04.2) 9.4.0

To view detailed results, visit:
https://lab.dpdk.org/results/dashboard/patchsets/32529/

UNH-IOL DPDK Community Lab

To manage your email subscriptions, visit: 
https://lab.dpdk.org/results/dashboard/preferences/subscriptions/