From mboxrd@z Thu Jan 1 00:00:00 1970 Return-Path: Received: from mails.dpdk.org (mails.dpdk.org [217.70.189.124]) by inbox.dpdk.org (Postfix) with ESMTP id 3F3D6461AE for ; Sun, 9 Feb 2025 07:38:52 +0100 (CET) Received: from mails.dpdk.org (localhost [127.0.0.1]) by mails.dpdk.org (Postfix) with ESMTP id 208FF402A4; Sun, 9 Feb 2025 07:38:52 +0100 (CET) Received: from mail-il1-f227.google.com (mail-il1-f227.google.com [209.85.166.227]) by mails.dpdk.org (Postfix) with ESMTP id B5A4840280 for ; Sun, 9 Feb 2025 07:38:50 +0100 (CET) Received: by mail-il1-f227.google.com with SMTP id e9e14a558f8ab-3ce868498d3so10544705ab.3 for ; Sat, 08 Feb 2025 22:38:50 -0800 (PST) DKIM-Signature: v=1; a=rsa-sha256; c=relaxed/relaxed; d=iol.unh.edu; s=unh-iol; t=1739083129; x=1739687929; darn=dpdk.org; h=cc:to:from:subject:message-id:date:from:to:cc:subject:date :message-id:reply-to; bh=qL7hUoKkNurGHhDifbq+kTXDIXuMfCPdM2LQi4lcBXM=; b=SVVvoIXzcavMs3CV8JPoWCbhr2RQrCK3XUjj3zTV8dAjjgCTE3NUt6AmOCzC/Er0q5 alnpdmZ4stx1gHG4aY1thHoqT+Kp47+kO7FmoMsWX664DuFwkkdLt7cQKRrloEHWpLXG lcZwxjRrWH2D7esUubg7WcYjEwgmNG1JqhXdc= X-Google-DKIM-Signature: v=1; a=rsa-sha256; c=relaxed/relaxed; d=1e100.net; s=20230601; t=1739083129; x=1739687929; h=cc:to:from:subject:message-id:date:x-gm-message-state:from:to:cc :subject:date:message-id:reply-to; bh=qL7hUoKkNurGHhDifbq+kTXDIXuMfCPdM2LQi4lcBXM=; b=lPCOcK/JRSvSKWVNsVxTiTqaFEjAsD5tYod5QquY3Niq/RyNVHqlyf/0Sd4TbcEs4O +2oPz8r19eJYcFoYGcA1XXPCYRaYHdnWLj3pQ/A3aRL4iECyaVpsTXEwmXLRkSCCSPkG 6BJoHmQ9GEkX8uUFM0JFtExE3shsCNSC4c64gPzrDjeqgtc+NXVKk0ikZSujoU9tV8LG FYKNe/zcXHb2FIYAzh0g/G8czFqXttkbacm4kVDUdX3FBuixSKqRNzgQsw6nxUsmUhGj XlI0XhXu32whHZu/JFdCqvNBkZOwI3auvimXxObojUA0UOU7P+91rWFyaJTVEPbJ/GOO x2iw== X-Gm-Message-State: AOJu0YxYQeIQq1zAXbeU+Ro5sXTS9t7b3IpFxODkMmbDXLoDQy6diwEJ /Q3gmrsMKPM882msqVBZE9O+EO71p2VJr5Ej/BmB2NaX3tlNLBCqbq63K0t+IMoV7O7oF1kh+ld u4aowuRoaGChbPhMeUi/47n49V6peEZL/ X-Gm-Gg: ASbGncuukEC1D5oVfNsNaBIKxf8Oqua93VEy5AeP3+o3OjhevkoNN6S17q/eEs+U2+Y 5PbkCbl/2XBF5HL9LH2kxQaCwQ8fYQJ+oBP1sdHQ6HJBxejId3EaaFN3a9+yIs+nKWbAf1mGqlU tOiF4OM184QXjoDnLp14LfmMfgyJsDhNLpxpPRRVaGwEnaC59ngNhgV+QmHcS67kUc8FMVxteJ8 EjZTR9iCygY0BF90Puh5jInrhA1vvFC8lJBxMeUrlHgg3Ys3Bij0fHhLTzS8WQJja0MSUSiM2RP XthUc7xkprt6ASaNW/mlEoZTeFxzfA== X-Google-Smtp-Source: AGHT+IH7gXjImUcWz4g1DfTe5bPJ1jwe7Gv5gp0Quz3pHvUwh1bYSbGKRlOmtUb0uh4D1CJ0LN8gciMnLiSH X-Received: by 2002:a05:6e02:1a23:b0:3ce:6628:3c4 with SMTP id e9e14a558f8ab-3d13dd1f184mr66211685ab.6.1739083129706; Sat, 08 Feb 2025 22:38:49 -0800 (PST) Received: from postal.iol.unh.edu (postal.iol.unh.edu. [132.177.123.84]) by smtp-relay.gmail.com with ESMTPS id e9e14a558f8ab-3d15ef82952sm68115ab.66.2025.02.08.22.38.49 (version=TLS1_2 cipher=ECDHE-ECDSA-AES128-GCM-SHA256 bits=128/128); Sat, 08 Feb 2025 22:38:49 -0800 (PST) X-Relaying-Domain: iol.unh.edu Date: Sat, 08 Feb 2025 22:38:49 -0800 (PST) Message-ID: <67a84d79.050a0220.20fc9a.059bSMTPIN_ADDED_MISSING@mx.google.com> Received: from [172.21.0.5] (unknown [172.18.0.240]) by postal.iol.unh.edu (Postfix) with ESMTP id 268766052471; Sun, 9 Feb 2025 01:38:19 -0500 (EST) Subject: |SUCCESS| [GIT MASTER] f2eea2f37a82bb73fb01d56350708f7d70e21379 From: dpdklab@iol.unh.edu To: Test Report Cc: dpdk-test-reports@iol.unh.edu, Xueming Li , Christian Ehrhardt , Kevin Traynor , Luca Boccassi Content-Type: text/plain X-BeenThere: test-report@dpdk.org X-Mailman-Version: 2.1.29 Precedence: list List-Id: automatic DPDK test reports List-Unsubscribe: , List-Archive: List-Post: List-Help: List-Subscribe: , Errors-To: test-report-bounces@dpdk.org _Testing PASS_ Branch: tags/v24.11 f2eea2f37a82bb73fb01d56350708f7d70e21379 --> testing pass Upstream job id: Generic-DPDK-Compile-ABI#115481 Test environment and result as below: +-------------------+----------+ | Environment | abi_test | +===================+==========+ | CentOS Stream 9 | PASS | +-------------------+----------+ | Debian Bullseye | PASS | +-------------------+----------+ | Debian 12 | PASS | +-------------------+----------+ | Fedora 41 | PASS | +-------------------+----------+ | Fedora 40 | PASS | +-------------------+----------+ | openSUSE Leap 15 | PASS | +-------------------+----------+ | Fedora 40 (Clang) | PASS | +-------------------+----------+ | Fedora 41 (Clang) | PASS | +-------------------+----------+ | RHEL8 | PASS | +-------------------+----------+ | RHEL9 | PASS | +-------------------+----------+ | Ubuntu 24.04 | PASS | +-------------------+----------+ | Ubuntu 22.04 | PASS | +-------------------+----------+ CentOS Stream 9 Kernel: Depends on container host Compiler: gcc 11.5.0 20240719 (Red Hat 11.5.0-2) Debian Bullseye Kernel: Depends on container host Compiler: gcc (Debian 10.2.1-6) 10.2.1 20210110 Debian 12 Kernel: Depends on container host Compiler: gcc (Debian 12.2.0-14) 12.2.0 Fedora 41 Kernel: Depends on container host Compiler: gcc 14.2.1 20240912 (Red Hat 14.2.1-3) Fedora 40 Kernel: Depends on container host Compiler: gcc 14.2.1 20240912 (Red Hat 14.2.1-3) openSUSE Leap 15 Kernel: Depends on container host Compiler: gcc (SUSE Linux) 7.5.0 Fedora 40 (Clang) Kernel: Depends on container host Compiler: clang 18.1.8 (Fedora 18.1.8-1.fc40) Fedora 41 (Clang) Kernel: Depends on container host Compiler: clang 19.1.5 (Fedora 19.1.5-1.fc41) RHEL8 Kernel: Depends on container host Compiler: gcc 8.5.0 20210514 (Red Hat 8.5.0-22) RHEL9 Kernel: Depends on container host Compiler: gcc 11.5.0 20240719 (Red Hat 11.5.0-2) Ubuntu 24.04 Kernel: Depends on container host Compiler: gcc (Ubuntu 13.3.0-6ubuntu2~24.04) 13.3.0 Ubuntu 22.04 Kernel: Depends on container host Compiler: gcc (Ubuntu 11.4.0-1ubuntu1~22.04) 11.4.0 To view detailed results, visit: https://lab.dpdk.org/results/dashboard/tarballs/32512/ UNH-IOL DPDK Community Lab To manage your email subscriptions, visit: https://lab.dpdk.org/results/dashboard/preferences/subscriptions/