From mboxrd@z Thu Jan 1 00:00:00 1970 Return-Path: Received: from mails.dpdk.org (mails.dpdk.org [217.70.189.124]) by inbox.dpdk.org (Postfix) with ESMTP id 3BB62461D3 for ; Sun, 9 Feb 2025 07:49:24 +0100 (CET) Received: from mails.dpdk.org (localhost [127.0.0.1]) by mails.dpdk.org (Postfix) with ESMTP id 47E21402A4; Sun, 9 Feb 2025 07:49:23 +0100 (CET) Received: from mail-qt1-f226.google.com (mail-qt1-f226.google.com [209.85.160.226]) by mails.dpdk.org (Postfix) with ESMTP id 82D4340280 for ; Sun, 9 Feb 2025 07:49:21 +0100 (CET) Received: by mail-qt1-f226.google.com with SMTP id d75a77b69052e-46788c32a69so48967191cf.2 for ; Sat, 08 Feb 2025 22:49:21 -0800 (PST) DKIM-Signature: v=1; a=rsa-sha256; c=relaxed/relaxed; d=iol.unh.edu; s=unh-iol; t=1739083761; x=1739688561; darn=dpdk.org; h=cc:to:from:subject:message-id:date:from:to:cc:subject:date :message-id:reply-to; bh=3sAM7XrZCKLyO8DJqfolkxaL0axBqpfUjRsCuNQp0Jw=; b=gLCefgzr0GSceBCsqag3q41c20Y2YJ0YCcpZAba22t6WIDgRSq0NeE/HGjwlHAFEKb oYvrwh/cfnP20fpq5v8rAfW07CbKbuRKu8N4u3OqEEpChqMfQGaDmrw48LHZq+I0SLZQ MVIXFHZ6h2709i6xuGDCQOdyuTrWDhHNnC/+c= X-Google-DKIM-Signature: v=1; a=rsa-sha256; c=relaxed/relaxed; d=1e100.net; s=20230601; t=1739083761; x=1739688561; h=cc:to:from:subject:message-id:date:x-gm-message-state:from:to:cc :subject:date:message-id:reply-to; bh=3sAM7XrZCKLyO8DJqfolkxaL0axBqpfUjRsCuNQp0Jw=; b=AMlWRITxLbTEH6igCJXQGserWuYpggbvQyaSvcQd6VKK1k8rfopQTWs2ItKebbq4Q3 Et9cNbYAbtw9X2Rtg0GPOqkOWOMh30HJrnYDHVto4AsMV9l7qO08ojhp5dtBaurN+30B dreiLFu3bYROiK7kashhmFBXNMMCXV+datDGxAmoJ+8PGsDDF7qGnihJ/24PiiPOu09a Nnw6aEWbEfEuSQ31YJi6YJUIUF6E3jTyL12xBGbnq8cuKeyLHtSoBxb99rHPNyFGgF2X sjWHHs2kHeZlvZPKQv7/Cg1G3/wuXjO2+57fe3RSdh3akrZJvDN14LKOIznT9+qCe5P4 mnzg== X-Gm-Message-State: AOJu0YyyU7DsSOgdHB9/62KPtx8oJmjql4M3CjIxaf1DERBkFeANQPnK 9vvgWZ0lBeWK2dw3HT639O6YNHEXpJQ3rx5u5YRVLLuXkIPwkggG6JYkXemBLcCQEhRuFeapx14 bOtfE3QRKnMDnFdvS/2D1JMWeexCf1cbU X-Gm-Gg: ASbGncvE80MBjNNMZAZ5Z5No10GE9D5qEzQCJvSUerrh6LanXnFwK6hgk1YW6cLRINT oIxJWOSHH+Gs1B2n2XB+8IIW+Q1EgWHOE4RwpMriwuxONFabSC559R/5FRLLZHJvQkXqqG40KPJ bUmW7jRMqp6rItpmoBMZBAZdbi1akl+DuVtIHRZ1b/mfFWhV2bI/WLdHK4/rzvWAitDYuE/K2MY lt8raGO0FsgfS0KUFI2LzkK+s3va/EKRpjevjKCigtG/pNgXVL3eeJwH/77ef1IqGt7fh8bKZCh 2gJ2go50BvJw5fjVind04quoc7pGig== X-Google-Smtp-Source: AGHT+IG1I1m2XVOfSuqZfm/rmf5rynCzj1YlXuMgRG7v9ju5Ka252IwQzf3OndcvPL1lDoObnduzIx561Nnp X-Received: by 2002:a05:6214:2526:b0:6e4:34ed:c571 with SMTP id 6a1803df08f44-6e445674b58mr162727486d6.27.1739083760841; Sat, 08 Feb 2025 22:49:20 -0800 (PST) Received: from postal.iol.unh.edu (postal.iol.unh.edu. [132.177.123.84]) by smtp-relay.gmail.com with ESMTPS id 6a1803df08f44-6e45ece43d4sm14576d6.5.2025.02.08.22.49.20 (version=TLS1_2 cipher=ECDHE-ECDSA-AES128-GCM-SHA256 bits=128/128); Sat, 08 Feb 2025 22:49:20 -0800 (PST) X-Relaying-Domain: iol.unh.edu Date: Sat, 08 Feb 2025 22:49:20 -0800 (PST) Message-ID: <67a84ff0.d40a0220.25e728.011cSMTPIN_ADDED_MISSING@mx.google.com> Received: from [172.21.0.6] (unknown [172.18.0.240]) by postal.iol.unh.edu (Postfix) with ESMTP id 852686052483; Sun, 9 Feb 2025 01:49:20 -0500 (EST) Subject: |SUCCESS| [GIT MASTER] 7ce7d3341d7e21c2a81f2fea8e451681d7306d77 From: dpdklab@iol.unh.edu To: Test Report Cc: dpdk-test-reports@iol.unh.edu, Xueming Li , Christian Ehrhardt , Kevin Traynor , Luca Boccassi Content-Type: text/plain X-BeenThere: test-report@dpdk.org X-Mailman-Version: 2.1.29 Precedence: list List-Id: automatic DPDK test reports List-Unsubscribe: , List-Archive: List-Post: List-Help: List-Subscribe: , Errors-To: test-report-bounces@dpdk.org _Testing PASS_ Branch: tags/v22.11 7ce7d3341d7e21c2a81f2fea8e451681d7306d77 --> testing pass Upstream job id: Generic-Unit-Test-DPDK#313325 Test environment and result as below: +-----------------------------+----------------+---------------------------+--------------+------------------------------+ | Environment | dpdk_unit_test | cryptodev_sw_zuc_autotest | lpm_autotest | cryptodev_sw_snow3g_autotest | +=============================+================+===========================+==============+==============================+ | 32-bit Ubuntu 22.04.4 (ARM) | PASS | SKIPPED | SKIPPED | SKIPPED | +-----------------------------+----------------+---------------------------+--------------+------------------------------+ | Debian 12 (arm) | SKIPPED | PASS | SKIPPED | PASS | +-----------------------------+----------------+---------------------------+--------------+------------------------------+ | Ubuntu 20.04 ARM SVE | SKIPPED | SKIPPED | PASS | SKIPPED | +-----------------------------+----------------+---------------------------+--------------+------------------------------+ 32-bit Ubuntu 22.04.4 (ARM) Kernel: 5.15.83+ aarch64 Compiler: gcc (Ubuntu 11.4.0-1ubuntu1~22.04) 11.4.0 Debian 12 (arm) Kernel: Depends on container host Compiler: gcc (Debian 12.2.0-14) 12.2.0 Ubuntu 20.04 ARM SVE Kernel: Depends on container host Compiler: gcc (Ubuntu 10.5.0-1ubuntu1~20.04) 10.5.0 To view detailed results, visit: https://lab.dpdk.org/results/dashboard/tarballs/32513/ UNH-IOL DPDK Community Lab To manage your email subscriptions, visit: https://lab.dpdk.org/results/dashboard/preferences/subscriptions/