From mboxrd@z Thu Jan 1 00:00:00 1970 Return-Path: Received: from mails.dpdk.org (mails.dpdk.org [217.70.189.124]) by inbox.dpdk.org (Postfix) with ESMTP id 2C2AD461D5 for ; Sun, 9 Feb 2025 08:03:24 +0100 (CET) Received: from mails.dpdk.org (localhost [127.0.0.1]) by mails.dpdk.org (Postfix) with ESMTP id 092EE402A4; Sun, 9 Feb 2025 08:03:24 +0100 (CET) Received: from mail-qv1-f100.google.com (mail-qv1-f100.google.com [209.85.219.100]) by mails.dpdk.org (Postfix) with ESMTP id 246AD40280 for ; Sun, 9 Feb 2025 08:03:23 +0100 (CET) Received: by mail-qv1-f100.google.com with SMTP id 6a1803df08f44-6e4554e1c26so8369936d6.0 for ; Sat, 08 Feb 2025 23:03:23 -0800 (PST) DKIM-Signature: v=1; a=rsa-sha256; c=relaxed/relaxed; d=iol.unh.edu; s=unh-iol; t=1739084602; x=1739689402; darn=dpdk.org; h=cc:to:from:subject:message-id:date:from:to:cc:subject:date :message-id:reply-to; bh=58XdF0z1iZ6oEYh9BSxIFFriHlBu6ieKwA/RXcjEvks=; b=ONdwnWsT1o73FNfIycAYsQifmgdk+EECSM6qCSA48Zj2VqCdWLBHo9ZAwJZ1MYsSxY Q3e2Jm0PTlydylyzzgo0fEZSFQCF5BNmTAlGnyoDSU82IFor4F9bzFDkmxWKdsADzQuh gdKjGCu5Tg6M6gD7qHWuWygpQx9BsjZRYM1UM= X-Google-DKIM-Signature: v=1; a=rsa-sha256; c=relaxed/relaxed; d=1e100.net; s=20230601; t=1739084602; x=1739689402; h=cc:to:from:subject:message-id:date:x-gm-message-state:from:to:cc :subject:date:message-id:reply-to; bh=58XdF0z1iZ6oEYh9BSxIFFriHlBu6ieKwA/RXcjEvks=; b=op17oO/ND/XQojY/WpSZxsGI6trAVXhYWFHQdCj7q5l8wXA4XDppUZyIYnERIZ7X/4 c7LwR+amGHXTrYrzdyg3U8HTDEofP3YVutS/udmd2RoP+pE5MXbHy+JlIsvO4+Oi81hr NLlOcv0OvHa9Z0KxmKcOg8mj9f6Pj/9SdNPQXa2Addjn7ctNCUSUy6g14ZE6poH7r5HJ U9OZ6rQTqApJRxd5eijfU26xxWYb2r1IwoEha9QnknhlOwopeQ7ZvKhkGJbOe64eBRhL 0f8v6ENA38r536TiLScwtigVwv4edx96cE0KsfGDs51IVx6qOctYZJAUEsR3e4hZuiYc v6Ew== X-Gm-Message-State: AOJu0YwBAn1451u3MfEjEzsSLC//kJL+6I5X1W5mcCtSvE2y+befoFEO GquwVPIKxF04fJJeXyk33Qo/q7r6qd4NuUEPnitVQmM7xiHF+jfT5sBGUx8OXzbaR72/DOZHSFC VSCDzYW9iIBNjdF46/cKQzeKUPMnAJjJ1 X-Gm-Gg: ASbGncuNOKISNhrsl6wumHOZapUg8lq/NKVH1JP4AXB/8wRdmsvSE38kbGqEIj+d0dn b3uBfomW1N145pIij2Q3RGRil2FJMXWom0fsvGycoibM9cCw1atXkZ/j6fNCIEZ46pMlcU/WjaY t8v/G9HGhNplZoz6jocsa6+48GmM8SyiCD8nr9O2+Ncq3jFWa5fBlODdVHLavzJoAv17B8WkgtK FCJIkZdYC3IuZ7p/5asiB8Fq1Hcke3Xdocgu3fSCY0hVJaKHmyEEgg9XtDluc70fnhzC5BHMrBA BkxeKJ0mB9wq5k1xprodRnVOAOynGQ== X-Google-Smtp-Source: AGHT+IFKqVZMkH65J3SnQomIJHnZlkyiu8gvIJK43sgrQ6E3xGU9t6KoOIEmfDpzvdMkJ6aOxbDrZypLhxLr X-Received: by 2002:a05:6214:f21:b0:6e4:4adb:8c29 with SMTP id 6a1803df08f44-6e44adb94e1mr123663236d6.12.1739084602535; Sat, 08 Feb 2025 23:03:22 -0800 (PST) Received: from postal.iol.unh.edu (postal.iol.unh.edu. [132.177.123.84]) by smtp-relay.gmail.com with ESMTPS id 6a1803df08f44-6e4517571b9sm1532886d6.55.2025.02.08.23.03.22 (version=TLS1_2 cipher=ECDHE-ECDSA-AES128-GCM-SHA256 bits=128/128); Sat, 08 Feb 2025 23:03:22 -0800 (PST) X-Relaying-Domain: iol.unh.edu Date: Sat, 08 Feb 2025 23:03:22 -0800 (PST) Message-ID: <67a8533a.050a0220.268fee.79b7SMTPIN_ADDED_MISSING@mx.google.com> Received: from [172.21.0.7] (unknown [172.18.0.240]) by postal.iol.unh.edu (Postfix) with ESMTP id ECE046052471; Sun, 9 Feb 2025 02:02:51 -0500 (EST) Subject: |SUCCESS| [GIT MASTER] f2eea2f37a82bb73fb01d56350708f7d70e21379 From: dpdklab@iol.unh.edu To: Test Report Cc: dpdk-test-reports@iol.unh.edu, Xueming Li , Christian Ehrhardt , Kevin Traynor , Luca Boccassi Content-Type: text/plain X-BeenThere: test-report@dpdk.org X-Mailman-Version: 2.1.29 Precedence: list List-Id: automatic DPDK test reports List-Unsubscribe: , List-Archive: List-Post: List-Help: List-Subscribe: , Errors-To: test-report-bounces@dpdk.org _Testing PASS_ Branch: tags/v24.11 f2eea2f37a82bb73fb01d56350708f7d70e21379 --> testing pass Upstream job id: Generic-Unit-Test-DPDK#313347 Test environment and result as below: +-----------------------------+----------------+--------------+------------------------------+---------------------------+ | Environment | dpdk_unit_test | lpm_autotest | cryptodev_sw_snow3g_autotest | cryptodev_sw_zuc_autotest | +=============================+================+==============+==============================+===========================+ | 32-bit Ubuntu 22.04.4 (ARM) | PASS | SKIPPED | SKIPPED | SKIPPED | +-----------------------------+----------------+--------------+------------------------------+---------------------------+ | Fedora 40 (ARM) | PASS | SKIPPED | SKIPPED | SKIPPED | +-----------------------------+----------------+--------------+------------------------------+---------------------------+ | Fedora 40 (ARM Clang) | PASS | SKIPPED | SKIPPED | SKIPPED | +-----------------------------+----------------+--------------+------------------------------+---------------------------+ | CentOS Stream 9 (ARM) | PASS | SKIPPED | SKIPPED | SKIPPED | +-----------------------------+----------------+--------------+------------------------------+---------------------------+ | Debian 12 (arm) | PASS | SKIPPED | PASS | PASS | +-----------------------------+----------------+--------------+------------------------------+---------------------------+ | Fedora 41 (ARM) | PASS | SKIPPED | SKIPPED | SKIPPED | +-----------------------------+----------------+--------------+------------------------------+---------------------------+ | Debian 11 (Buster) (ARM) | PASS | SKIPPED | SKIPPED | SKIPPED | +-----------------------------+----------------+--------------+------------------------------+---------------------------+ | RHEL9 (ARM) | PASS | SKIPPED | SKIPPED | SKIPPED | +-----------------------------+----------------+--------------+------------------------------+---------------------------+ | Fedora 41 (ARM Clang) | PASS | SKIPPED | SKIPPED | SKIPPED | +-----------------------------+----------------+--------------+------------------------------+---------------------------+ | Ubuntu 20.04 (ARM) | PASS | SKIPPED | SKIPPED | SKIPPED | +-----------------------------+----------------+--------------+------------------------------+---------------------------+ | Ubuntu 24.04 (ARM) | PASS | SKIPPED | SKIPPED | SKIPPED | +-----------------------------+----------------+--------------+------------------------------+---------------------------+ | Ubuntu 22.04 (ARM) | PASS | SKIPPED | SKIPPED | SKIPPED | +-----------------------------+----------------+--------------+------------------------------+---------------------------+ | Ubuntu 20.04 ARM SVE | SKIPPED | PASS | SKIPPED | SKIPPED | +-----------------------------+----------------+--------------+------------------------------+---------------------------+ 32-bit Ubuntu 22.04.4 (ARM) Kernel: 5.15.83+ aarch64 Compiler: gcc (Ubuntu 11.4.0-1ubuntu1~22.04) 11.4.0 Fedora 40 (ARM) Kernel: Depends on container host Compiler: gcc 14.2.1 20240912 (Red Hat 14.2.1-3) Fedora 40 (ARM Clang) Kernel: Depends on container host Compiler: clang 18.1.8 (Fedora 18.1.8-1.fc40) CentOS Stream 9 (ARM) Kernel: Depends on container host Compiler: gcc 11.5.0 20240719 (Red Hat 11.5.0-2) Debian 12 (arm) Kernel: Depends on container host Compiler: gcc (Debian 12.2.0-14) 12.2.0 Fedora 41 (ARM) Kernel: Depends on container host Compiler: gcc 14.2.1 20240912 (Red Hat 14.2.1-3) Debian 11 (Buster) (ARM) Kernel: Depends on container host Compiler: gcc (Debian 10.2.1-6) 10.2.1 20210110 RHEL9 (ARM) Kernel: Depends on container host Compiler: gcc 11.5.0 20240719 (Red Hat 11.5.0-2) Fedora 41 (ARM Clang) Kernel: Depends on container host Compiler: clang 19.1.5 (Fedora 19.1.5-1.fc41) Ubuntu 20.04 (ARM) Kernel: Depends on container host Compiler: gcc (Ubuntu 9.4.0-1ubuntu1~20.04.2) 9.4.0 Ubuntu 24.04 (ARM) Kernel: Depends on container host Compiler: gcc (Ubuntu 13.3.0-6ubuntu2~24.04) 13.3.0 Ubuntu 22.04 (ARM) Kernel: Depends on container host Compiler: gcc (Ubuntu 11.4.0-1ubuntu1~22.04) 11.4.0 Ubuntu 20.04 ARM SVE Kernel: Depends on container host Compiler: gcc (Ubuntu 10.5.0-1ubuntu1~20.04) 10.5.0 To view detailed results, visit: https://lab.dpdk.org/results/dashboard/tarballs/32512/ UNH-IOL DPDK Community Lab To manage your email subscriptions, visit: https://lab.dpdk.org/results/dashboard/preferences/subscriptions/