From mboxrd@z Thu Jan 1 00:00:00 1970 Return-Path: Received: from mails.dpdk.org (mails.dpdk.org [217.70.189.124]) by inbox.dpdk.org (Postfix) with ESMTP id 7B712461D5 for ; Sun, 9 Feb 2025 08:05:25 +0100 (CET) Received: from mails.dpdk.org (localhost [127.0.0.1]) by mails.dpdk.org (Postfix) with ESMTP id 501AD402A4; Sun, 9 Feb 2025 08:05:25 +0100 (CET) Received: from mail-il1-f226.google.com (mail-il1-f226.google.com [209.85.166.226]) by mails.dpdk.org (Postfix) with ESMTP id 4F3CD40280 for ; Sun, 9 Feb 2025 08:05:24 +0100 (CET) Received: by mail-il1-f226.google.com with SMTP id e9e14a558f8ab-3d03d2bd7d2so35293785ab.0 for ; Sat, 08 Feb 2025 23:05:24 -0800 (PST) DKIM-Signature: v=1; a=rsa-sha256; c=relaxed/relaxed; d=iol.unh.edu; s=unh-iol; t=1739084723; x=1739689523; darn=dpdk.org; h=cc:to:from:subject:message-id:date:from:to:cc:subject:date :message-id:reply-to; bh=lQHIv1ZNtxZzh0msQ/AXnUNPlmMWgP35DO6gbUuxTzs=; b=aIOHvFgq9XPXjEOTS1A3doWxjrZE222oY4zU+YdiaW80BM3uUjKVs1JDy9pqnJfnw+ q3BTY/jRIFvEsrTJEJKeJ7rApSqV/n5tgic+gxBDkI+J2jhOVPhurdEPI85HPy9ht/W7 vppRFOE0uMAtGhJ3w2Fw1wQOHrvSIlty1J3xw= X-Google-DKIM-Signature: v=1; a=rsa-sha256; c=relaxed/relaxed; d=1e100.net; s=20230601; t=1739084723; x=1739689523; h=cc:to:from:subject:message-id:date:x-gm-message-state:from:to:cc :subject:date:message-id:reply-to; bh=lQHIv1ZNtxZzh0msQ/AXnUNPlmMWgP35DO6gbUuxTzs=; b=UaeFVblpYy5hDrTzR2IZ+GSqY2aNZYoXQ4E3GM0jklYcFpwP5AFP9sHCaEVA431G7+ FONUv0CmQ0VmaPhRS6mBz6j/C2jzSn6JKrvhtR7ZqCol7gDSiAFKy146X/z1WpwK0xbZ PO9KtmwNNsmBQS7lssyF0PITo9N1BBURO6FJ/L0SeFGi2KXI/tV4Ap/wf8yr2syGw81V VzTTZz8usu9y740nCGS6Ez4JUoPl0z7FyfPfOZ82prZQgBiBGH6XSH0HBHJVYZdoGnZH cseqssQ7J/T0NJ2YlqO8kHbPRBWSnJuoQgNXRQQsUGjdDKXT9PQEDKUSxOPbHyrS8TNB 1g3Q== X-Gm-Message-State: AOJu0YwF86+918a7aPKOH2p2/JmZG3ZyR2a/wzF0+AKuxvc5fI5bWGQl X4q4rRiedQFyQCMUdFSxlRpgpSEG64tU7mJVxhnKWM7L4gIpyd18oBqdbnP95oUn4e2IFJ4zQGu EMpXvoJZJEJcGkl/enYgkcGr3AR3fcQH9 X-Gm-Gg: ASbGncvDtNh0wwDdDUWSj6HCLExKO3CrAe6SYvgs7UHAy6D2rOZaqEB5TtK+iHg1Ouy CrIzur77rjNv4V5BNM7aDMJ2nx3c2w1m0yhuqKFD/wR/X7b+UG1HNkiQcZSaLL88uj/BN2JTAzB ztzOwsb5L3JxMMgIEoEIXZCMZh/HJMmmaBCerPDXlqfXOuNOcgLnAmJHcaiWL19D503yRe6mNEu NgFekIog2sMBL7RbrKfYXPixWBWSc3tl9i/HWp5UATQcUz5qjk526i1Yqm1KIGMM4CbI1IUWAaI 98wbHELrmgvwuB0tKRI3oYf/GzFO8g== X-Google-Smtp-Source: AGHT+IHxq3PjDRX4CNAorJooYph9bancrMGb6bhOzuHIUhSID8XXzSF3OXELAUz43quw5oAZy46MxbY8tBeX X-Received: by 2002:a05:6e02:1989:b0:3d0:1fc4:edf0 with SMTP id e9e14a558f8ab-3d13df22156mr77553425ab.15.1739084723421; Sat, 08 Feb 2025 23:05:23 -0800 (PST) Received: from postal.iol.unh.edu (postal.iol.unh.edu. [132.177.123.84]) by smtp-relay.gmail.com with ESMTPS id e9e14a558f8ab-3d05e9f05a3sm4715675ab.51.2025.02.08.23.05.23 (version=TLS1_2 cipher=ECDHE-ECDSA-AES128-GCM-SHA256 bits=128/128); Sat, 08 Feb 2025 23:05:23 -0800 (PST) X-Relaying-Domain: iol.unh.edu Date: Sat, 08 Feb 2025 23:05:23 -0800 (PST) Message-ID: <67a853b3.050a0220.1ee672.87a0SMTPIN_ADDED_MISSING@mx.google.com> Received: from [172.21.0.6] (unknown [172.18.0.240]) by postal.iol.unh.edu (Postfix) with ESMTP id CD6316052472; Sun, 9 Feb 2025 02:05:20 -0500 (EST) Subject: |SUCCESS| [GIT MASTER] 7ce7d3341d7e21c2a81f2fea8e451681d7306d77 From: dpdklab@iol.unh.edu To: Test Report Cc: dpdk-test-reports@iol.unh.edu, Xueming Li , Christian Ehrhardt , Kevin Traynor , Luca Boccassi Content-Type: text/plain X-BeenThere: test-report@dpdk.org X-Mailman-Version: 2.1.29 Precedence: list List-Id: automatic DPDK test reports List-Unsubscribe: , List-Archive: List-Post: List-Help: List-Subscribe: , Errors-To: test-report-bounces@dpdk.org _Testing PASS_ Branch: tags/v22.11 7ce7d3341d7e21c2a81f2fea8e451681d7306d77 --> testing pass Upstream job id: Generic-DPDK-Compile-ABI#115495 Test environment and result as below: +-------------------+----------+ | Environment | abi_test | +===================+==========+ | CentOS Stream 9 | PASS | +-------------------+----------+ | Debian Bullseye | PASS | +-------------------+----------+ | Debian 12 | PASS | +-------------------+----------+ | Fedora 40 (Clang) | PASS | +-------------------+----------+ | Fedora 40 | PASS | +-------------------+----------+ | Fedora 41 (Clang) | PASS | +-------------------+----------+ | Fedora 41 | PASS | +-------------------+----------+ | openSUSE Leap 15 | PASS | +-------------------+----------+ | RHEL8 | PASS | +-------------------+----------+ | RHEL9 | PASS | +-------------------+----------+ | Ubuntu 22.04 | PASS | +-------------------+----------+ | Ubuntu 24.04 | PASS | +-------------------+----------+ CentOS Stream 9 Kernel: Depends on container host Compiler: gcc 11.5.0 20240719 (Red Hat 11.5.0-2) Debian Bullseye Kernel: Depends on container host Compiler: gcc (Debian 10.2.1-6) 10.2.1 20210110 Debian 12 Kernel: Depends on container host Compiler: gcc (Debian 12.2.0-14) 12.2.0 Fedora 40 (Clang) Kernel: Depends on container host Compiler: clang 18.1.8 (Fedora 18.1.8-1.fc40) Fedora 40 Kernel: Depends on container host Compiler: gcc 14.2.1 20240912 (Red Hat 14.2.1-3) Fedora 41 (Clang) Kernel: Depends on container host Compiler: clang 19.1.5 (Fedora 19.1.5-1.fc41) Fedora 41 Kernel: Depends on container host Compiler: gcc 14.2.1 20240912 (Red Hat 14.2.1-3) openSUSE Leap 15 Kernel: Depends on container host Compiler: gcc (SUSE Linux) 7.5.0 RHEL8 Kernel: Depends on container host Compiler: gcc 8.5.0 20210514 (Red Hat 8.5.0-22) RHEL9 Kernel: Depends on container host Compiler: gcc 11.5.0 20240719 (Red Hat 11.5.0-2) Ubuntu 22.04 Kernel: Depends on container host Compiler: gcc (Ubuntu 11.4.0-1ubuntu1~22.04) 11.4.0 Ubuntu 24.04 Kernel: Depends on container host Compiler: gcc (Ubuntu 13.3.0-6ubuntu2~24.04) 13.3.0 To view detailed results, visit: https://lab.dpdk.org/results/dashboard/tarballs/32513/ UNH-IOL DPDK Community Lab To manage your email subscriptions, visit: https://lab.dpdk.org/results/dashboard/preferences/subscriptions/