From mboxrd@z Thu Jan 1 00:00:00 1970 Return-Path: Received: from mails.dpdk.org (mails.dpdk.org [217.70.189.124]) by inbox.dpdk.org (Postfix) with ESMTP id 0D986461D6 for ; Sun, 9 Feb 2025 08:14:39 +0100 (CET) Received: from mails.dpdk.org (localhost [127.0.0.1]) by mails.dpdk.org (Postfix) with ESMTP id C8A8F402A4; Sun, 9 Feb 2025 08:14:38 +0100 (CET) Received: from mail-qt1-f225.google.com (mail-qt1-f225.google.com [209.85.160.225]) by mails.dpdk.org (Postfix) with ESMTP id 7695840280 for ; Sun, 9 Feb 2025 08:14:37 +0100 (CET) Received: by mail-qt1-f225.google.com with SMTP id d75a77b69052e-46c7855df10so65089591cf.3 for ; Sat, 08 Feb 2025 23:14:37 -0800 (PST) DKIM-Signature: v=1; a=rsa-sha256; c=relaxed/relaxed; d=iol.unh.edu; s=unh-iol; t=1739085277; x=1739690077; darn=dpdk.org; h=cc:to:from:subject:message-id:date:from:to:cc:subject:date :message-id:reply-to; bh=SoBwkQNAGgQ6nAZBRQgI+/JBhQxcEQhOXxbTE1aXpgQ=; b=H7uuKLNBNkPxa0BaeFFpWe4E5xCBUonM8kQ/UqZlhsyM1JkdAaQmfyiImKC8xKxRzV OTCWJ/4qic0G9abMPVzK0m74QcbuqQO1f7jh/OShJxE/BUuDLmsSjMOetSoPt1Zrq0D5 5USuKCpE3rsTWYP8vlgDtU8G1XSg9xSGrjqtg= X-Google-DKIM-Signature: v=1; a=rsa-sha256; c=relaxed/relaxed; d=1e100.net; s=20230601; t=1739085277; x=1739690077; h=cc:to:from:subject:message-id:date:x-gm-message-state:from:to:cc :subject:date:message-id:reply-to; bh=SoBwkQNAGgQ6nAZBRQgI+/JBhQxcEQhOXxbTE1aXpgQ=; b=iOIFyQ3d6/bgzgS62c9A1w1AIQV5E1SNTkvSC3kwkrIMpSn0F1+R9Bgzim2eysvLq/ eOmIx+e6S1RDk0ygRPulvEwoU315SAZZspwyvakoeyoWIM8R5OjEA4kc0MgC7biYzgai reuHGDb4DoztUrzbp8yBa2evlvdd8XxoUOo3yWQmer3iGoA5al8bESLgflzVZMeUoteW a0XJG8z44kqZCvE1S04k6MINY4SPSUcXVud97EXQ8Qm4XwucBUFXx/tiCna+HzBmm/Dq Q7OIynnOyZzbNDKW4FA97uvHuUfiyF3y9rsr6vzD2XV96vsEyCf1fBC1xlIvb/QvVys7 0sVw== X-Gm-Message-State: AOJu0Ywonqb1H+sCIAJ60xJvGyE8dEBMaH+d9Yq7pei+awjVktleAS1l gG9/69YpPlPJR8oNMWnGE2Wqmq4jUK+Z498+VoLyKFvKO9fcZgrj3asti2byYfzbnh1meSeUHQt iyWMwHs0ateZYXXsJilPK7gT8rK56dNfR X-Gm-Gg: ASbGnct/QffXo/YMTMq3izmtsiJ9UzReenp1G3mUDZiBqPEPzc+lNAPwb22x6BnrwNX w3vXP8FZMbhZSTBUqMbC/gZfLTIy3+9P1L3ag1suaio3E3MhwAxJC9jvvV0EyXTxFX6GEELSLE6 uLVzqoI0l8lx/+LCXdHuv004FG6SIZ1OPlEjPRiokkOi+TbZwmzT0IIoTKpjUSGeIw1lfDhFy9D D5UuhJVHgydOj+lSwhwyU/j2gS63qevrN5YT3ldgh3O6Qiqinw6hB/ill47UR7+SZ4nkTCQbu1C DMoRPw/UyVtd9z0fBdtD8ffC5h7rcw== X-Google-Smtp-Source: AGHT+IEaj0TI2z9BbRwTj+HG4vGS/DQv3d+LVebZl2gBN99jCowH6hc6fNVr2prT2KWYDfnd40IKylETd86E X-Received: by 2002:ac8:5751:0:b0:46c:7142:14c4 with SMTP id d75a77b69052e-471679c73f8mr123055701cf.2.1739085276851; Sat, 08 Feb 2025 23:14:36 -0800 (PST) Received: from postal.iol.unh.edu (postal.iol.unh.edu. [132.177.123.84]) by smtp-relay.gmail.com with ESMTPS id d75a77b69052e-471492764a2sm3490791cf.3.2025.02.08.23.14.36 (version=TLS1_2 cipher=ECDHE-ECDSA-AES128-GCM-SHA256 bits=128/128); Sat, 08 Feb 2025 23:14:36 -0800 (PST) X-Relaying-Domain: iol.unh.edu Date: Sat, 08 Feb 2025 23:14:36 -0800 (PST) Message-ID: <67a855dc.050a0220.3732d6.259aSMTPIN_ADDED_MISSING@mx.google.com> Received: from [172.21.0.5] (unknown [172.18.0.240]) by postal.iol.unh.edu (Postfix) with ESMTP id 71A9F6052471; Sun, 9 Feb 2025 02:14:06 -0500 (EST) Subject: |SUCCESS| [GIT MASTER] c66daa12e76d7b4912cfb7109a761856a7a873ab From: dpdklab@iol.unh.edu To: Test Report Cc: dpdk-test-reports@iol.unh.edu, Xueming Li , Christian Ehrhardt , Kevin Traynor , Luca Boccassi Content-Type: text/plain X-BeenThere: test-report@dpdk.org X-Mailman-Version: 2.1.29 Precedence: list List-Id: automatic DPDK test reports List-Unsubscribe: , List-Archive: List-Post: List-Help: List-Subscribe: , Errors-To: test-report-bounces@dpdk.org _Testing PASS_ Branch: tags/v23.11 c66daa12e76d7b4912cfb7109a761856a7a873ab --> testing pass Upstream job id: Generic-DPDK-Compile-ABI#115507 Test environment and result as below: +-------------------+----------+ | Environment | abi_test | +===================+==========+ | CentOS Stream 9 | PASS | +-------------------+----------+ | Debian Bullseye | PASS | +-------------------+----------+ | Debian 12 | PASS | +-------------------+----------+ | Fedora 40 | PASS | +-------------------+----------+ | Fedora 40 (Clang) | PASS | +-------------------+----------+ | Fedora 41 (Clang) | PASS | +-------------------+----------+ | openSUSE Leap 15 | PASS | +-------------------+----------+ | Fedora 41 | PASS | +-------------------+----------+ | RHEL8 | PASS | +-------------------+----------+ | RHEL9 | PASS | +-------------------+----------+ | Ubuntu 24.04 | PASS | +-------------------+----------+ | Ubuntu 22.04 | PASS | +-------------------+----------+ CentOS Stream 9 Kernel: Depends on container host Compiler: gcc 11.5.0 20240719 (Red Hat 11.5.0-2) Debian Bullseye Kernel: Depends on container host Compiler: gcc (Debian 10.2.1-6) 10.2.1 20210110 Debian 12 Kernel: Depends on container host Compiler: gcc (Debian 12.2.0-14) 12.2.0 Fedora 40 Kernel: Depends on container host Compiler: gcc 14.2.1 20240912 (Red Hat 14.2.1-3) Fedora 40 (Clang) Kernel: Depends on container host Compiler: clang 18.1.8 (Fedora 18.1.8-1.fc40) Fedora 41 (Clang) Kernel: Depends on container host Compiler: clang 19.1.5 (Fedora 19.1.5-1.fc41) openSUSE Leap 15 Kernel: Depends on container host Compiler: gcc (SUSE Linux) 7.5.0 Fedora 41 Kernel: Depends on container host Compiler: gcc 14.2.1 20240912 (Red Hat 14.2.1-3) RHEL8 Kernel: Depends on container host Compiler: gcc 8.5.0 20210514 (Red Hat 8.5.0-22) RHEL9 Kernel: Depends on container host Compiler: gcc 11.5.0 20240719 (Red Hat 11.5.0-2) Ubuntu 24.04 Kernel: Depends on container host Compiler: gcc (Ubuntu 13.3.0-6ubuntu2~24.04) 13.3.0 Ubuntu 22.04 Kernel: Depends on container host Compiler: gcc (Ubuntu 11.4.0-1ubuntu1~22.04) 11.4.0 To view detailed results, visit: https://lab.dpdk.org/results/dashboard/tarballs/32514/ UNH-IOL DPDK Community Lab To manage your email subscriptions, visit: https://lab.dpdk.org/results/dashboard/preferences/subscriptions/