From mboxrd@z Thu Jan 1 00:00:00 1970 Return-Path: Received: from mails.dpdk.org (mails.dpdk.org [217.70.189.124]) by inbox.dpdk.org (Postfix) with ESMTP id 69659461D6 for ; Sun, 9 Feb 2025 08:58:16 +0100 (CET) Received: from mails.dpdk.org (localhost [127.0.0.1]) by mails.dpdk.org (Postfix) with ESMTP id 3B2D8402A4; Sun, 9 Feb 2025 08:58:16 +0100 (CET) Received: from mail-pj1-f98.google.com (mail-pj1-f98.google.com [209.85.216.98]) by mails.dpdk.org (Postfix) with ESMTP id 9114140280 for ; Sun, 9 Feb 2025 08:58:14 +0100 (CET) Received: by mail-pj1-f98.google.com with SMTP id 98e67ed59e1d1-2fa40c0bab2so2194886a91.0 for ; Sat, 08 Feb 2025 23:58:14 -0800 (PST) DKIM-Signature: v=1; a=rsa-sha256; c=relaxed/relaxed; d=iol.unh.edu; s=unh-iol; t=1739087893; x=1739692693; darn=dpdk.org; h=cc:to:from:subject:message-id:date:from:to:cc:subject:date :message-id:reply-to; bh=NYn/2U6t1Q6X/5k1KqHfjk1uMhPKOOh9UPRNg4fouyk=; b=C4GH9eYOfJmLBeKD9/deQ5CyZQ0xmXnkdThBmRAxSWZn2fXQOnOBDymg7pPfWYxXr6 J5tmIXNY8KDBUwLELFR+9S3ibAOyPmcp696dT+BRC3XQbgg8XDRLDPjGG1wfzHNVSrLv RQFQas7GlpLxeirJ96pdw66WG4yLr+ahVuGOE= X-Google-DKIM-Signature: v=1; a=rsa-sha256; c=relaxed/relaxed; d=1e100.net; s=20230601; t=1739087893; x=1739692693; h=cc:to:from:subject:message-id:date:x-gm-message-state:from:to:cc :subject:date:message-id:reply-to; bh=NYn/2U6t1Q6X/5k1KqHfjk1uMhPKOOh9UPRNg4fouyk=; b=hEIVqwEsLRo1HrTAb1q43UOXpTq4v35/PfEMy1/qxVghg7xwfCO+UPVy48fiTUcuFh il3wDho2VTyfax1kk0pxcAY+hwsaA/31q399rbsMaV+yelhgarywl5KAHhRodDPG2xPg WTSm3vCJfIcWxYD5+91FQswbaKcpBydEE8Pf5SvqYAzA3XXI7aAYrgR5b7oOObNN+w5W +hSAecnHFAI+s0zCD498hFnjvZd4cns0L/lGPzMjfyUUouwXCeagT9sHKbIpmeAnm9DR NxEZW2hqU8W4JrumWxp6cH2rzVIKlTzjsqZd00m1blZu8iSTlUGPgU8yCNCmZFfKpmHw afaw== X-Gm-Message-State: AOJu0Yxp79rlzj6IbIbDWrDwpCzzvD8HiiQejP7MGJWXfB+Yu6GKYwlH PyV/x61w5sjal6Xd3Y5zEJ4sfH1PQ8DZSWyYXVKFNR7DcN58vm6kniQDpdtIz2q2o5sYGPA03Y6 rY76kDkSdiGtZpeF2EXeTlDQBBut954Qv X-Gm-Gg: ASbGncss9r7wMPmvrVGhH8js61L64TxXtvd+OZUapGcC3A+CBiU05nDxzzj9VKQ4W0s yJrOnk3CWGjJIeargVFSnTZzGBXJhBKj13ZSmUKt7+O1iz6oQgtDDZ0gODa6onzA7RgvIVlAjfZ gQCnLfTzp2O+EFFT64fS/sjagdtWORw9LdA7IzlBe3GfxbeS0mh94Q0rFxuSx+UGotwBzvSrBLG PzS1thx3TaNTEF+5JyOKprft8+67sOCtHdsFw+zTpLbdiTHI8RlutdZ4ZemMdGGnnQOgkTr13kp YdxZ/UA0dEs3SQ/WXa65mYAs0MFKNA== X-Google-Smtp-Source: AGHT+IHb3yUjZKkmYcpEbKaNzvdhCgf4jhngNrr+Va8Oc/nB/5kXF0xliGF4HiSyIxkZ5PLObodBL7k3JFYg X-Received: by 2002:a17:90b:1b44:b0:2ee:c91a:acf7 with SMTP id 98e67ed59e1d1-2fa23f5ad2bmr14644186a91.4.1739087893598; Sat, 08 Feb 2025 23:58:13 -0800 (PST) Received: from postal.iol.unh.edu (postal.iol.unh.edu. [132.177.123.84]) by smtp-relay.gmail.com with ESMTPS id d9443c01a7336-21f368777d1sm3620985ad.104.2025.02.08.23.58.13 (version=TLS1_2 cipher=ECDHE-ECDSA-AES128-GCM-SHA256 bits=128/128); Sat, 08 Feb 2025 23:58:13 -0800 (PST) X-Relaying-Domain: iol.unh.edu Date: Sat, 08 Feb 2025 23:58:13 -0800 (PST) Message-ID: <67a86015.170a0220.329e1f.1e52SMTPIN_ADDED_MISSING@mx.google.com> Received: from [172.21.0.5] (unknown [172.18.0.240]) by postal.iol.unh.edu (Postfix) with ESMTP id B5DC66052471; Sun, 9 Feb 2025 02:58:12 -0500 (EST) Subject: |SUCCESS| [GIT MASTER] f2eea2f37a82bb73fb01d56350708f7d70e21379 From: dpdklab@iol.unh.edu To: Test Report Cc: dpdk-test-reports@iol.unh.edu, Xueming Li , Christian Ehrhardt , Kevin Traynor , Luca Boccassi Content-Type: text/plain X-BeenThere: test-report@dpdk.org X-Mailman-Version: 2.1.29 Precedence: list List-Id: automatic DPDK test reports List-Unsubscribe: , List-Archive: List-Post: List-Help: List-Subscribe: , Errors-To: test-report-bounces@dpdk.org _Testing PASS_ Branch: tags/v24.11 f2eea2f37a82bb73fb01d56350708f7d70e21379 --> testing pass Upstream job id: Generic-Unit-Test-DPDK#313352 Test environment and result as below: +---------------------+----------------+ | Environment | dpdk_unit_test | +=====================+================+ | Fedora 41 | PASS | +---------------------+----------------+ | CentOS Stream 9 | PASS | +---------------------+----------------+ | Fedora 40 (Clang) | PASS | +---------------------+----------------+ | Fedora 40 | PASS | +---------------------+----------------+ | Debian Bullseye | PASS | +---------------------+----------------+ | Debian 12 | PASS | +---------------------+----------------+ | Ubuntu 20.04 | PASS | +---------------------+----------------+ | RHEL9 | PASS | +---------------------+----------------+ | Ubuntu 22.04 | PASS | +---------------------+----------------+ | Fedora 41 (Clang) | PASS | +---------------------+----------------+ | Ubuntu 24.04 | PASS | +---------------------+----------------+ | RHEL8 | PASS | +---------------------+----------------+ | Windows Server 2022 | PASS | +---------------------+----------------+ Fedora 41 Kernel: Depends on container host Compiler: gcc 14.2.1 20240912 (Red Hat 14.2.1-3) CentOS Stream 9 Kernel: Depends on container host Compiler: gcc 11.5.0 20240719 (Red Hat 11.5.0-2) Fedora 40 (Clang) Kernel: Depends on container host Compiler: clang 18.1.8 (Fedora 18.1.8-1.fc40) Fedora 40 Kernel: Depends on container host Compiler: gcc 14.2.1 20240912 (Red Hat 14.2.1-3) Debian Bullseye Kernel: Depends on container host Compiler: gcc (Debian 10.2.1-6) 10.2.1 20210110 Debian 12 Kernel: Depends on container host Compiler: gcc (Debian 12.2.0-14) 12.2.0 Ubuntu 20.04 Kernel: Depends on container host Compiler: gcc (Ubuntu 9.4.0-1ubuntu1~20.04.2) 9.4.0 RHEL9 Kernel: Depends on container host Compiler: gcc 11.5.0 20240719 (Red Hat 11.5.0-2) Ubuntu 22.04 Kernel: Depends on container host Compiler: gcc (Ubuntu 11.4.0-1ubuntu1~22.04) 11.4.0 Fedora 41 (Clang) Kernel: Depends on container host Compiler: clang 19.1.5 (Fedora 19.1.5-1.fc41) Ubuntu 24.04 Kernel: Depends on container host Compiler: gcc (Ubuntu 13.3.0-6ubuntu2~24.04) 13.3.0 RHEL8 Kernel: Depends on container host Compiler: gcc 8.5.0 20210514 (Red Hat 8.5.0-22) Windows Server 2022 Kernel: 10.0.20348.2031 Compiler: clang 15.0.7, gcc 14.1.0 (MinGW), and MSVC VS 19.39.33521 To view detailed results, visit: https://lab.dpdk.org/results/dashboard/tarballs/32512/ UNH-IOL DPDK Community Lab To manage your email subscriptions, visit: https://lab.dpdk.org/results/dashboard/preferences/subscriptions/