From mboxrd@z Thu Jan 1 00:00:00 1970 Return-Path: Received: from mails.dpdk.org (mails.dpdk.org [217.70.189.124]) by inbox.dpdk.org (Postfix) with ESMTP id 4234F461D6 for ; Sun, 9 Feb 2025 09:05:03 +0100 (CET) Received: from mails.dpdk.org (localhost [127.0.0.1]) by mails.dpdk.org (Postfix) with ESMTP id 0604B402AB; Sun, 9 Feb 2025 09:05:03 +0100 (CET) Received: from mail-il1-f225.google.com (mail-il1-f225.google.com [209.85.166.225]) by mails.dpdk.org (Postfix) with ESMTP id 88CDD40280 for ; Sun, 9 Feb 2025 09:05:01 +0100 (CET) Received: by mail-il1-f225.google.com with SMTP id e9e14a558f8ab-3cfc79a8a95so11454845ab.2 for ; Sun, 09 Feb 2025 00:05:01 -0800 (PST) DKIM-Signature: v=1; a=rsa-sha256; c=relaxed/relaxed; d=iol.unh.edu; s=unh-iol; t=1739088301; x=1739693101; darn=dpdk.org; h=cc:to:from:subject:message-id:date:from:to:cc:subject:date :message-id:reply-to; bh=MVLxaEyVCQK+UuI64w5I6PxBhQfbaJqkuCP+Sc1kK28=; b=h2WQ88xpO3D47OUoa7cW+GVVpY0ANLl8vAEPGMVP1kLPRjf7OVuMqLkqO16c6Gu09K pe1qb+sB0ZlLKeVejEg8/uMqe2R9o8mzrzNSnMb7uQ0643Qpqa9La/MjmAUxd8n1rmPD opUNjaGqoxV+XDAga8rXEsZm2qkIlio+Uotoo= X-Google-DKIM-Signature: v=1; a=rsa-sha256; c=relaxed/relaxed; d=1e100.net; s=20230601; t=1739088301; x=1739693101; h=cc:to:from:subject:message-id:date:x-gm-message-state:from:to:cc :subject:date:message-id:reply-to; bh=MVLxaEyVCQK+UuI64w5I6PxBhQfbaJqkuCP+Sc1kK28=; b=cUhW9yCh0KNGXEDfBvpon+k2CJPqCC+nTrpca8Shb0XSJkdrHOkFM+Fl6tfboRbYeF BikWnR0pi9rfPJsq58GF0Trcynj/oU+7RfJX1794rpvh6R2C5raT0Y9+wYSY4oKZgh8s m97HmPbBbesZeD1Ibax8wg2xvDDU0Txo3SkOSAsx+jY+OE1L29VfMIMrHWqtntI+GmiB XcX0JEVveZlkwLLBgW/afynjhBMtXPOY81ziTXS2NbUKhoIg7u8yiAaxFhk04vUgo237 sSUf/bsF25yuJk4YzaBjauPUGpVCv1xGa8IHBn7z4czhQb9LjzGMHmpeHAMIdkEp/KoL lDYA== X-Gm-Message-State: AOJu0Yyo8f1g23jjKlTQPj4bw1F9g7JB8hO/5cImcTgXOZoV4oRp42FI 25RRHHt44b/321GHcSRfM3Q4BsHui8CTLRV9D9Yf0UuGS1NsskaqHCA1pUWqPqNd6kjkh+1y5KU CUOFOX3aL9F+gxtHhqhYMclteX+KpBS9G X-Gm-Gg: ASbGncvoK9Msk7KYs/Mr8ZOi+x/zYpC8wujA2xcZDuDTD07vY+ep36ffB/fk1cmHmt3 zstdBEdSHsPksWxrBaZhh7xltaPn9LImnqrd5sPvKZLMig++swchatOIjgJoq1tBWJNuHxSM+t8 xx2apcB4Atwv25kwHT5Bog0K2jj33NctPRCDAVorCx+jCRgmywPCSZ6uzgTfa/FbeJaZbiC6uKd pzWufnZj9ZQBHKlBQLToEPihEsH8Y9ousnOu/G+G16R/VXXwYDGfP4kib9xwpYhrmzJGJLVaWzC awQUv/YuZddFexE2CbqB5mRHfbPGVQ== X-Google-Smtp-Source: AGHT+IFr9ZoRvVj2qm9w7FGD4JpuAu58L0ZlbegchBtV+2Rp/ST2J1ZVLW/wNeA6NTjh2H+XHywmr79qAaC0 X-Received: by 2002:a05:6e02:1b0e:b0:3cf:cac9:b02d with SMTP id e9e14a558f8ab-3d13dd609b2mr71129155ab.8.1739088300846; Sun, 09 Feb 2025 00:05:00 -0800 (PST) Received: from postal.iol.unh.edu (postal.iol.unh.edu. [132.177.123.84]) by smtp-relay.gmail.com with ESMTPS id e9e14a558f8ab-3d05e8fd0e6sm4876575ab.17.2025.02.09.00.05.00 (version=TLS1_2 cipher=ECDHE-ECDSA-AES128-GCM-SHA256 bits=128/128); Sun, 09 Feb 2025 00:05:00 -0800 (PST) X-Relaying-Domain: iol.unh.edu Date: Sun, 09 Feb 2025 00:05:00 -0800 (PST) Message-ID: <67a861ac.050a0220.22bd3c.86f6SMTPIN_ADDED_MISSING@mx.google.com> Received: from [172.21.0.5] (unknown [172.18.0.240]) by postal.iol.unh.edu (Postfix) with ESMTP id E74016052471; Sun, 9 Feb 2025 03:04:29 -0500 (EST) Subject: |SUCCESS| [GIT MASTER] c66daa12e76d7b4912cfb7109a761856a7a873ab From: dpdklab@iol.unh.edu To: Test Report Cc: dpdk-test-reports@iol.unh.edu, Xueming Li , Christian Ehrhardt , Kevin Traynor , Luca Boccassi Content-Type: text/plain X-BeenThere: test-report@dpdk.org X-Mailman-Version: 2.1.29 Precedence: list List-Id: automatic DPDK test reports List-Unsubscribe: , List-Archive: List-Post: List-Help: List-Subscribe: , Errors-To: test-report-bounces@dpdk.org _Testing PASS_ Branch: tags/v23.11 c66daa12e76d7b4912cfb7109a761856a7a873ab --> testing pass Upstream job id: Generic-Unit-Test-DPDK#313373 Test environment and result as below: +-----------------------------+------------------------------+---------------------------+--------------+----------------+ | Environment | cryptodev_sw_snow3g_autotest | cryptodev_sw_zuc_autotest | lpm_autotest | dpdk_unit_test | +=============================+==============================+===========================+==============+================+ | Debian 12 (arm) | PASS | PASS | SKIPPED | PASS | +-----------------------------+------------------------------+---------------------------+--------------+----------------+ | Ubuntu 20.04 ARM SVE | SKIPPED | SKIPPED | PASS | SKIPPED | +-----------------------------+------------------------------+---------------------------+--------------+----------------+ | Fedora 40 (ARM Clang) | SKIPPED | SKIPPED | SKIPPED | PASS | +-----------------------------+------------------------------+---------------------------+--------------+----------------+ | Fedora 40 (ARM) | SKIPPED | SKIPPED | SKIPPED | PASS | +-----------------------------+------------------------------+---------------------------+--------------+----------------+ | CentOS Stream 9 (ARM) | SKIPPED | SKIPPED | SKIPPED | PASS | +-----------------------------+------------------------------+---------------------------+--------------+----------------+ | Debian 11 (Buster) (ARM) | SKIPPED | SKIPPED | SKIPPED | PASS | +-----------------------------+------------------------------+---------------------------+--------------+----------------+ | Ubuntu 24.04 (ARM) | SKIPPED | SKIPPED | SKIPPED | PASS | +-----------------------------+------------------------------+---------------------------+--------------+----------------+ | Fedora 41 (ARM Clang) | SKIPPED | SKIPPED | SKIPPED | PASS | +-----------------------------+------------------------------+---------------------------+--------------+----------------+ | Fedora 41 (ARM) | SKIPPED | SKIPPED | SKIPPED | PASS | +-----------------------------+------------------------------+---------------------------+--------------+----------------+ | Ubuntu 20.04 (ARM) | SKIPPED | SKIPPED | SKIPPED | PASS | +-----------------------------+------------------------------+---------------------------+--------------+----------------+ | RHEL9 (ARM) | SKIPPED | SKIPPED | SKIPPED | PASS | +-----------------------------+------------------------------+---------------------------+--------------+----------------+ | Ubuntu 22.04 (ARM) | SKIPPED | SKIPPED | SKIPPED | PASS | +-----------------------------+------------------------------+---------------------------+--------------+----------------+ | 32-bit Ubuntu 22.04.4 (ARM) | SKIPPED | SKIPPED | SKIPPED | PASS | +-----------------------------+------------------------------+---------------------------+--------------+----------------+ Debian 12 (arm) Kernel: Depends on container host Compiler: gcc (Debian 12.2.0-14) 12.2.0 Ubuntu 20.04 ARM SVE Kernel: Depends on container host Compiler: gcc (Ubuntu 10.5.0-1ubuntu1~20.04) 10.5.0 Fedora 40 (ARM Clang) Kernel: Depends on container host Compiler: clang 18.1.8 (Fedora 18.1.8-1.fc40) Fedora 40 (ARM) Kernel: Depends on container host Compiler: gcc 14.2.1 20240912 (Red Hat 14.2.1-3) CentOS Stream 9 (ARM) Kernel: Depends on container host Compiler: gcc 11.5.0 20240719 (Red Hat 11.5.0-2) Debian 11 (Buster) (ARM) Kernel: Depends on container host Compiler: gcc (Debian 10.2.1-6) 10.2.1 20210110 Ubuntu 24.04 (ARM) Kernel: Depends on container host Compiler: gcc (Ubuntu 13.3.0-6ubuntu2~24.04) 13.3.0 Fedora 41 (ARM Clang) Kernel: Depends on container host Compiler: clang 19.1.5 (Fedora 19.1.5-1.fc41) Fedora 41 (ARM) Kernel: Depends on container host Compiler: gcc 14.2.1 20240912 (Red Hat 14.2.1-3) Ubuntu 20.04 (ARM) Kernel: Depends on container host Compiler: gcc (Ubuntu 9.4.0-1ubuntu1~20.04.2) 9.4.0 RHEL9 (ARM) Kernel: Depends on container host Compiler: gcc 11.5.0 20240719 (Red Hat 11.5.0-2) Ubuntu 22.04 (ARM) Kernel: Depends on container host Compiler: gcc (Ubuntu 11.4.0-1ubuntu1~22.04) 11.4.0 32-bit Ubuntu 22.04.4 (ARM) Kernel: 5.15.83+ aarch64 Compiler: gcc (Ubuntu 11.4.0-1ubuntu1~22.04) 11.4.0 To view detailed results, visit: https://lab.dpdk.org/results/dashboard/tarballs/32514/ UNH-IOL DPDK Community Lab To manage your email subscriptions, visit: https://lab.dpdk.org/results/dashboard/preferences/subscriptions/