From mboxrd@z Thu Jan 1 00:00:00 1970 Return-Path: Received: from mails.dpdk.org (mails.dpdk.org [217.70.189.124]) by inbox.dpdk.org (Postfix) with ESMTP id BB7A6461D6 for ; Sun, 9 Feb 2025 09:46:39 +0100 (CET) Received: from mails.dpdk.org (localhost [127.0.0.1]) by mails.dpdk.org (Postfix) with ESMTP id 93217402AB; Sun, 9 Feb 2025 09:46:39 +0100 (CET) Received: from mail-il1-f226.google.com (mail-il1-f226.google.com [209.85.166.226]) by mails.dpdk.org (Postfix) with ESMTP id BD4E240280 for ; Sun, 9 Feb 2025 09:46:37 +0100 (CET) Received: by mail-il1-f226.google.com with SMTP id e9e14a558f8ab-3d14811cabfso5396985ab.1 for ; Sun, 09 Feb 2025 00:46:37 -0800 (PST) DKIM-Signature: v=1; a=rsa-sha256; c=relaxed/relaxed; d=iol.unh.edu; s=unh-iol; t=1739090797; x=1739695597; darn=dpdk.org; h=cc:to:from:subject:message-id:date:from:to:cc:subject:date :message-id:reply-to; bh=KJ747wBUqqTTJ1Q22NlnUBHphMo5VzgDkIMJbX7ONQ0=; b=e7ii5ht2L1+IRrrvqSsupruiBDVsD8NNXtrkBAFGGZnxkhA7+8EOEJRN31S9nlawYM +6Ki5otm/iFcJRIN/sIrgwkyoPYqu5w5ol0kYl3J0p+1uHwCD8RgL9EXzA2MmwIoIBQR GrcOqWyrhI8R40IDFB7Owg6gikRnDAlgrvDm0= X-Google-DKIM-Signature: v=1; a=rsa-sha256; c=relaxed/relaxed; d=1e100.net; s=20230601; t=1739090797; x=1739695597; h=cc:to:from:subject:message-id:date:x-gm-message-state:from:to:cc :subject:date:message-id:reply-to; bh=KJ747wBUqqTTJ1Q22NlnUBHphMo5VzgDkIMJbX7ONQ0=; b=GVUdv539kL+mNtzcy1ZnMiKGXVHPu4zMUCXA/xGDSAzuYn2lHyc1l1cq1FMeTvq3H+ fUn+3amVVS33kfzkTWZh4fcCf+gzYzLcwSRjD7r0z0/oPhxuJu6O1lTLs4LGNCTDl7dy PEFtIcayw7uMg7N/HVGo4xarAeqmZzfFJocAWcImoErklLlEmfnhEtysCoEURI2yrEwr /nsVtUZa6VQQWqlBypV1GwdkArQ0w73DFVGEWFsW3tY7PMECR6UDs1FV/7BK0CNhEDct UMiUS30MHLpPsxQd5Ym1iWjC83GO3NyQJQpbses/BLuH9d/ig+kpTx/Z1fw0H4UX+0VP BrrQ== X-Gm-Message-State: AOJu0YxgdzdkUF9MY6l7bvTonVwf3H1Hvm78gqpW5lEn7cRspPB0mFR4 5xYwPk1BINRaIKGmMY/VYmyJRayBZB/nHOAhpVBHply4qjdQIEhEsMog8/2Oa9de7S+IJkBT3jH Z4ki0RsKkUeOCvZjI6VC95LJU2QGGXSV/ X-Gm-Gg: ASbGncu+b4pipL6gyBlL0nmTmTVUHOXSxGcuh+xvtx7dIGeX6FBLP+NLqilSUXZHnFK camWmLfm4jXTSAcR+9R4vewX+CRTlMP/HRGQ5q0/mHNMFecW2cWbIb0/oonCECiaMnLWDOcHNMW ngGYEZvhMMUaH4Hdp5VwYOhLr6LP2oyAJ6l0xLKpj4QR+NOoji2SkjBj+lqfCY/5pSE7fLzwOGI +4RdPeYzm2c7ir+4/3+3+kgK+O6/QORNxiCxfE3TFJtw9kN7T4X7AxGvdCw8kdBB0XwVxJK77pk zvhcWei+vUyfmiA66sEcuqK9HbLxCQ== X-Google-Smtp-Source: AGHT+IFs0oZcaDaux5V0YG5I08gxmP5jt+BVhUCJFCIFs3Pq9+bm20FRQ8hYR3LwIO47bp44adcFerbbXO3l X-Received: by 2002:a05:6e02:2142:b0:3d0:4b3d:75ba with SMTP id e9e14a558f8ab-3d13dcee89amr68835475ab.4.1739090797003; Sun, 09 Feb 2025 00:46:37 -0800 (PST) Received: from postal.iol.unh.edu (postal.iol.unh.edu. [132.177.123.84]) by smtp-relay.gmail.com with ESMTPS id 8926c6da1cb9f-4ecf9044a82sm965173.69.2025.02.09.00.46.36 (version=TLS1_2 cipher=ECDHE-ECDSA-AES128-GCM-SHA256 bits=128/128); Sun, 09 Feb 2025 00:46:36 -0800 (PST) X-Relaying-Domain: iol.unh.edu Date: Sun, 09 Feb 2025 00:46:36 -0800 (PST) Message-ID: <67a86b6c.050a0220.291219.00c4SMTPIN_ADDED_MISSING@mx.google.com> Received: from [172.17.0.4] (unknown [172.18.0.217]) by postal.iol.unh.edu (Postfix) with ESMTP id 657516052471; Sun, 9 Feb 2025 03:46:34 -0500 (EST) Subject: |SUCCESS| [GIT MASTER] f2eea2f37a82bb73fb01d56350708f7d70e21379 From: dpdklab@iol.unh.edu To: Test Report Cc: dpdk-test-reports@iol.unh.edu, Xueming Li , Christian Ehrhardt , Kevin Traynor , Luca Boccassi Content-Type: text/plain X-BeenThere: test-report@dpdk.org X-Mailman-Version: 2.1.29 Precedence: list List-Id: automatic DPDK test reports List-Unsubscribe: , List-Archive: List-Post: List-Help: List-Subscribe: , Errors-To: test-report-bounces@dpdk.org _Testing PASS_ Branch: tags/v24.11 f2eea2f37a82bb73fb01d56350708f7d70e21379 --> testing pass Upstream job id: Generic-DPDK-Compile-Meson#359778 Test environment and result as below: +------------------------------------+--------------------+ | Environment | dpdk_meson_compile | +====================================+====================+ | Ubuntu 20.04 ARM SVE | PASS | +------------------------------------+--------------------+ | Debian 12 with MUSDK | PASS | +------------------------------------+--------------------+ | RHEL9 (ARM) | PASS | +------------------------------------+--------------------+ | Ubuntu 20.04 ARM GCC Cross Compile | PASS | +------------------------------------+--------------------+ | Fedora 40 (ARM) | PASS | +------------------------------------+--------------------+ | Fedora 41 (ARM) | PASS | +------------------------------------+--------------------+ | Ubuntu 20.04 (ARM) | PASS | +------------------------------------+--------------------+ | Fedora 41 (ARM Clang) | PASS | +------------------------------------+--------------------+ | Fedora 40 (ARM Clang) | PASS | +------------------------------------+--------------------+ | Ubuntu 24.04 (ARM) | PASS | +------------------------------------+--------------------+ | CentOS Stream 9 (ARM) | PASS | +------------------------------------+--------------------+ | Debian 11 (Buster) (ARM) | PASS | +------------------------------------+--------------------+ | Debian 12 (arm) | PASS | +------------------------------------+--------------------+ | Ubuntu 22.04 (ARM) | PASS | +------------------------------------+--------------------+ Ubuntu 20.04 ARM SVE Kernel: Depends on container host Compiler: gcc (Ubuntu 10.5.0-1ubuntu1~20.04) 10.5.0 Debian 12 with MUSDK Kernel: Depends on container host Compiler: gcc (Debian 12.2.0-14) 12.2.0 RHEL9 (ARM) Kernel: Depends on container host Compiler: gcc 11.5.0 20240719 (Red Hat 11.5.0-2) Ubuntu 20.04 ARM GCC Cross Compile Kernel: Depends on container host Compiler: aarch64-linux-gnu-gcc (Ubuntu 9.4.0-1ubuntu1~20.04.2) 9.4.0 Fedora 40 (ARM) Kernel: Depends on container host Compiler: gcc 14.2.1 20240912 (Red Hat 14.2.1-3) Fedora 41 (ARM) Kernel: Depends on container host Compiler: gcc 14.2.1 20240912 (Red Hat 14.2.1-3) Ubuntu 20.04 (ARM) Kernel: Depends on container host Compiler: gcc (Ubuntu 9.4.0-1ubuntu1~20.04.2) 9.4.0 Fedora 41 (ARM Clang) Kernel: Depends on container host Compiler: clang 19.1.5 (Fedora 19.1.5-1.fc41) Fedora 40 (ARM Clang) Kernel: Depends on container host Compiler: clang 18.1.8 (Fedora 18.1.8-1.fc40) Ubuntu 24.04 (ARM) Kernel: Depends on container host Compiler: gcc (Ubuntu 13.3.0-6ubuntu2~24.04) 13.3.0 CentOS Stream 9 (ARM) Kernel: Depends on container host Compiler: gcc 11.5.0 20240719 (Red Hat 11.5.0-2) Debian 11 (Buster) (ARM) Kernel: Depends on container host Compiler: gcc (Debian 10.2.1-6) 10.2.1 20210110 Debian 12 (arm) Kernel: Depends on container host Compiler: gcc (Debian 12.2.0-14) 12.2.0 Ubuntu 22.04 (ARM) Kernel: Depends on container host Compiler: gcc (Ubuntu 11.4.0-1ubuntu1~22.04) 11.4.0 To view detailed results, visit: https://lab.dpdk.org/results/dashboard/tarballs/32512/ UNH-IOL DPDK Community Lab To manage your email subscriptions, visit: https://lab.dpdk.org/results/dashboard/preferences/subscriptions/