From mboxrd@z Thu Jan 1 00:00:00 1970 Return-Path: Received: from mails.dpdk.org (mails.dpdk.org [217.70.189.124]) by inbox.dpdk.org (Postfix) with ESMTP id 05D2D461D6 for ; Sun, 9 Feb 2025 09:48:10 +0100 (CET) Received: from mails.dpdk.org (localhost [127.0.0.1]) by mails.dpdk.org (Postfix) with ESMTP id DA43E402AB; Sun, 9 Feb 2025 09:48:09 +0100 (CET) Received: from mail-qv1-f97.google.com (mail-qv1-f97.google.com [209.85.219.97]) by mails.dpdk.org (Postfix) with ESMTP id C9B7340280 for ; Sun, 9 Feb 2025 09:48:07 +0100 (CET) Received: by mail-qv1-f97.google.com with SMTP id 6a1803df08f44-6e4565be0e0so9094316d6.3 for ; Sun, 09 Feb 2025 00:48:07 -0800 (PST) DKIM-Signature: v=1; a=rsa-sha256; c=relaxed/relaxed; d=iol.unh.edu; s=unh-iol; t=1739090887; x=1739695687; darn=dpdk.org; h=references:in-reply-to:cc:to:from:subject:message-id:date:from:to :cc:subject:date:message-id:reply-to; bh=qt2mgJgvJ5gcypZBzBZbGlAcyaT4IaOlloWaB3HiJdI=; b=PkT5SZmPBLsIOkgMcUjujT6vH6A4bF2GAAIdiwKl00h64bni1QzfkpfRo5cZu7Tr0q 5a8Tvp+rVyQOIw37q6EhpkF0s82ElnPHROonBr9ar1Nrft9opOQvKk2zRQXoqpNubxmr jHmMNoN3tPELCQnlC/xpbAEymRrLE/H03ELsg= X-Google-DKIM-Signature: v=1; a=rsa-sha256; c=relaxed/relaxed; d=1e100.net; s=20230601; t=1739090887; x=1739695687; h=references:in-reply-to:cc:to:from:subject:message-id:date :x-gm-message-state:from:to:cc:subject:date:message-id:reply-to; bh=qt2mgJgvJ5gcypZBzBZbGlAcyaT4IaOlloWaB3HiJdI=; b=Z+I7DvuS9BKUtw7sPyKhtFQKxyUsJcuAHNutDhJvUyJhFCU7B5K/bI8NG6mWL2mxbo u7RDGLshqTzyo9DQGLCw8MGsjwjk3+0jRVNqYHmks7NrAcrs7yd6edIF1PyjW9fiarRk +7Ps+K/vYvzohyxEuInI5ig36TDGoo1+5+cfnWL0tLBzDu5Xd+WL/2oEz0ixhKNpkIhF nApcAxAky+hSbkUB0lwTxc3j3xga7Ru2z6FKVYmAI5r7PXsZ+ggyN8kIrphS3y9Sldu5 fSxgUn/2k/qXFh5wjkXk003Va6kWVu1Rz3CKATjEo9NhobLm10JWEAjR6oAJwP927Dfi 1vBw== X-Gm-Message-State: AOJu0Yx6qrrnV1tXCbc9qkcDnn3fkY/J4CZVQc6cgMwU123SUw66WHk3 WVpRZx2ekUEMUT7e2QIL1ymMUv+M1glFz3yBDuufWMWQ4fhDRGFdeVovfc214+Jbqlj0xefAgwY /PqqU7NmJhirNq8zS1S3Io+sKOfBAcYOEQeX8LVqd X-Gm-Gg: ASbGncsqk6ZV9cxMB+a9xZOvcZ5xXuFk5JTTbc1eZ1etARX3vxMw3Y2p25qAk7BUooM 8C19uaLjOlaY8FXMPdzoWXbKR8Vz+zyVDL8VvyEhhp5+Wk5AHP8Fx7Nprzzc0TAsvFB59wPYpnK LZw60nSTAcDAU3om3gzgz2GIrcoufWBD6LlGfC95DYZqkVI+gTkTFrYaSO0bhB69acoZu2HtvHz KlNr6mX6gOa0/8E0NJl6diM0BYcW2dbMLEKKjPoOftF9tazwy/etqrBh78xKg7++pGjRZy9ErR8 +VL9iy0cSCQ8CnrKJ0F/Vp6cbSj7EA== X-Google-Smtp-Source: AGHT+IEdixkDfwHUT23jSt5ZbsgnmmYxnbJz2ln53+PS3posjGWN60WX5GH2g01WOF03eYKDvjoqWsB1hQcu X-Received: by 2002:a05:6214:1d24:b0:6d8:9c92:6555 with SMTP id 6a1803df08f44-6e4456fea73mr136024066d6.29.1739090887203; Sun, 09 Feb 2025 00:48:07 -0800 (PST) Received: from postal.iol.unh.edu (postal.iol.unh.edu. [132.177.123.84]) by smtp-relay.gmail.com with ESMTPS id 6a1803df08f44-6e450d6fa38sm1952706d6.3.2025.02.09.00.48.07 (version=TLS1_2 cipher=ECDHE-ECDSA-AES128-GCM-SHA256 bits=128/128); Sun, 09 Feb 2025 00:48:07 -0800 (PST) X-Relaying-Domain: iol.unh.edu Date: Sun, 09 Feb 2025 00:48:07 -0800 (PST) Message-ID: <67a86bc7.050a0220.ccca6.9dafSMTPIN_ADDED_MISSING@mx.google.com> Received: from [172.17.0.4] (unknown [172.18.0.217]) by postal.iol.unh.edu (Postfix) with ESMTP id A465F6052472; Sun, 9 Feb 2025 03:48:06 -0500 (EST) Subject: |WARNING| pw151134 [PATCH] [v6] eal: define __SIZEOF_LONG__ when usi From: dpdklab@iol.unh.edu To: Test Report Cc: dpdk-test-reports@iol.unh.edu In-Reply-To: <1738940668-21653-1-git-send-email-andremue@linux.microsoft.com> References: <1738940668-21653-1-git-send-email-andremue@linux.microsoft.com> Content-Type: text/plain X-BeenThere: test-report@dpdk.org X-Mailman-Version: 2.1.29 Precedence: list List-Id: automatic DPDK test reports List-Unsubscribe: , List-Archive: List-Post: List-Help: List-Subscribe: , Errors-To: test-report-bounces@dpdk.org Test-Label: iol-sample-apps-testing Test-Status: WARNING http://dpdk.org/patch/151134 _Testing issues_ Submitter: Andre Muezerie Date: Friday, February 07 2025 15:04:28 DPDK git baseline: Repo:dpdk Branch: master CommitID:388b1abe291544106e406cb0a200b5b0c96fe599 151134 --> testing issues Upstream job id: ACVP-FIPS-testing#8837 Test environment and result as below: +--------------------+----------------------+----------------------+ | Environment | compressdev_zlib_pmd | dpdk_fips_validation | +====================+======================+======================+ | Ubuntu 22.04 (ARM) | PASS | SKIPPED | +--------------------+----------------------+----------------------+ | Ubuntu 22.04 | PASS | SKIPPED | +--------------------+----------------------+----------------------+ | Ubuntu 20.04 | SKIPPED | WARN | +--------------------+----------------------+----------------------+ ==== 20 line log output for Ubuntu 20.04 (dpdk_fips_validation): ==== INFO:root:Using response file... INFO:root:Uploading response file... INFO:root:Fetching verdict... INFO:root:Downloading verdict for vector set 2879709 INFO:root:Vector set verdict not ready, waiting 30 seconds... INFO:root:Vector set verdict not ready, waiting 30 seconds... INFO:root:Done INFO:root:Using response file... INFO:root:Uploading response file... INFO:root:Fetching verdict... INFO:root:Downloading verdict for vector set 2879710 INFO:root:Vector set verdict not ready, waiting 30 seconds... INFO:root:Vector set verdict not ready, waiting 30 seconds... INFO:root:Done INFO:root:Using response file... INFO:root:Uploading response file... INFO:root:Fetching verdict... INFO:root:Downloading verdict for vector set 2879711 INFO:root:Vector set verdict not ready, waiting 30 seconds... INFO:root:Done ==== End log output ==== Ubuntu 22.04 (ARM) Kernel: 5.15.0-97-generic Compiler: gcc gcc (Ubuntu 11.4.0-1ubuntu1~22.04) 11.4.0 Ubuntu 22.04 Kernel: 5.15.0-100-generic Compiler: gcc gcc (Ubuntu 11.4.0-1ubuntu1~22.04) 11.4.0 Ubuntu 20.04 Kernel: Depends on container host Compiler: gcc (Ubuntu 9.4.0-1ubuntu1~20.04.2) 9.4.0 To view detailed results, visit: https://lab.dpdk.org/results/dashboard/patchsets/32528/ UNH-IOL DPDK Community Lab To manage your email subscriptions, visit: https://lab.dpdk.org/results/dashboard/preferences/subscriptions/