From mboxrd@z Thu Jan 1 00:00:00 1970 Return-Path: Received: from mails.dpdk.org (mails.dpdk.org [217.70.189.124]) by inbox.dpdk.org (Postfix) with ESMTP id 52CFE461DA for ; Sun, 9 Feb 2025 10:18:51 +0100 (CET) Received: from mails.dpdk.org (localhost [127.0.0.1]) by mails.dpdk.org (Postfix) with ESMTP id 241C4402AB; Sun, 9 Feb 2025 10:18:51 +0100 (CET) Received: from mail-pl1-f226.google.com (mail-pl1-f226.google.com [209.85.214.226]) by mails.dpdk.org (Postfix) with ESMTP id EFB3340280 for ; Sun, 9 Feb 2025 10:18:49 +0100 (CET) Received: by mail-pl1-f226.google.com with SMTP id d9443c01a7336-21f62cc4088so23542285ad.3 for ; Sun, 09 Feb 2025 01:18:49 -0800 (PST) DKIM-Signature: v=1; a=rsa-sha256; c=relaxed/relaxed; d=iol.unh.edu; s=unh-iol; t=1739092729; x=1739697529; darn=dpdk.org; h=references:in-reply-to:cc:to:from:subject:message-id:date:from:to :cc:subject:date:message-id:reply-to; bh=hRbKo9qgYGGk52eW3u2Sd++JbtvO5QJwkp3m+Eb7qMg=; b=cXqYVg6DrIBEQdG38CStJPXXiFcJNOQSfoxTa9MWsa832f/Q+cgugwX4bkUwP1X+kO HjWUdq76sBiywQqxfoVY/ez7rU+KHTK684sLP4Bfz6Vx0Xra+qGX5OiPVTZhwDRcWwKw J/WSAMumoQ9hirW4SbEKL821FjSgwVeA4oZms= X-Google-DKIM-Signature: v=1; a=rsa-sha256; c=relaxed/relaxed; d=1e100.net; s=20230601; t=1739092729; x=1739697529; h=references:in-reply-to:cc:to:from:subject:message-id:date :x-gm-message-state:from:to:cc:subject:date:message-id:reply-to; bh=hRbKo9qgYGGk52eW3u2Sd++JbtvO5QJwkp3m+Eb7qMg=; b=rJnK5nYxkw7F1d74eeBOhnIqdbHIvZzR+OFMacfqdZRu4QvcOYyGTwvS5q5VUEpjFi dSyz8JbOXW7yWizTbb1wDEvjJAM3bWZzXXtTsl0jOsByk/p6/DIpuSg5Y5MJZg/OXfzj BF4Dgk6X7yYUtwsEk4rBworenxu7yzGBDqtFWtDP4v1Gb5KhYXYO8V5qoCaUzWs60QfJ /p0PsuURM8h0Wd99nas2bg/ii9Zu96jyj0znDQsLvS8BEgIEtnRWbAkQBoDaE9ndeJq3 RXKUBYnjXF20hqtcodPCZim08vyX+fuTMizH8i+Wv8PcpkUdnGLgOg1ovdzYCCA05DqN FVIg== X-Gm-Message-State: AOJu0YzBQR3qmWxeFrT3TStRqmbwQjxhScUM0I4Y8hOhhcRZorzY0DaM U6a7dM1zhyv8gjgSwq41i+hCWItzFYfIZZ0MIR+6bBT9RUep8TDRUIhOKdFdvnfvJrYnj5ptB08 a3Q7ZHQ/7MNdaDoeXZLurmEtfxQa2lvgRSH4AVi/v X-Gm-Gg: ASbGncsxqDY2VHpjZKpY54nFaZvSQeWaWnAdHM2VM5yIDPlM9um3hSwzPt6/vao26v4 uRfF3bL+brKVF1ip8m3U8LZUmBEvdycgZU3OrsEIV69gJw5J1uHe7Ipdpv694MaAZkzDOYCF3Ln JnJGyB1Mg7xYqy7/PhzW/VW4pkOKuXRpnRZOOhhogZNlX5YmBm4p1cV4lRqln+ZfD1qh3wZ1obR ZAAUWz4DPfGDw/JjVDvPPVsTkYz3b5aEv8u5hb7neo/a0B6LyC+1LzCXMcnsxdSzZjgz+FB11Xp gTfmM9amcyu/bPXFZ8OUXEguUpN0jQ== X-Google-Smtp-Source: AGHT+IEXzIK+jREYUfVJZ4m4fm2RrumEtZf+LcfJ+5RBRP0oc68Idy6eT/cmCt1jZTcqCc4fvnGq7Xq81zx2 X-Received: by 2002:a17:902:d592:b0:21c:fb6:7c3c with SMTP id d9443c01a7336-21f4e6afbe2mr150468355ad.17.1739092729117; Sun, 09 Feb 2025 01:18:49 -0800 (PST) Received: from postal.iol.unh.edu (postal.iol.unh.edu. [132.177.123.84]) by smtp-relay.gmail.com with ESMTPS id d9443c01a7336-21f3650c512sm4236705ad.3.2025.02.09.01.18.49 (version=TLS1_2 cipher=ECDHE-ECDSA-AES128-GCM-SHA256 bits=128/128); Sun, 09 Feb 2025 01:18:49 -0800 (PST) X-Relaying-Domain: iol.unh.edu Date: Sun, 09 Feb 2025 01:18:49 -0800 (PST) Message-ID: <67a872f9.170a0220.77c00.583bSMTPIN_ADDED_MISSING@mx.google.com> Received: from [172.17.0.3] (unknown [172.18.0.217]) by postal.iol.unh.edu (Postfix) with ESMTP id 32AB96052471; Sun, 9 Feb 2025 04:18:18 -0500 (EST) Subject: |SUCCESS| pw151137 [PATCH] devtools: ignore .gitignore in SPDX check From: dpdklab@iol.unh.edu To: Test Report Cc: dpdk-test-reports@iol.unh.edu In-Reply-To: <20250207182634.168820-1-stephen@networkplumber.org> References: <20250207182634.168820-1-stephen@networkplumber.org> Content-Type: text/plain X-BeenThere: test-report@dpdk.org X-Mailman-Version: 2.1.29 Precedence: list List-Id: automatic DPDK test reports List-Unsubscribe: , List-Archive: List-Post: List-Help: List-Subscribe: , Errors-To: test-report-bounces@dpdk.org Test-Label: iol-sample-apps-testing Test-Status: SUCCESS http://dpdk.org/patch/151137 _Testing PASS_ Submitter: Stephen Hemminger Date: Friday, February 07 2025 18:26:34 DPDK git baseline: Repo:dpdk Branch: master CommitID:388b1abe291544106e406cb0a200b5b0c96fe599 151137 --> testing pass Upstream job id: ACVP-FIPS-testing#8838 Test environment and result as below: +--------------------+----------------------+----------------------+ | Environment | compressdev_zlib_pmd | dpdk_fips_validation | +====================+======================+======================+ | Ubuntu 22.04 (ARM) | PASS | SKIPPED | +--------------------+----------------------+----------------------+ | Ubuntu 22.04 | PASS | SKIPPED | +--------------------+----------------------+----------------------+ | Ubuntu 20.04 | SKIPPED | PASS | +--------------------+----------------------+----------------------+ Ubuntu 22.04 (ARM) Kernel: 5.15.0-97-generic Compiler: gcc gcc (Ubuntu 11.4.0-1ubuntu1~22.04) 11.4.0 Ubuntu 22.04 Kernel: 5.15.0-100-generic Compiler: gcc gcc (Ubuntu 11.4.0-1ubuntu1~22.04) 11.4.0 Ubuntu 20.04 Kernel: Depends on container host Compiler: gcc (Ubuntu 9.4.0-1ubuntu1~20.04.2) 9.4.0 To view detailed results, visit: https://lab.dpdk.org/results/dashboard/patchsets/32531/ UNH-IOL DPDK Community Lab To manage your email subscriptions, visit: https://lab.dpdk.org/results/dashboard/preferences/subscriptions/