From mboxrd@z Thu Jan 1 00:00:00 1970 Return-Path: Received: from mails.dpdk.org (mails.dpdk.org [217.70.189.124]) by inbox.dpdk.org (Postfix) with ESMTP id 7B23F461DA for ; Sun, 9 Feb 2025 10:20:51 +0100 (CET) Received: from mails.dpdk.org (localhost [127.0.0.1]) by mails.dpdk.org (Postfix) with ESMTP id 63A16402AB; Sun, 9 Feb 2025 10:20:51 +0100 (CET) Received: from mail-pj1-f100.google.com (mail-pj1-f100.google.com [209.85.216.100]) by mails.dpdk.org (Postfix) with ESMTP id 66E6740280 for ; Sun, 9 Feb 2025 10:20:49 +0100 (CET) Received: by mail-pj1-f100.google.com with SMTP id 98e67ed59e1d1-2fa2c456816so2729175a91.1 for ; Sun, 09 Feb 2025 01:20:49 -0800 (PST) DKIM-Signature: v=1; a=rsa-sha256; c=relaxed/relaxed; d=iol.unh.edu; s=unh-iol; t=1739092848; x=1739697648; darn=dpdk.org; h=cc:to:from:subject:message-id:date:from:to:cc:subject:date :message-id:reply-to; bh=VPltPdToLSeeEmG1tqJkXFDCg71cJZjAarGcNn0sp94=; b=f6mYl4Yug+lp99y7mdKRr7AJFRHz2a/eWopra/pI3VW71GUO3Svky+w7XACAYF5hfw Y0rUKhMR2HC7zcfNci6bjhHSXcrCZvqVGW7EyHz6htU0pcV4Yen3swvjxQ0sG4U3PtxE 58rdh8Fr0MLE8JS2AKX7oyewxrdk+S9Ugl5YU= X-Google-DKIM-Signature: v=1; a=rsa-sha256; c=relaxed/relaxed; d=1e100.net; s=20230601; t=1739092848; x=1739697648; h=cc:to:from:subject:message-id:date:x-gm-message-state:from:to:cc :subject:date:message-id:reply-to; bh=VPltPdToLSeeEmG1tqJkXFDCg71cJZjAarGcNn0sp94=; b=X8O3mlvU0KU2vV3leQj3bxd/kaNaEHuhjqmD2M3Sn0J9zuiuLE0IdkfcGMXPe/m21R iTdPOqsgpxRLYIyf5rnSeVW7TyUKhILX1+ZRi1PYHauqSiLJ6E108g/o6FRBPuvqSLwH +SRyF518AsCt9t0N6GIlkKiw2cmAdAUO6enm5LlpZqwEtXpqX2C3F5FKqVv0IkjtDDb6 H9v9ACzfGFBcI3ydSgTMuDmh2CCINAyTlAG4/4QLE1TdA688KXUBPCC/bxp/oK2Huq0r y3bZzjGPNQzWtcz+0OPQrYYDIWouhoQVQMgSmiNZwuuTIOmf8z26UQ9b6PiQED1MSuUM Lb5A== X-Gm-Message-State: AOJu0Yws+sRZRTg5YFpVrnIBTbLJI4Lhl4HIXdiXSV/xmCYF9UaqYxDG JgIMzwIOXL8I03Kxl0EO0dfQ+6NWVuk6VqOQGg2Q10xQWp/PmUw3VtoKG4nXEnlPecwxK3qqbwo 7dBy1f/qry6YcqB+LPH3/ZAGzs+yCp8SS X-Gm-Gg: ASbGncsTtLGdbbFIpIY6A4A0r9tIR+BdWq8vNk4kV3fZXgmEBtC5YiQWmQnGSQ7CRB6 DZxZWU0bl57Ond35OsFmfymJHK2k7QeHDUQLUSOvRTA7R0xGlPrNoqnKSPewhuTvhrk9jMlZcXx Z2pyosLJSwBNPzXcNBwNEyAiF7kL/uI2XUX6/KLUOekUhmt6WsIMaVbAqzijAMruNgzwTTi+rxk gUI4OpvqJEsnsaX88Vf/vEkLEEdbcOA5VwhGObtg1myC8ZPiVAXIIQHrY/GC0zRT5pJO0neBTho IDRETlhyxeWPJOutrPqVjXwNT5g0Xw== X-Google-Smtp-Source: AGHT+IE8IQQXrC7sUC3nn95nPEBBsAdNkpGbkSw8bIVG1si8GiJz/hX+x1wVvUv/g4oo2u/j5RdqLrBAqeFv X-Received: by 2002:a17:90b:1955:b0:2ee:e518:c1cb with SMTP id 98e67ed59e1d1-2fa23f42651mr14460681a91.7.1739092848467; Sun, 09 Feb 2025 01:20:48 -0800 (PST) Received: from postal.iol.unh.edu (postal.iol.unh.edu. [132.177.123.84]) by smtp-relay.gmail.com with ESMTPS id d9443c01a7336-21f3688af58sm4014635ad.115.2025.02.09.01.20.48 (version=TLS1_2 cipher=ECDHE-ECDSA-AES128-GCM-SHA256 bits=128/128); Sun, 09 Feb 2025 01:20:48 -0800 (PST) X-Relaying-Domain: iol.unh.edu Date: Sun, 09 Feb 2025 01:20:48 -0800 (PST) Message-ID: <67a87370.170a0220.18e7.4005SMTPIN_ADDED_MISSING@mx.google.com> Received: from [172.17.0.3] (unknown [172.18.0.217]) by postal.iol.unh.edu (Postfix) with ESMTP id E06856052471; Sun, 9 Feb 2025 04:20:47 -0500 (EST) Subject: |SUCCESS| [GIT MASTER] c66daa12e76d7b4912cfb7109a761856a7a873ab From: dpdklab@iol.unh.edu To: Test Report Cc: dpdk-test-reports@iol.unh.edu, Xueming Li , Christian Ehrhardt , Kevin Traynor , Luca Boccassi Content-Type: text/plain X-BeenThere: test-report@dpdk.org X-Mailman-Version: 2.1.29 Precedence: list List-Id: automatic DPDK test reports List-Unsubscribe: , List-Archive: List-Post: List-Help: List-Subscribe: , Errors-To: test-report-bounces@dpdk.org _Testing PASS_ Branch: tags/v23.11 c66daa12e76d7b4912cfb7109a761856a7a873ab --> testing pass Upstream job id: Generic-DPDK-Compile-Meson#359815 Test environment and result as below: +------------------------------------+--------------------+ | Environment | dpdk_meson_compile | +====================================+====================+ | RHEL9 (ARM) | PASS | +------------------------------------+--------------------+ | Ubuntu 20.04 ARM SVE | PASS | +------------------------------------+--------------------+ | Ubuntu 20.04 ARM GCC Cross Compile | PASS | +------------------------------------+--------------------+ | Debian 12 with MUSDK | PASS | +------------------------------------+--------------------+ | Fedora 40 (ARM Clang) | PASS | +------------------------------------+--------------------+ | CentOS Stream 9 (ARM) | PASS | +------------------------------------+--------------------+ | Fedora 41 (ARM Clang) | PASS | +------------------------------------+--------------------+ | Fedora 40 (ARM) | PASS | +------------------------------------+--------------------+ | Ubuntu 24.04 (ARM) | PASS | +------------------------------------+--------------------+ | Fedora 41 (ARM) | PASS | +------------------------------------+--------------------+ | Ubuntu 20.04 (ARM) | PASS | +------------------------------------+--------------------+ | Ubuntu 22.04 (ARM) | PASS | +------------------------------------+--------------------+ | Debian 12 (arm) | PASS | +------------------------------------+--------------------+ | Debian 11 (Buster) (ARM) | PASS | +------------------------------------+--------------------+ RHEL9 (ARM) Kernel: Depends on container host Compiler: gcc 11.5.0 20240719 (Red Hat 11.5.0-2) Ubuntu 20.04 ARM SVE Kernel: Depends on container host Compiler: gcc (Ubuntu 10.5.0-1ubuntu1~20.04) 10.5.0 Ubuntu 20.04 ARM GCC Cross Compile Kernel: Depends on container host Compiler: aarch64-linux-gnu-gcc (Ubuntu 9.4.0-1ubuntu1~20.04.2) 9.4.0 Debian 12 with MUSDK Kernel: Depends on container host Compiler: gcc (Debian 12.2.0-14) 12.2.0 Fedora 40 (ARM Clang) Kernel: Depends on container host Compiler: clang 18.1.8 (Fedora 18.1.8-1.fc40) CentOS Stream 9 (ARM) Kernel: Depends on container host Compiler: gcc 11.5.0 20240719 (Red Hat 11.5.0-2) Fedora 41 (ARM Clang) Kernel: Depends on container host Compiler: clang 19.1.5 (Fedora 19.1.5-1.fc41) Fedora 40 (ARM) Kernel: Depends on container host Compiler: gcc 14.2.1 20240912 (Red Hat 14.2.1-3) Ubuntu 24.04 (ARM) Kernel: Depends on container host Compiler: gcc (Ubuntu 13.3.0-6ubuntu2~24.04) 13.3.0 Fedora 41 (ARM) Kernel: Depends on container host Compiler: gcc 14.2.1 20240912 (Red Hat 14.2.1-3) Ubuntu 20.04 (ARM) Kernel: Depends on container host Compiler: gcc (Ubuntu 9.4.0-1ubuntu1~20.04.2) 9.4.0 Ubuntu 22.04 (ARM) Kernel: Depends on container host Compiler: gcc (Ubuntu 11.4.0-1ubuntu1~22.04) 11.4.0 Debian 12 (arm) Kernel: Depends on container host Compiler: gcc (Debian 12.2.0-14) 12.2.0 Debian 11 (Buster) (ARM) Kernel: Depends on container host Compiler: gcc (Debian 10.2.1-6) 10.2.1 20210110 To view detailed results, visit: https://lab.dpdk.org/results/dashboard/tarballs/32514/ UNH-IOL DPDK Community Lab To manage your email subscriptions, visit: https://lab.dpdk.org/results/dashboard/preferences/subscriptions/