From mboxrd@z Thu Jan 1 00:00:00 1970 Return-Path: Received: from mails.dpdk.org (mails.dpdk.org [217.70.189.124]) by inbox.dpdk.org (Postfix) with ESMTP id AFBFB461D8 for ; Sun, 9 Feb 2025 10:45:34 +0100 (CET) Received: from mails.dpdk.org (localhost [127.0.0.1]) by mails.dpdk.org (Postfix) with ESMTP id 867AA402AB; Sun, 9 Feb 2025 10:45:34 +0100 (CET) Received: from mail-pl1-f227.google.com (mail-pl1-f227.google.com [209.85.214.227]) by mails.dpdk.org (Postfix) with ESMTP id 10E7840280 for ; Sun, 9 Feb 2025 10:45:33 +0100 (CET) Received: by mail-pl1-f227.google.com with SMTP id d9443c01a7336-219f8263ae0so62436525ad.0 for ; Sun, 09 Feb 2025 01:45:32 -0800 (PST) DKIM-Signature: v=1; a=rsa-sha256; c=relaxed/relaxed; d=iol.unh.edu; s=unh-iol; t=1739094332; x=1739699132; darn=dpdk.org; h=references:in-reply-to:cc:to:from:subject:message-id:date:from:to :cc:subject:date:message-id:reply-to; bh=tyAoUnXG60mQVXKk5mnzLQNDvF1ZsXGvu0wJvtZtJ/U=; b=Z9xx1e1qDI3qDtO1mO2Lw3mKZlmyFBZJbu1oH0WP/Ik19odl/fnCcxhpiQP4d34TeA 3U+Q36zgG4rFt4NSsp4bz4SZbvx60BL2onXA/7Q+GkFpo9OjPeLjULnETOWMSHJkVuRc anGB2/5FqlyEbJKnVlYykSqVxbAjxbxpM5mP8= X-Google-DKIM-Signature: v=1; a=rsa-sha256; c=relaxed/relaxed; d=1e100.net; s=20230601; t=1739094332; x=1739699132; h=references:in-reply-to:cc:to:from:subject:message-id:date :x-gm-message-state:from:to:cc:subject:date:message-id:reply-to; bh=tyAoUnXG60mQVXKk5mnzLQNDvF1ZsXGvu0wJvtZtJ/U=; b=BlefJKUrq+fD6E5QbdUR9oMBSUZAefrPYwitDZVpvdjqso2d19XiT2V1IapEzr1psi enkcmwi93Svt5ZbCVGDaeaV2rIvREvA9XTTy8kkmjrGDlQSafl2Y7y4KuQmqo40Ya6vP Oq04e/OTag22lJo12pXknmKqVz3iSymJgG6q4uSafp7sLkTcn3ExfON1MGtD0sCg/EMy TluVqAuH6YXESvdsfDk9o0mVHJ0A8exSYxjxfFYtA53847gt41miduK9ur8OO+sCmQ7S 6NUDqR0ihqEddgVcBV1KIzNnlbQtVQrDTKX0/VHRZGq+q3MBtBFdMSFaXEWe6WG0FVJQ jDNw== X-Gm-Message-State: AOJu0YzakafUapdXQFP653YTbgYjcG/XZuzpo+JDud/pi7jrpbuvJARL 9i2mT3JSV4WKqWX4FYJI/kCugHXm2GkBeDWkcOKGuV/24dBx7d88Q0nCeIMvcDH3X9DoQE5l7VY Nqx8I5EzbVFrcfg1NcvGh3gW/rr33CXPMqc88zefz X-Gm-Gg: ASbGncsJGRhoA5Ui0DsjW083uF79fyoGu/Mluxrr6XRvHBgE4hXiIgBaJQcZOTZAVVk Ht8J+ujLalSHEgtQyadrqKh7zYVtu6urYIzsff3lg5CpYOhbcxeDif+rCaVjRMPMf68fNtST/bw mIuDEOsR4gU+XPxyY8z3EOYO4D1lbIevbXravmF8/NlfBtbQ1jfUmo6wdPSTs1Csv0EAM6cSCZM dEkpcNuAZgcxipvT6Zisq17P8ItwG1dXrKHySNQuJu0xbWD7QHnYWnvMBseY4Sm+0nD7ACBubHL Ryle0Hf6i+pjiIQpL0Vs2TS25jXN8A== X-Google-Smtp-Source: AGHT+IGhhCyP0dncQytQgp9hC8GFkSnwHtOmX+lRLKr06fDjFydfDrpAH92icqqU1zs3ShyobAugBZEi0UZZ X-Received: by 2002:a17:903:2381:b0:216:31c2:3db8 with SMTP id d9443c01a7336-21f4e72615dmr150410685ad.37.1739094331967; Sun, 09 Feb 2025 01:45:31 -0800 (PST) Received: from postal.iol.unh.edu (postal.iol.unh.edu. [132.177.123.84]) by smtp-relay.gmail.com with ESMTPS id d9443c01a7336-21f3658d28bsm3980645ad.63.2025.02.09.01.45.31 (version=TLS1_2 cipher=ECDHE-ECDSA-AES128-GCM-SHA256 bits=128/128); Sun, 09 Feb 2025 01:45:31 -0800 (PST) X-Relaying-Domain: iol.unh.edu Date: Sun, 09 Feb 2025 01:45:31 -0800 (PST) Message-ID: <67a8793b.170a0220.12578a.3c5aSMTPIN_ADDED_MISSING@mx.google.com> Received: from [172.17.0.3] (unknown [172.18.0.217]) by postal.iol.unh.edu (Postfix) with ESMTP id 22F736052471; Sun, 9 Feb 2025 04:45:31 -0500 (EST) Subject: |SUCCESS| pw151136 [PATCH] [v5] net: add thread-safe crc api From: dpdklab@iol.unh.edu To: Test Report Cc: dpdk-test-reports@iol.unh.edu In-Reply-To: <20250207182443.9775-1-arkadiuszx.kusztal@intel.com> References: <20250207182443.9775-1-arkadiuszx.kusztal@intel.com> Content-Type: text/plain X-BeenThere: test-report@dpdk.org X-Mailman-Version: 2.1.29 Precedence: list List-Id: automatic DPDK test reports List-Unsubscribe: , List-Archive: List-Post: List-Help: List-Subscribe: , Errors-To: test-report-bounces@dpdk.org Test-Label: iol-sample-apps-testing Test-Status: SUCCESS http://dpdk.org/patch/151136 _Testing PASS_ Submitter: Arkadiusz Kusztal Date: Friday, February 07 2025 18:24:43 DPDK git baseline: Repo:dpdk Branch: master CommitID:7125636162d67b1c40ba6802a3ff4466d125d243 151136 --> testing pass Upstream job id: ACVP-FIPS-testing#8839 Test environment and result as below: +--------------------+----------------------+----------------------+ | Environment | compressdev_zlib_pmd | dpdk_fips_validation | +====================+======================+======================+ | Ubuntu 22.04 (ARM) | PASS | SKIPPED | +--------------------+----------------------+----------------------+ | Ubuntu 22.04 | PASS | SKIPPED | +--------------------+----------------------+----------------------+ | Ubuntu 20.04 | SKIPPED | PASS | +--------------------+----------------------+----------------------+ Ubuntu 22.04 (ARM) Kernel: 5.15.0-97-generic Compiler: gcc gcc (Ubuntu 11.4.0-1ubuntu1~22.04) 11.4.0 Ubuntu 22.04 Kernel: 5.15.0-100-generic Compiler: gcc gcc (Ubuntu 11.4.0-1ubuntu1~22.04) 11.4.0 Ubuntu 20.04 Kernel: Depends on container host Compiler: gcc (Ubuntu 9.4.0-1ubuntu1~20.04.2) 9.4.0 To view detailed results, visit: https://lab.dpdk.org/results/dashboard/patchsets/32530/ UNH-IOL DPDK Community Lab To manage your email subscriptions, visit: https://lab.dpdk.org/results/dashboard/preferences/subscriptions/