From mboxrd@z Thu Jan 1 00:00:00 1970 Return-Path: Received: from mails.dpdk.org (mails.dpdk.org [217.70.189.124]) by inbox.dpdk.org (Postfix) with ESMTP id 9628B461D8 for ; Sun, 9 Feb 2025 10:53:53 +0100 (CET) Received: from mails.dpdk.org (localhost [127.0.0.1]) by mails.dpdk.org (Postfix) with ESMTP id 72D84402AB; Sun, 9 Feb 2025 10:53:53 +0100 (CET) Received: from mail-pl1-f225.google.com (mail-pl1-f225.google.com [209.85.214.225]) by mails.dpdk.org (Postfix) with ESMTP id 94F7540280 for ; Sun, 9 Feb 2025 10:53:52 +0100 (CET) Received: by mail-pl1-f225.google.com with SMTP id d9443c01a7336-21f48ab13d5so51116675ad.0 for ; Sun, 09 Feb 2025 01:53:52 -0800 (PST) DKIM-Signature: v=1; a=rsa-sha256; c=relaxed/relaxed; d=iol.unh.edu; s=unh-iol; t=1739094831; x=1739699631; darn=dpdk.org; h=cc:to:from:subject:message-id:date:from:to:cc:subject:date :message-id:reply-to; bh=56BcB3UqZDrEFucZ85oia5LJbZUHdOZDM0HP0CtRBJU=; b=CEt6PfkbU9y0VXxY/xV8Yhwd9aUErxhJiZXkT8Aj4loFuHfGkoPZsjEoKNy+mgtxN3 uI++OwoYZSqaqNuiLDz8gcRJ+NG4WU6fA9V4xhvKwvV18PMEGQyKwSQrud6obr9xxH5x cw4mLyeMX9l8Ghs8P1K0KHnF/vyDkwookhDok= X-Google-DKIM-Signature: v=1; a=rsa-sha256; c=relaxed/relaxed; d=1e100.net; s=20230601; t=1739094831; x=1739699631; h=cc:to:from:subject:message-id:date:x-gm-message-state:from:to:cc :subject:date:message-id:reply-to; bh=56BcB3UqZDrEFucZ85oia5LJbZUHdOZDM0HP0CtRBJU=; b=eAGYGzbqpPFIjtLgYKKuB0Z7g2p6FrqXgsY+Uan9VtrwGuinbbAPnjRMJVIZ18aFAI EVWf+HILqslyNEScRBfH0fJN6iB3jjoP67MHi3l4dw67XZF+fxEPD+337mvi0eRYbiMa PpcGpEkOOzXQySyCUSb3Tg7inNAZxmoFF5elyqTyhSkud1IqKP98EvQnCKS88qHeZbAZ NgkUlIhNHxWB6u33SxaT8x1ySZ6J7buLBMw0h5wdKTX7A/qlNOgtjxRkZHsHOr0tVR7+ 6ngtC6LKLWumjrcVZ0U08KdqHrO71Pp91AWkfjNRorEH/T18tforUp0cacANcLWaLYax cD3A== X-Gm-Message-State: AOJu0Yx0+i3213VH6OdkHafQaRL1zgj44/NtYfHQTyusI11+rucv/fvD gghbbeQThclV2q5/sA6Ji02KmgO/4aLKALSNnyXnqgV8n4T3RoQncYHwuazNy/Igh7Mrc7g6/Qa aZEHRHXOFPHlRQrdOxb42MziT5IeCCb+F X-Gm-Gg: ASbGnctTlscpjRBcVbCqDqcPgWMtELWAbwfTwglu279elxN882Hr+bMWN+Wk/nv1a0I 5oKUlKlftx0s79ZGBrRV4/wB49Pld9xR8HQjHs8f0jkRCIeYxlGNdDF5JKmlwCM+lObcgQkD3BS HJ2c31AMQp9h7Zusetl6GkvMuqWDJiZNww+jGtqn2v9i9xmP/Apyf5w7CeV910ScBzNGEdTXq3a 4cu7lBK6voqu3ZYHegxC12C6KNYUxr6xz5q4EwBFZ0PczNfuvZq+3o/GOWo/7d3kwc/OcaxQa5L I+IAJZfiSCTGcGaC9/2ZBO+uo0+E/g== X-Google-Smtp-Source: AGHT+IF1Pd5wRRBGqxErybOa9nIpRRtfiyYPct2VKCNLgI1L2VEK4D/DjMz+8ePVftD11/Iqg+YNFYrEpALc X-Received: by 2002:a17:902:e946:b0:205:4721:19c with SMTP id d9443c01a7336-21f4e75b5famr150410555ad.37.1739094831695; Sun, 09 Feb 2025 01:53:51 -0800 (PST) Received: from postal.iol.unh.edu (postal.iol.unh.edu. [132.177.123.84]) by smtp-relay.gmail.com with ESMTPS id d9443c01a7336-21f36876bacsm4000405ad.97.2025.02.09.01.53.51 (version=TLS1_2 cipher=ECDHE-ECDSA-AES128-GCM-SHA256 bits=128/128); Sun, 09 Feb 2025 01:53:51 -0800 (PST) X-Relaying-Domain: iol.unh.edu Date: Sun, 09 Feb 2025 01:53:51 -0800 (PST) Message-ID: <67a87b2f.170a0220.171c0.3b3dSMTPIN_ADDED_MISSING@mx.google.com> Received: from [172.17.0.3] (unknown [172.18.0.217]) by postal.iol.unh.edu (Postfix) with ESMTP id 1061A6052471; Sun, 9 Feb 2025 04:53:21 -0500 (EST) Subject: |SUCCESS| [GIT MASTER] 7ce7d3341d7e21c2a81f2fea8e451681d7306d77 From: dpdklab@iol.unh.edu To: Test Report Cc: dpdk-test-reports@iol.unh.edu, Xueming Li , Christian Ehrhardt , Kevin Traynor , Luca Boccassi Content-Type: text/plain X-BeenThere: test-report@dpdk.org X-Mailman-Version: 2.1.29 Precedence: list List-Id: automatic DPDK test reports List-Unsubscribe: , List-Archive: List-Post: List-Help: List-Subscribe: , Errors-To: test-report-bounces@dpdk.org _Testing PASS_ Branch: tags/v22.11 7ce7d3341d7e21c2a81f2fea8e451681d7306d77 --> testing pass Upstream job id: Generic-DPDK-Compile-Meson#359757 Test environment and result as below: +------------------------------------+--------------------+ | Environment | dpdk_meson_compile | +====================================+====================+ | RHEL9 (ARM) | PASS | +------------------------------------+--------------------+ | Ubuntu 20.04 ARM GCC Cross Compile | PASS | +------------------------------------+--------------------+ | Ubuntu 20.04 ARM SVE | PASS | +------------------------------------+--------------------+ | Debian 12 with MUSDK | PASS | +------------------------------------+--------------------+ | Fedora 41 (ARM Clang) | PASS | +------------------------------------+--------------------+ | CentOS Stream 9 (ARM) | PASS | +------------------------------------+--------------------+ | Debian 11 (Buster) (ARM) | PASS | +------------------------------------+--------------------+ | Fedora 41 (ARM) | PASS | +------------------------------------+--------------------+ | Fedora 40 (ARM) | PASS | +------------------------------------+--------------------+ | Ubuntu 24.04 (ARM) | PASS | +------------------------------------+--------------------+ | Debian 12 (arm) | PASS | +------------------------------------+--------------------+ | Fedora 40 (ARM Clang) | PASS | +------------------------------------+--------------------+ | Ubuntu 22.04 (ARM) | PASS | +------------------------------------+--------------------+ | Ubuntu 20.04 (ARM) | PASS | +------------------------------------+--------------------+ RHEL9 (ARM) Kernel: Depends on container host Compiler: gcc 11.5.0 20240719 (Red Hat 11.5.0-2) Ubuntu 20.04 ARM GCC Cross Compile Kernel: Depends on container host Compiler: aarch64-linux-gnu-gcc (Ubuntu 9.4.0-1ubuntu1~20.04.2) 9.4.0 Ubuntu 20.04 ARM SVE Kernel: Depends on container host Compiler: gcc (Ubuntu 10.5.0-1ubuntu1~20.04) 10.5.0 Debian 12 with MUSDK Kernel: Depends on container host Compiler: gcc (Debian 12.2.0-14) 12.2.0 Fedora 41 (ARM Clang) Kernel: Depends on container host Compiler: clang 19.1.5 (Fedora 19.1.5-1.fc41) CentOS Stream 9 (ARM) Kernel: Depends on container host Compiler: gcc 11.5.0 20240719 (Red Hat 11.5.0-2) Debian 11 (Buster) (ARM) Kernel: Depends on container host Compiler: gcc (Debian 10.2.1-6) 10.2.1 20210110 Fedora 41 (ARM) Kernel: Depends on container host Compiler: gcc 14.2.1 20240912 (Red Hat 14.2.1-3) Fedora 40 (ARM) Kernel: Depends on container host Compiler: gcc 14.2.1 20240912 (Red Hat 14.2.1-3) Ubuntu 24.04 (ARM) Kernel: Depends on container host Compiler: gcc (Ubuntu 13.3.0-6ubuntu2~24.04) 13.3.0 Debian 12 (arm) Kernel: Depends on container host Compiler: gcc (Debian 12.2.0-14) 12.2.0 Fedora 40 (ARM Clang) Kernel: Depends on container host Compiler: clang 18.1.8 (Fedora 18.1.8-1.fc40) Ubuntu 22.04 (ARM) Kernel: Depends on container host Compiler: gcc (Ubuntu 11.4.0-1ubuntu1~22.04) 11.4.0 Ubuntu 20.04 (ARM) Kernel: Depends on container host Compiler: gcc (Ubuntu 9.4.0-1ubuntu1~20.04.2) 9.4.0 To view detailed results, visit: https://lab.dpdk.org/results/dashboard/tarballs/32513/ UNH-IOL DPDK Community Lab To manage your email subscriptions, visit: https://lab.dpdk.org/results/dashboard/preferences/subscriptions/