From mboxrd@z Thu Jan 1 00:00:00 1970 Return-Path: Received: from mails.dpdk.org (mails.dpdk.org [217.70.189.124]) by inbox.dpdk.org (Postfix) with ESMTP id 93E47461D8 for ; Sun, 9 Feb 2025 11:48:24 +0100 (CET) Received: from mails.dpdk.org (localhost [127.0.0.1]) by mails.dpdk.org (Postfix) with ESMTP id 738F2402AB; Sun, 9 Feb 2025 11:48:24 +0100 (CET) Received: from mail-oa1-f100.google.com (mail-oa1-f100.google.com [209.85.160.100]) by mails.dpdk.org (Postfix) with ESMTP id AD51E40280 for ; Sun, 9 Feb 2025 11:48:23 +0100 (CET) Received: by mail-oa1-f100.google.com with SMTP id 586e51a60fabf-2aa17010cbcso2578514fac.3 for ; Sun, 09 Feb 2025 02:48:23 -0800 (PST) DKIM-Signature: v=1; a=rsa-sha256; c=relaxed/relaxed; d=iol.unh.edu; s=unh-iol; t=1739098103; x=1739702903; darn=dpdk.org; h=cc:to:from:subject:message-id:date:from:to:cc:subject:date :message-id:reply-to; bh=sFnlX+LDBlLyMSlbi+aaFHFBAYMpcR0vzs4u9N++ycs=; b=Bjubzf3szFOs8sdyUcWhcTLfALpBYnLtDCBXSjOHxFoXt1TTYdC/977PhwYTxDCIIQ fw6O7+g8jxbm6SOtsayootfiJyODolpm1qmIWI1gDDGQ3bFjz5mfsy3O+DjyFE/wvDG5 jeVuOKiBgvuGki8KsBjfOYme12iMN3u2Ay0vQ= X-Google-DKIM-Signature: v=1; a=rsa-sha256; c=relaxed/relaxed; d=1e100.net; s=20230601; t=1739098103; x=1739702903; h=cc:to:from:subject:message-id:date:x-gm-message-state:from:to:cc :subject:date:message-id:reply-to; bh=sFnlX+LDBlLyMSlbi+aaFHFBAYMpcR0vzs4u9N++ycs=; b=Zo0dgrhn4XA+RSRKKyYlVf8bU4hVhevMJt0uVeV8OIvd1CCUgbIKhqRWFhyyQWd7/7 +/0tfHd02qmDPL7zcKQL8TaQL8O28RJvye9o6UcErr4buqS+Wx9VbgAumdf5H4X3jk+v DBKdHOrPLe4oGQVhZ3zpJcsHL9j02nA5dwpX9GwZsG0XJpYizVBKRbZvH7TVwaVkSEKM 5A44nDuBX3LTc7SeX4gED51+/kCwTgtC4BorUZfDy4H95PkHsDCOZTzW8CYpUaYJZVFv g423kuBIdbo/chGrh3NfiJBYJMjr4AkY3MT5KFaITc5mjQoCN576vqJxSFEDCvyVvzr1 dwwg== X-Gm-Message-State: AOJu0Yz8EipVrHYXW1RmYebEgNLJMWdqDjELI4E68I83u7HV6hOOBd/y UEJLd7OzxvePGDic4ftu1791lV0oZZ6WCv0+Os78IbIrs/QDyunchdgGhcUNKAgH7yFOn0OD9Wz fjS5i2ONAZrfXmwpjCn58lYOi/pRA/GVcgrJHwXpN X-Gm-Gg: ASbGncuzOVPrbZeXzpe5Pgqw4oakTKuPuMbRkH5PERsIRBU4R/tzoYMCm1KRVQ1mwn+ WRxSwkzCVsgGTO03HtzyCZHEdfPhxaOf8+kAViHN8KTLodyIIIFN/4h6/4XvbDshiCiaVhhZS50 NqfRkbtSXjmFepO2NINhnWWzK/pC4AEOMtBpUpRBA2ftagnYw2jUTXkCSq+vKSa08Fmk+c7tc2V yp4TMo6xT6B79Il7heCvJGHuYKWBRiu9QOj4IMaCmocRS94vkUbR0NDnr/bG1nmzyVYPyKMHyRO gO5kzsARucgvu7SCqX1orv2BlbYdxg== X-Google-Smtp-Source: AGHT+IETZnyRiS8p1hpSQJrYn1SZlxP23+T8werhJggmJEL4bWpO+dErNORJk2GHCOyhGGIKbljVz2NlAgVf X-Received: by 2002:a05:6870:40ca:b0:297:699:2ca8 with SMTP id 586e51a60fabf-2b83eb4e852mr5790027fac.1.1739098102830; Sun, 09 Feb 2025 02:48:22 -0800 (PST) Received: from postal.iol.unh.edu (postal.iol.unh.edu. [132.177.123.84]) by smtp-relay.gmail.com with ESMTPS id 586e51a60fabf-2b82601b516sm341117fac.21.2025.02.09.02.48.22 (version=TLS1_2 cipher=ECDHE-ECDSA-AES128-GCM-SHA256 bits=128/128); Sun, 09 Feb 2025 02:48:22 -0800 (PST) X-Relaying-Domain: iol.unh.edu Date: Sun, 09 Feb 2025 02:48:22 -0800 (PST) Message-ID: <67a887f6.050a0220.1bdc98.0ea0SMTPIN_ADDED_MISSING@mx.google.com> Received: from [172.17.0.3] (unknown [172.18.0.217]) by postal.iol.unh.edu (Postfix) with ESMTP id 4153E6052471; Sun, 9 Feb 2025 05:48:22 -0500 (EST) Subject: |SUCCESS| [GIT MASTER] 388b1abe291544106e406cb0a200b5b0c96fe599 From: dpdklab@iol.unh.edu To: Test Report Cc: dpdk-test-reports@iol.unh.edu Content-Type: text/plain X-BeenThere: test-report@dpdk.org X-Mailman-Version: 2.1.29 Precedence: list List-Id: automatic DPDK test reports List-Unsubscribe: , List-Archive: List-Post: List-Help: List-Subscribe: , Errors-To: test-report-bounces@dpdk.org _Testing PASS_ Branch: dpdk 388b1abe291544106e406cb0a200b5b0c96fe599 --> testing pass Upstream job id: ACVP-FIPS-testing#8841 Test environment and result as below: +--------------------+----------------------+----------------------+ | Environment | compressdev_zlib_pmd | dpdk_fips_validation | +====================+======================+======================+ | Ubuntu 22.04 (ARM) | PASS | SKIPPED | +--------------------+----------------------+----------------------+ | Ubuntu 22.04 | PASS | SKIPPED | +--------------------+----------------------+----------------------+ | Ubuntu 20.04 | SKIPPED | PASS | +--------------------+----------------------+----------------------+ Ubuntu 22.04 (ARM) Kernel: 5.15.0-97-generic Compiler: gcc gcc (Ubuntu 11.4.0-1ubuntu1~22.04) 11.4.0 Ubuntu 22.04 Kernel: 5.15.0-100-generic Compiler: gcc gcc (Ubuntu 11.4.0-1ubuntu1~22.04) 11.4.0 Ubuntu 20.04 Kernel: Depends on container host Compiler: gcc (Ubuntu 9.4.0-1ubuntu1~20.04.2) 9.4.0 To view detailed results, visit: https://lab.dpdk.org/results/dashboard/tarballs/32502/ UNH-IOL DPDK Community Lab To manage your email subscriptions, visit: https://lab.dpdk.org/results/dashboard/preferences/subscriptions/