From mboxrd@z Thu Jan 1 00:00:00 1970 Return-Path: Received: from mails.dpdk.org (mails.dpdk.org [217.70.189.124]) by inbox.dpdk.org (Postfix) with ESMTP id 5C342461D9 for ; Sun, 9 Feb 2025 12:15:37 +0100 (CET) Received: from mails.dpdk.org (localhost [127.0.0.1]) by mails.dpdk.org (Postfix) with ESMTP id 397AE402A1; Sun, 9 Feb 2025 12:15:37 +0100 (CET) Received: from mail-qv1-f100.google.com (mail-qv1-f100.google.com [209.85.219.100]) by mails.dpdk.org (Postfix) with ESMTP id CC7E640280 for ; Sun, 9 Feb 2025 12:15:35 +0100 (CET) Received: by mail-qv1-f100.google.com with SMTP id 6a1803df08f44-6dd15d03eacso30255316d6.0 for ; Sun, 09 Feb 2025 03:15:35 -0800 (PST) DKIM-Signature: v=1; a=rsa-sha256; c=relaxed/relaxed; d=iol.unh.edu; s=unh-iol; t=1739099735; x=1739704535; darn=dpdk.org; h=references:in-reply-to:cc:to:from:subject:message-id:date:from:to :cc:subject:date:message-id:reply-to; bh=DsfLQAkIo7zCtbXDt8dOQqTnrWqGqCq1W3s4A7jMHuo=; b=cSf4HiJU9442QqZOb8U08OPokYVU5JGvPCoUJk6w8nejCDWNjnxsA394Y7/mx7Y/jt ObagfN0YxIL4J8EC8IpX7M0C4vh3XWR9X2K/9Dpii+cBM2UZHlNdl7VXjJky/TjQgaTa 1i0ZMw099YRNjz/dN9kERxFKPkPdj7cUFY2OI= X-Google-DKIM-Signature: v=1; a=rsa-sha256; c=relaxed/relaxed; d=1e100.net; s=20230601; t=1739099735; x=1739704535; h=references:in-reply-to:cc:to:from:subject:message-id:date :x-gm-message-state:from:to:cc:subject:date:message-id:reply-to; bh=DsfLQAkIo7zCtbXDt8dOQqTnrWqGqCq1W3s4A7jMHuo=; b=TPiPf2lkrk9Ws1O+esMlW1fEYLqxcE3zwaRPfQ2FFWo4CgJbFAoZgXWmnur9elbCOR HH7hJ0nxwbXfPlZ3gjGqjUsrk30u8071lAy+ewaWTf1xrfySs9e0yyrQzipbwhC2JuJM +pJyLYRfqvKNSXPRSwyTtXjYSsSf72t5VoAOQWS4iedx2pya4aAZ60nwo3x5X8w1xUmw rkNfFcuMfyY1D+NREVO9ucag2Z13yZIMLVOEj6ubHrGtvMyQelKiWQYVGMyJfu/N1u8K aVGOuyupmJruVIWX7hYU5xoYUEH7ZXAfttaA1SiaEYHh/s92PGt9O28Nn9Z85N6UiG4D Rtaw== X-Gm-Message-State: AOJu0YyXytkosZSg3jN20qnYVrWytTUShkarcnOjxMOHpBB6EoGT+O7u dyZfHmGtVqDRFiPMIhN93s3RAqNRQ43zx13WeXIxFQuBJeOoSVNFm9Uew4rA8Ng9dkalyYQI5hN Ez7MUYQFitrF1taBrdAruq8ZgueTuk2ucBWzJgjjd X-Gm-Gg: ASbGncs9UqzMFoAT/9AWKmW9HsbffjWMsB9EdTtXmi0D5C1SJfYcR3N9ried+i6THY1 X1bhgPiVF9P3GAj1k7q6wWSiJZftiEitLyIroZ2Hi+b4p12yHk5OO2j1jKkD2glmIHl2Bqd6akC r8ZF0PEGk1N34Ndzh3+UM4RUqnfB3Ge1yiRC0bQPSyDA563aRKVarvD9CYYG/ExWz0YgEU8gd1v vyMdg7Hsf5d2Tvd5Ya3CSRL6Lu3Qi8U3P9xUgIAU/kmWVxnY0ziW1Rs4gg8nvuRVyejitBV5c4N Gx9tW8i+uxELNrX9axpSK69IOZkU0Q== X-Google-Smtp-Source: AGHT+IEF4wmi/T55OmhXD449scAA20Q0EFSzVKX4KJNDiBVbcRa1dJlc/zA5tKkFmM83Pm27FBRGRQRSZpEq X-Received: by 2002:ad4:5ca6:0:b0:6e2:49eb:fb7 with SMTP id 6a1803df08f44-6e439aa19c4mr190967816d6.3.1739099735011; Sun, 09 Feb 2025 03:15:35 -0800 (PST) Received: from postal.iol.unh.edu (postal.iol.unh.edu. [132.177.123.84]) by smtp-relay.gmail.com with ESMTPS id 6a1803df08f44-6e45df66f88sm404986d6.17.2025.02.09.03.15.34 (version=TLS1_2 cipher=ECDHE-ECDSA-AES128-GCM-SHA256 bits=128/128); Sun, 09 Feb 2025 03:15:35 -0800 (PST) X-Relaying-Domain: iol.unh.edu Date: Sun, 09 Feb 2025 03:15:35 -0800 (PST) Message-ID: <67a88e57.050a0220.187a1b.2155SMTPIN_ADDED_MISSING@mx.google.com> Received: from [172.17.0.3] (unknown [172.18.0.217]) by postal.iol.unh.edu (Postfix) with ESMTP id A9F396052471; Sun, 9 Feb 2025 06:15:34 -0500 (EST) Subject: |SUCCESS| pw151141 [PATCH] net/mana: use mana_local_data for trackin From: dpdklab@iol.unh.edu To: Test Report Cc: dpdk-test-reports@iol.unh.edu In-Reply-To: <1738970505-7864-1-git-send-email-longli@linuxonhyperv.com> References: <1738970505-7864-1-git-send-email-longli@linuxonhyperv.com> Content-Type: text/plain X-BeenThere: test-report@dpdk.org X-Mailman-Version: 2.1.29 Precedence: list List-Id: automatic DPDK test reports List-Unsubscribe: , List-Archive: List-Post: List-Help: List-Subscribe: , Errors-To: test-report-bounces@dpdk.org Test-Label: iol-sample-apps-testing Test-Status: SUCCESS http://dpdk.org/patch/151141 _Testing PASS_ Submitter: Long Li Date: Friday, February 07 2025 23:21:45 DPDK git baseline: Repo:dpdk Branch: master CommitID:b82daa7d47bda76b3879ef6d715b2d3eb737793f 151141 --> testing pass Upstream job id: ACVP-FIPS-testing#8842 Test environment and result as below: +--------------------+----------------------+----------------------+ | Environment | compressdev_zlib_pmd | dpdk_fips_validation | +====================+======================+======================+ | Ubuntu 22.04 (ARM) | PASS | SKIPPED | +--------------------+----------------------+----------------------+ | Ubuntu 22.04 | PASS | SKIPPED | +--------------------+----------------------+----------------------+ | Ubuntu 20.04 | SKIPPED | PASS | +--------------------+----------------------+----------------------+ Ubuntu 22.04 (ARM) Kernel: 5.15.0-97-generic Compiler: gcc gcc (Ubuntu 11.4.0-1ubuntu1~22.04) 11.4.0 Ubuntu 22.04 Kernel: 5.15.0-100-generic Compiler: gcc gcc (Ubuntu 11.4.0-1ubuntu1~22.04) 11.4.0 Ubuntu 20.04 Kernel: Depends on container host Compiler: gcc (Ubuntu 9.4.0-1ubuntu1~20.04.2) 9.4.0 To view detailed results, visit: https://lab.dpdk.org/results/dashboard/patchsets/32533/ UNH-IOL DPDK Community Lab To manage your email subscriptions, visit: https://lab.dpdk.org/results/dashboard/preferences/subscriptions/