From mboxrd@z Thu Jan 1 00:00:00 1970 Return-Path: Received: from mails.dpdk.org (mails.dpdk.org [217.70.189.124]) by inbox.dpdk.org (Postfix) with ESMTP id 05DFB461D9 for ; Sun, 9 Feb 2025 12:44:18 +0100 (CET) Received: from mails.dpdk.org (localhost [127.0.0.1]) by mails.dpdk.org (Postfix) with ESMTP id DCE7F402A1; Sun, 9 Feb 2025 12:44:17 +0100 (CET) Received: from mail-qv1-f97.google.com (mail-qv1-f97.google.com [209.85.219.97]) by mails.dpdk.org (Postfix) with ESMTP id B78BE40280 for ; Sun, 9 Feb 2025 12:44:16 +0100 (CET) Received: by mail-qv1-f97.google.com with SMTP id 6a1803df08f44-6e4505134c4so21531006d6.2 for ; Sun, 09 Feb 2025 03:44:16 -0800 (PST) DKIM-Signature: v=1; a=rsa-sha256; c=relaxed/relaxed; d=iol.unh.edu; s=unh-iol; t=1739101456; x=1739706256; darn=dpdk.org; h=cc:to:from:subject:message-id:date:from:to:cc:subject:date :message-id:reply-to; bh=pGAd9vwmwExrCRg8lu/oK6EZE9znyyK2aB2AC+4n2jM=; b=H9+ofLSjvImXYXzOiLxTwyeoBmi16SU+ODdINbNFfVU2v3cJoaTE02oSFKEugaGCga QzOJWEZ6P+P/8NV+/gXq3/vMmplCm5b/7qZ+Wrhklek2jLZ482KCIL0Fo0vQpxleIrth ow2lKGgLIat54URBtswGoJuA2ceLxvg89qPUI= X-Google-DKIM-Signature: v=1; a=rsa-sha256; c=relaxed/relaxed; d=1e100.net; s=20230601; t=1739101456; x=1739706256; h=cc:to:from:subject:message-id:date:x-gm-message-state:from:to:cc :subject:date:message-id:reply-to; bh=pGAd9vwmwExrCRg8lu/oK6EZE9znyyK2aB2AC+4n2jM=; b=mgYK6vwDfdp50FZJnG9LwXhz85FcCKdwRKaxV2JSB+NZs6m1rWt0iQD7ej0Or/u5qD Opx/7xn8yGzQaQQ9DedS8vFv+4+i/UnAFWVt9YtT0jnRMcEL+KUtSsEW/4nltFTHnp53 nZnvd4TxxB2r1bGQpnD6Aj7jZmO0VpS4UVCaqZkE+9B/HPXyXOKFlRhjREWy7XySA2Xx FjXXuiW94FNQFgkBwBJTgIJCxOjTD1s6LicJDPaMYVeqOi67v+vlu/btJZ52gJCA4rWh OpRG76Gg+szYNh1rnFHlAU8XkDjNTw14NUTKvAPT+5kTxtZz23CllKCUCVEtXL6n4+Zy AELw== X-Gm-Message-State: AOJu0YwYM/hrbWEke38hEk4EaYdcn2VlRp9B8Q1+soA1SadRWrGdw5GH Lsow3Y+yEjXKeRCuf6NiPsOq+zsbcRW7/tdHRHUEB0to5NUiMgA9VG1ow9IkXdTXKgfPYaTCpno Fi/LyBeQLkne7a7ELRjoB0/FzpcH4QpEV X-Gm-Gg: ASbGnctZiDXnJ86/g8FM9yRJ25meFwaGOl70yA3DJvU6KvC1YdAscRQLa2bmpKW1/ms 2CcdvAYww52xXtS21lX8fkKa7JR19ku1IrFftbAZ5NU5iPPqbteMApSglbOz3BqZdE7EnQTcXOX eSnZwMxCa+woPHwauqrRQAaDSqRrx9l8cfCLQQ8c5JXPpxD/h+v7zwxgehqwXhLhMUF1h9j94EP 1eynwGA9eUmSjkTVvIF6FHJKHmmr+P027WrTwDZwdtukOu6vk1QUXh9k1zy2TQWyMe7X0PPdz12 TQCQKBvNssZ1ZqvZDWJtOs6bNCP0Rg== X-Google-Smtp-Source: AGHT+IFJl//PO2Et3b0AChh3+3KjUy8hMvPC/EvJMtHF4FcdREFxblXfWX5kwzpaKoKEfggugyCcje59H5mf X-Received: by 2002:ad4:5dea:0:b0:6e4:2dcb:33c8 with SMTP id 6a1803df08f44-6e4456d9a7fmr128970816d6.29.1739101456011; Sun, 09 Feb 2025 03:44:16 -0800 (PST) Received: from postal.iol.unh.edu (postal.iol.unh.edu. [132.177.123.84]) by smtp-relay.gmail.com with ESMTPS id 6a1803df08f44-6e4427b9ec5sm3567266d6.68.2025.02.09.03.44.15 (version=TLS1_2 cipher=ECDHE-ECDSA-AES128-GCM-SHA256 bits=128/128); Sun, 09 Feb 2025 03:44:15 -0800 (PST) X-Relaying-Domain: iol.unh.edu Date: Sun, 09 Feb 2025 03:44:16 -0800 (PST) Message-ID: <67a8950f.d40a0220.9e29c.1561SMTPIN_ADDED_MISSING@mx.google.com> Received: from [172.17.0.3] (unknown [172.18.0.217]) by postal.iol.unh.edu (Postfix) with ESMTP id A58CB6052471; Sun, 9 Feb 2025 06:43:45 -0500 (EST) Subject: |SUCCESS| [GIT MASTER] f2eea2f37a82bb73fb01d56350708f7d70e21379 From: dpdklab@iol.unh.edu To: Test Report Cc: dpdk-test-reports@iol.unh.edu, Xueming Li , Christian Ehrhardt , Kevin Traynor , Luca Boccassi Content-Type: text/plain X-BeenThere: test-report@dpdk.org X-Mailman-Version: 2.1.29 Precedence: list List-Id: automatic DPDK test reports List-Unsubscribe: , List-Archive: List-Post: List-Help: List-Subscribe: , Errors-To: test-report-bounces@dpdk.org _Testing PASS_ Branch: tags/v24.11 f2eea2f37a82bb73fb01d56350708f7d70e21379 --> testing pass Upstream job id: ACVP-FIPS-testing#8843 Test environment and result as below: +--------------------+----------------------+----------------------+ | Environment | compressdev_zlib_pmd | dpdk_fips_validation | +====================+======================+======================+ | Ubuntu 22.04 (ARM) | PASS | SKIPPED | +--------------------+----------------------+----------------------+ | Ubuntu 22.04 | PASS | SKIPPED | +--------------------+----------------------+----------------------+ | Ubuntu 20.04 | SKIPPED | PASS | +--------------------+----------------------+----------------------+ Ubuntu 22.04 (ARM) Kernel: 5.15.0-97-generic Compiler: gcc gcc (Ubuntu 11.4.0-1ubuntu1~22.04) 11.4.0 Ubuntu 22.04 Kernel: 5.15.0-100-generic Compiler: gcc gcc (Ubuntu 11.4.0-1ubuntu1~22.04) 11.4.0 Ubuntu 20.04 Kernel: Depends on container host Compiler: gcc (Ubuntu 9.4.0-1ubuntu1~20.04.2) 9.4.0 To view detailed results, visit: https://lab.dpdk.org/results/dashboard/tarballs/32504/ UNH-IOL DPDK Community Lab To manage your email subscriptions, visit: https://lab.dpdk.org/results/dashboard/preferences/subscriptions/