From mboxrd@z Thu Jan 1 00:00:00 1970 Return-Path: Received: from mails.dpdk.org (mails.dpdk.org [217.70.189.124]) by inbox.dpdk.org (Postfix) with ESMTP id 6EF35461D9 for ; Sun, 9 Feb 2025 13:11:10 +0100 (CET) Received: from mails.dpdk.org (localhost [127.0.0.1]) by mails.dpdk.org (Postfix) with ESMTP id 6BE88402A1; Sun, 9 Feb 2025 13:11:10 +0100 (CET) Received: from mail-il1-f227.google.com (mail-il1-f227.google.com [209.85.166.227]) by mails.dpdk.org (Postfix) with ESMTP id 95BB240280 for ; Sun, 9 Feb 2025 13:11:08 +0100 (CET) Received: by mail-il1-f227.google.com with SMTP id e9e14a558f8ab-3d144f1f68bso6859045ab.3 for ; Sun, 09 Feb 2025 04:11:08 -0800 (PST) DKIM-Signature: v=1; a=rsa-sha256; c=relaxed/relaxed; d=iol.unh.edu; s=unh-iol; t=1739103068; x=1739707868; darn=dpdk.org; h=cc:to:from:subject:message-id:date:from:to:cc:subject:date :message-id:reply-to; bh=tjtPca28yZuEEOPdx6kMr2UZS+g3nEeB/kBigE8rzMs=; b=CjgWSwCc+oOjnCCY5cBm4Mj9S6dOk4JJOnlWyW7vq+H8JSnHc9v8WENg6lkhDUZUyW z9/anOPHBXR/iEHL7ICTZTbb30Mk2wn1BJS83GxUsjpL5+dr+I8LEJVnzaQUDXjWdV5B TRhTvrkre/La3dpv0T37Pjkx28N0v1s3yhsn4= X-Google-DKIM-Signature: v=1; a=rsa-sha256; c=relaxed/relaxed; d=1e100.net; s=20230601; t=1739103068; x=1739707868; h=cc:to:from:subject:message-id:date:x-gm-message-state:from:to:cc :subject:date:message-id:reply-to; bh=tjtPca28yZuEEOPdx6kMr2UZS+g3nEeB/kBigE8rzMs=; b=d0FxXt8ly53lRJdripQWyIlATBhLPGNFgb12Lo86b75ZVO4s1rYGonUHvixoykCsL1 5S1041usWdIc0yH+UoYDIxEIwd9kZptucIxfUU+wjBUTTFudoMr0g/ci/gj5/sVh+kuw /Gf/9hZacBWS0MnxRewIzWBXQwS6J1/+lA7DyL068hsfJBiV8U5TgEG7sFTPw4HlOesx NhDQQHqVeqv4guG0VdA9vQyKXB1d3OfhP9FCziju6kSInq2XKlZXM4unFManf5ieZkz6 a2s9U06HQjFuoZrUogwobxjFAVBMuonVpe4XrCfk//mYT2HKh7U3L1F1cBMh5a35wN5Q zFqw== X-Gm-Message-State: AOJu0YyPpZN4F+/MsN6O33xMPCObCo2WC7QNQsEsT1h/PR36oKToyYCJ Ovi/6qblhav3nD08Xmf1NoICAze9IfCM9MO6EnTVm65fgOHf2FrWCU/KvZs3DM7dHhwDiyLSVbw pzfg/zPWHG65b+aecvCFm0yfUclmpBHMD X-Gm-Gg: ASbGnctfMNCb1Q+zaL2vkbAXv6UBoMtrKcBt/RmpLn4Q4Mpqdbz5fjzSDmsWM6z4NWU OaQZoLnWVECHLXJd8Dpb3NAtWHIgwSemaBUoR/DKJ+8doLLvG81lJdEK75oOt+kGfudRkGKGxkY c1gkaO7ClC3LOeHkl4+YGbdxOmf120Ktj5RXmPqjjK+JejSuQAYc5pFs/9R6uVsgvhLMmHpI8iK i9f/z6pDUlaTo8+Vcsk1oFwaGQHPcp/C5lAXGU5H+Y+KHMItrhWyvzxRrcQT38SHfSp/dqC6LAp jMQoLLHIe72AtYQqYbKfnBfBVqBKTA== X-Google-Smtp-Source: AGHT+IGpLEWcorTcpiXIrbFY7GxZ0lB0qb34r76mPh6BZR3Ip9cPtvdy41r0pkzjoXqsQpLyp4ZBP3zVZGI+ X-Received: by 2002:a05:6e02:12e9:b0:3ce:78e5:d36d with SMTP id e9e14a558f8ab-3d13dd3f53bmr73836735ab.12.1739103067914; Sun, 09 Feb 2025 04:11:07 -0800 (PST) Received: from postal.iol.unh.edu (postal.iol.unh.edu. [132.177.123.84]) by smtp-relay.gmail.com with ESMTPS id 8926c6da1cb9f-4ececee2f5fsm115154173.58.2025.02.09.04.11.07 (version=TLS1_2 cipher=ECDHE-ECDSA-AES128-GCM-SHA256 bits=128/128); Sun, 09 Feb 2025 04:11:07 -0800 (PST) X-Relaying-Domain: iol.unh.edu Date: Sun, 09 Feb 2025 04:11:07 -0800 (PST) Message-ID: <67a89b5b.050a0220.1b3aee.5c99SMTPIN_ADDED_MISSING@mx.google.com> Received: from [172.17.0.3] (unknown [172.18.0.217]) by postal.iol.unh.edu (Postfix) with ESMTP id 6540D6052471; Sun, 9 Feb 2025 07:11:07 -0500 (EST) Subject: |SUCCESS| [GIT MASTER] c66daa12e76d7b4912cfb7109a761856a7a873ab From: dpdklab@iol.unh.edu To: Test Report Cc: dpdk-test-reports@iol.unh.edu, Xueming Li , Christian Ehrhardt , Kevin Traynor , Luca Boccassi Content-Type: text/plain X-BeenThere: test-report@dpdk.org X-Mailman-Version: 2.1.29 Precedence: list List-Id: automatic DPDK test reports List-Unsubscribe: , List-Archive: List-Post: List-Help: List-Subscribe: , Errors-To: test-report-bounces@dpdk.org _Testing PASS_ Branch: tags/v23.11 c66daa12e76d7b4912cfb7109a761856a7a873ab --> testing pass Upstream job id: ACVP-FIPS-testing#8844 Test environment and result as below: +--------------------+----------------------+----------------------+ | Environment | compressdev_zlib_pmd | dpdk_fips_validation | +====================+======================+======================+ | Ubuntu 22.04 (ARM) | PASS | SKIPPED | +--------------------+----------------------+----------------------+ | Ubuntu 22.04 | PASS | SKIPPED | +--------------------+----------------------+----------------------+ | Ubuntu 20.04 | SKIPPED | PASS | +--------------------+----------------------+----------------------+ Ubuntu 22.04 (ARM) Kernel: 5.15.0-97-generic Compiler: gcc gcc (Ubuntu 11.4.0-1ubuntu1~22.04) 11.4.0 Ubuntu 22.04 Kernel: 5.15.0-100-generic Compiler: gcc gcc (Ubuntu 11.4.0-1ubuntu1~22.04) 11.4.0 Ubuntu 20.04 Kernel: Depends on container host Compiler: gcc (Ubuntu 9.4.0-1ubuntu1~20.04.2) 9.4.0 To view detailed results, visit: https://lab.dpdk.org/results/dashboard/tarballs/32505/ UNH-IOL DPDK Community Lab To manage your email subscriptions, visit: https://lab.dpdk.org/results/dashboard/preferences/subscriptions/