From mboxrd@z Thu Jan 1 00:00:00 1970 Return-Path: Received: from mails.dpdk.org (mails.dpdk.org [217.70.189.124]) by inbox.dpdk.org (Postfix) with ESMTP id BE409461D9 for ; Sun, 9 Feb 2025 13:48:29 +0100 (CET) Received: from mails.dpdk.org (localhost [127.0.0.1]) by mails.dpdk.org (Postfix) with ESMTP id 92646402A1; Sun, 9 Feb 2025 13:48:29 +0100 (CET) Received: from mail-pj1-f99.google.com (mail-pj1-f99.google.com [209.85.216.99]) by mails.dpdk.org (Postfix) with ESMTP id 3A48E40280 for ; Sun, 9 Feb 2025 13:48:28 +0100 (CET) Received: by mail-pj1-f99.google.com with SMTP id 98e67ed59e1d1-2f83a8afcbbso5467930a91.1 for ; Sun, 09 Feb 2025 04:48:28 -0800 (PST) DKIM-Signature: v=1; a=rsa-sha256; c=relaxed/relaxed; d=iol.unh.edu; s=unh-iol; t=1739105307; x=1739710107; darn=dpdk.org; h=cc:to:from:subject:message-id:date:from:to:cc:subject:date :message-id:reply-to; bh=jZS3GxDHWmws6ZzkQmV2gi1a1yXxBbAKib8WoRGSCUk=; b=jh/zHwM07I4+n4U6t6kE6qTBMgcvvwxDJBfYSz5I0yPxehhmV7tn1nlpuTgUJRQNWy O0lyDlHxlM7BxQdNdQkyzUBzTVdClrk61EZYL65p0mOfSkFNQPZLmx0xT3Pmooz3mD0h KFZfAkcDmY4/iiOhx+qbXUJe+wvdtMq7C+MrE= X-Google-DKIM-Signature: v=1; a=rsa-sha256; c=relaxed/relaxed; d=1e100.net; s=20230601; t=1739105307; x=1739710107; h=cc:to:from:subject:message-id:date:x-gm-message-state:from:to:cc :subject:date:message-id:reply-to; bh=jZS3GxDHWmws6ZzkQmV2gi1a1yXxBbAKib8WoRGSCUk=; b=D1kT6Ev/YmvD1gHviKsNR7fXhFF37tzXUqjvnbn29EsTfkynROn+oniebAx4jcWA2g gTbh9eastnyhECMSK24ilQGfKCOJh1YufiECSmAlfcX/VK7nbrl3ojs9cNsx8/3UihE+ NYNV0lSi3tnsw8ZsB67ReDOFWHxH9+2sOfg0wZXUZM1CqZbFspQX7BZZ6MYBP1DYfgZY gZGcsvxhP6bdnMEoa5kKalkGWnLqvStVtiS7PNPZ4qbcwwbFLzqbOl3zRw31JTtUMDIk w/gWxnNE7ailtD/0A3sVssrx1KtTfIUiBpUOejOvPolehmvogJ8h0ISlJ9Njghmb3p3i RW1Q== X-Gm-Message-State: AOJu0YwpMAL6krbcspCJhkI4zmdzbmlB7yFHHt5cIIc4bkNe7YkIQsF2 j5cdabDSE/EcQRtNmMGYV+jM2GpMlwgAyBWHYkE2QZN463zg7iIvLdA6wWad0xgBma4FW8S8SKN 1K4n449v3nWwDcI7+P3XI4B/n1Dj1kfo8 X-Gm-Gg: ASbGncs4Udrw6X5taoQ5SQmreSS1NY9WeoYWB7MlPfHlzLD5LyfW2Hkb61WJkmK92YO tHMR/e+YDG9Zg/ij7lRssiIC8rv7th2uJOy95VMbAe8KyDaajdnKQ5nMcKk09itcKHfl7vRhMWP RCKq34R+GciQJO7dprip/q2zwvjd/B1oiBHm6nwoux0PVyvi8Dtt47gqeNHid/OZ0CO0dFnY+Vb rvij9LICOpGjJZfnbDb3hdqzo+vx/63SvqBCyvEo5sHPovZ6hqJVuhJeaKKbXTo3F1qBUod85Wq XJRRwIiLQ5goUc5Blo2jq5Tf3Yp0Qg== X-Google-Smtp-Source: AGHT+IFUj5Y4J/j7d0SH7HrspAaL4tJiYFKyjFsYRygCvcxIqJOYlYCI8PStj7vfiX3aX7tf7UV5ELAct8So X-Received: by 2002:a17:90a:f497:b0:2ee:ee77:226d with SMTP id 98e67ed59e1d1-2fa247f807emr15478219a91.4.1739105307332; Sun, 09 Feb 2025 04:48:27 -0800 (PST) Received: from postal.iol.unh.edu (postal.iol.unh.edu. [132.177.123.84]) by smtp-relay.gmail.com with ESMTPS id 98e67ed59e1d1-2fa566b799esm171353a91.0.2025.02.09.04.48.27 (version=TLS1_2 cipher=ECDHE-ECDSA-AES128-GCM-SHA256 bits=128/128); Sun, 09 Feb 2025 04:48:27 -0800 (PST) X-Relaying-Domain: iol.unh.edu Date: Sun, 09 Feb 2025 04:48:27 -0800 (PST) Message-ID: <67a8a41b.170a0220.1bc9d4.8822SMTPIN_ADDED_MISSING@mx.google.com> Received: from [172.21.0.6] (unknown [172.18.0.240]) by postal.iol.unh.edu (Postfix) with ESMTP id 723E36052471; Sun, 9 Feb 2025 07:48:26 -0500 (EST) Subject: |SUCCESS| [GIT MASTER] 7ce7d3341d7e21c2a81f2fea8e451681d7306d77 From: dpdklab@iol.unh.edu To: Test Report Cc: dpdk-test-reports@iol.unh.edu, Xueming Li , Christian Ehrhardt , Kevin Traynor , Luca Boccassi Content-Type: text/plain X-BeenThere: test-report@dpdk.org X-Mailman-Version: 2.1.29 Precedence: list List-Id: automatic DPDK test reports List-Unsubscribe: , List-Archive: List-Post: List-Help: List-Subscribe: , Errors-To: test-report-bounces@dpdk.org _Testing PASS_ Branch: tags/v22.11 7ce7d3341d7e21c2a81f2fea8e451681d7306d77 --> testing pass Upstream job id: ACVP-FIPS-testing#8845 Test environment and result as below: +--------------------+----------------------+----------------------+ | Environment | compressdev_zlib_pmd | dpdk_fips_validation | +====================+======================+======================+ | Ubuntu 22.04 (ARM) | PASS | SKIPPED | +--------------------+----------------------+----------------------+ | Ubuntu 22.04 | PASS | SKIPPED | +--------------------+----------------------+----------------------+ | Ubuntu 20.04 | SKIPPED | PASS | +--------------------+----------------------+----------------------+ Ubuntu 22.04 (ARM) Kernel: 5.15.0-97-generic Compiler: gcc gcc (Ubuntu 11.4.0-1ubuntu1~22.04) 11.4.0 Ubuntu 22.04 Kernel: 5.15.0-100-generic Compiler: gcc gcc (Ubuntu 11.4.0-1ubuntu1~22.04) 11.4.0 Ubuntu 20.04 Kernel: Depends on container host Compiler: gcc (Ubuntu 9.4.0-1ubuntu1~20.04.2) 9.4.0 To view detailed results, visit: https://lab.dpdk.org/results/dashboard/tarballs/32506/ UNH-IOL DPDK Community Lab To manage your email subscriptions, visit: https://lab.dpdk.org/results/dashboard/preferences/subscriptions/