From mboxrd@z Thu Jan 1 00:00:00 1970 Return-Path: Received: from mails.dpdk.org (mails.dpdk.org [217.70.189.124]) by inbox.dpdk.org (Postfix) with ESMTP id 08B12461D9 for ; Sun, 9 Feb 2025 14:54:57 +0100 (CET) Received: from mails.dpdk.org (localhost [127.0.0.1]) by mails.dpdk.org (Postfix) with ESMTP id EB108402A1; Sun, 9 Feb 2025 14:54:56 +0100 (CET) Received: from mail-qt1-f228.google.com (mail-qt1-f228.google.com [209.85.160.228]) by mails.dpdk.org (Postfix) with ESMTP id A497940280 for ; Sun, 9 Feb 2025 14:54:55 +0100 (CET) Received: by mail-qt1-f228.google.com with SMTP id d75a77b69052e-467918c360aso46058771cf.0 for ; Sun, 09 Feb 2025 05:54:55 -0800 (PST) DKIM-Signature: v=1; a=rsa-sha256; c=relaxed/relaxed; d=iol.unh.edu; s=unh-iol; t=1739109295; x=1739714095; darn=dpdk.org; h=references:in-reply-to:cc:to:from:subject:message-id:date:from:to :cc:subject:date:message-id:reply-to; bh=xaG8MjQ9tWAQ0ZH+ZiWC45yzdmT+kbfnI3oZchbazWk=; b=cgl29t9RqSolQ90du9r/FCZKu0cd3i0bOx2J+OuBL293mINIsTllIMsB3EvFn/JGB1 KHbnEFHHOx8Q4LOYH0yGPD86UWC9qHmj/tZNhC4nsX6cDQmgO51UjL/mHhjGVPIOPUIO YOMRjF0JGld5Uoh+tAi+SPYw2X8VRv8CPQl3U= X-Google-DKIM-Signature: v=1; a=rsa-sha256; c=relaxed/relaxed; d=1e100.net; s=20230601; t=1739109295; x=1739714095; h=references:in-reply-to:cc:to:from:subject:message-id:date :x-gm-message-state:from:to:cc:subject:date:message-id:reply-to; bh=xaG8MjQ9tWAQ0ZH+ZiWC45yzdmT+kbfnI3oZchbazWk=; b=tTXpQBMQhYb2oNe1Co/soQ5cWzMj3A4g2Dah2HZOYlrYuRA7r8uqv+lIZXEK4gWt6p azBt3m+fu3fb2xTE+YE5O4B/8dvN+VTiufbxPUJm6tOLJ3Ta/Zqt5cx+feziVoVGOOvm qg9jhh7gFLCN3mEnwERpufKF6pQUvyYiPopRZKazRRydXht0E2xZD6/crJwjftYZqwVP nsRbtWA+RsXY97vYHJ65IoecJ9+fF0PCxetYV1LP1N1r3wuvRfW4RzDxecGQT/gK3SHi BiIvS47T9ZnY521dqTj2F3gMlG6kPUXhq1zlOogPzjOvSE1UZBIiM0Rll/TCLMTXLwpA uGQA== X-Gm-Message-State: AOJu0YxPleuG++FFIKyc3a7TZ97K3sIwxA1Z01bmXsAIl9bl6zZGw4N+ btgN+SFKQA6q/uNI/syVhWEjWSDNzbdwNktYZ+DmJwam60ID+l4md0pBMw8hvJN56FCO3RIeWCH rrnopp3AuITa6bpCxXJM+ZiYzmhxRTzUH7NOmmp1I X-Gm-Gg: ASbGnctTy53WcrmZ7UmjNcSGvH4eZArTjgfTuTpwm3S01e9cR8iaa0RHcJxqzZxZNae /WiSldWI8kssfupGq+kNpiS1RP1xxuP8D26pdnT6Ei+fmrhUb/q1G90cFv4Aj4+PyTx6DHC3YGH E/5rYHThkC3FwE6WZtTdP3MvJ0lkpRHMi/sX7RmCdoQkBQ0geM/hk5VI0CoY5KjCT/ARPYm8Ya0 dUB3T1iC6fQkt6wHmMj/72svAo6LYZMEzYyu6It42RkSKPrcoRZNhPeRHHDtriGxwSLGg14TDfY ZNmAWRQNsJNqcKanZc3tL/mjoLJGbg== X-Google-Smtp-Source: AGHT+IEIXjRoJ2A5uhmHKxoshEzJXMCqfv4WaQ/NJye60uMFLRct9X1MjSNt3dJeqD0XDJlMligjGfChPRLa X-Received: by 2002:a05:622a:1906:b0:467:6b96:dc5a with SMTP id d75a77b69052e-47167c108f9mr160139131cf.47.1739109294986; Sun, 09 Feb 2025 05:54:54 -0800 (PST) Received: from postal.iol.unh.edu (postal.iol.unh.edu. [132.177.123.84]) by smtp-relay.gmail.com with ESMTPS id d75a77b69052e-4718d170cb9sm539801cf.11.2025.02.09.05.54.54 (version=TLS1_2 cipher=ECDHE-ECDSA-AES128-GCM-SHA256 bits=128/128); Sun, 09 Feb 2025 05:54:54 -0800 (PST) X-Relaying-Domain: iol.unh.edu Date: Sun, 09 Feb 2025 05:54:54 -0800 (PST) Message-ID: <67a8b3ae.c80a0220.2183eb.2b90SMTPIN_ADDED_MISSING@mx.google.com> Received: from [172.17.0.3] (unknown [172.18.0.217]) by postal.iol.unh.edu (Postfix) with ESMTP id AA5B16052471; Sun, 9 Feb 2025 08:54:42 -0500 (EST) Subject: |SUCCESS| pw151216 [PATCH] crypto/mlx5: log when num of segs exceed From: dpdklab@iol.unh.edu To: Test Report Cc: dpdk-test-reports@iol.unh.edu In-Reply-To: <20250209120851.254695-1-getelson@nvidia.com> References: <20250209120851.254695-1-getelson@nvidia.com> Content-Type: text/plain X-BeenThere: test-report@dpdk.org X-Mailman-Version: 2.1.29 Precedence: list List-Id: automatic DPDK test reports List-Unsubscribe: , List-Archive: List-Post: List-Help: List-Subscribe: , Errors-To: test-report-bounces@dpdk.org Test-Label: iol-unit-arm64-testing Test-Status: SUCCESS http://dpdk.org/patch/151216 _Testing PASS_ Submitter: Gregory Etelson Date: Sunday, February 09 2025 12:08:51 DPDK git baseline: Repo:dpdk Branch: master CommitID:7125636162d67b1c40ba6802a3ff4466d125d243 151216 --> testing pass Upstream job id: Generic-Unit-Test-DPDK#313396 Test environment and result as below: +-----------------------------+----------------+---------------------------+--------------+------------------------------+ | Environment | dpdk_unit_test | cryptodev_sw_zuc_autotest | lpm_autotest | cryptodev_sw_snow3g_autotest | +=============================+================+===========================+==============+==============================+ | 32-bit Ubuntu 22.04.4 (ARM) | PASS | SKIPPED | SKIPPED | SKIPPED | +-----------------------------+----------------+---------------------------+--------------+------------------------------+ | Fedora 40 (ARM Clang) | PASS | SKIPPED | SKIPPED | SKIPPED | +-----------------------------+----------------+---------------------------+--------------+------------------------------+ | Debian 11 (Buster) (ARM) | PASS | SKIPPED | SKIPPED | SKIPPED | +-----------------------------+----------------+---------------------------+--------------+------------------------------+ | Fedora 41 (ARM Clang) | PASS | SKIPPED | SKIPPED | SKIPPED | +-----------------------------+----------------+---------------------------+--------------+------------------------------+ | Fedora 40 (ARM) | PASS | SKIPPED | SKIPPED | SKIPPED | +-----------------------------+----------------+---------------------------+--------------+------------------------------+ | CentOS Stream 9 (ARM) | PASS | SKIPPED | SKIPPED | SKIPPED | +-----------------------------+----------------+---------------------------+--------------+------------------------------+ | Debian 12 (arm) | PASS | PASS | SKIPPED | PASS | +-----------------------------+----------------+---------------------------+--------------+------------------------------+ | RHEL9 (ARM) | PASS | SKIPPED | SKIPPED | SKIPPED | +-----------------------------+----------------+---------------------------+--------------+------------------------------+ | Fedora 41 (ARM) | PASS | SKIPPED | SKIPPED | SKIPPED | +-----------------------------+----------------+---------------------------+--------------+------------------------------+ | Ubuntu 20.04 (ARM) | PASS | SKIPPED | SKIPPED | SKIPPED | +-----------------------------+----------------+---------------------------+--------------+------------------------------+ | Ubuntu 22.04 (ARM) | PASS | SKIPPED | SKIPPED | SKIPPED | +-----------------------------+----------------+---------------------------+--------------+------------------------------+ | Ubuntu 24.04 (ARM) | PASS | SKIPPED | SKIPPED | SKIPPED | +-----------------------------+----------------+---------------------------+--------------+------------------------------+ | Ubuntu 20.04 ARM SVE | SKIPPED | SKIPPED | PASS | SKIPPED | +-----------------------------+----------------+---------------------------+--------------+------------------------------+ 32-bit Ubuntu 22.04.4 (ARM) Kernel: 5.15.83+ aarch64 Compiler: gcc (Ubuntu 11.4.0-1ubuntu1~22.04) 11.4.0 Fedora 40 (ARM Clang) Kernel: Depends on container host Compiler: clang 18.1.8 (Fedora 18.1.8-1.fc40) Debian 11 (Buster) (ARM) Kernel: Depends on container host Compiler: gcc (Debian 10.2.1-6) 10.2.1 20210110 Fedora 41 (ARM Clang) Kernel: Depends on container host Compiler: clang 19.1.5 (Fedora 19.1.5-1.fc41) Fedora 40 (ARM) Kernel: Depends on container host Compiler: gcc 14.2.1 20240912 (Red Hat 14.2.1-3) CentOS Stream 9 (ARM) Kernel: Depends on container host Compiler: gcc 11.5.0 20240719 (Red Hat 11.5.0-2) Debian 12 (arm) Kernel: Depends on container host Compiler: gcc (Debian 12.2.0-14) 12.2.0 RHEL9 (ARM) Kernel: Depends on container host Compiler: gcc 11.5.0 20240719 (Red Hat 11.5.0-2) Fedora 41 (ARM) Kernel: Depends on container host Compiler: gcc 14.2.1 20240912 (Red Hat 14.2.1-3) Ubuntu 20.04 (ARM) Kernel: Depends on container host Compiler: gcc (Ubuntu 9.4.0-1ubuntu1~20.04.2) 9.4.0 Ubuntu 22.04 (ARM) Kernel: Depends on container host Compiler: gcc (Ubuntu 11.4.0-1ubuntu1~22.04) 11.4.0 Ubuntu 24.04 (ARM) Kernel: Depends on container host Compiler: gcc (Ubuntu 13.3.0-6ubuntu2~24.04) 13.3.0 Ubuntu 20.04 ARM SVE Kernel: Depends on container host Compiler: gcc (Ubuntu 10.5.0-1ubuntu1~20.04) 10.5.0 To view detailed results, visit: https://lab.dpdk.org/results/dashboard/patchsets/32538/ UNH-IOL DPDK Community Lab To manage your email subscriptions, visit: https://lab.dpdk.org/results/dashboard/preferences/subscriptions/