From mboxrd@z Thu Jan 1 00:00:00 1970 Return-Path: Received: from mails.dpdk.org (mails.dpdk.org [217.70.189.124]) by inbox.dpdk.org (Postfix) with ESMTP id BB69C461D9 for ; Sun, 9 Feb 2025 15:37:33 +0100 (CET) Received: from mails.dpdk.org (localhost [127.0.0.1]) by mails.dpdk.org (Postfix) with ESMTP id 92B67402B7; Sun, 9 Feb 2025 15:37:33 +0100 (CET) Received: from mail-oo1-f99.google.com (mail-oo1-f99.google.com [209.85.161.99]) by mails.dpdk.org (Postfix) with ESMTP id 42E48402A0 for ; Sun, 9 Feb 2025 15:37:32 +0100 (CET) Received: by mail-oo1-f99.google.com with SMTP id 006d021491bc7-5fa2685c5c0so1560822eaf.3 for ; Sun, 09 Feb 2025 06:37:32 -0800 (PST) DKIM-Signature: v=1; a=rsa-sha256; c=relaxed/relaxed; d=iol.unh.edu; s=unh-iol; t=1739111851; x=1739716651; darn=dpdk.org; h=cc:to:from:subject:message-id:date:from:to:cc:subject:date :message-id:reply-to; bh=An3q+ZZ3QTzCU/srfdMPxHHHI+Ia/e85He6QzjoBUjg=; b=Jabw15ZJG7Lscl2afvZVYplo31R28USZUbGspLXj2LSaCsVozKn4xenzkVVBQr9unA qc7tcBuDBLP6TrfO41LGWzJIoaa95Hob+SxaGPaGyt5c++VHID2Y+Y0OtMIIPtflnK03 AVPPt2sBpyv1YGTo9ObSnSAPgsAxRICter6xg= X-Google-DKIM-Signature: v=1; a=rsa-sha256; c=relaxed/relaxed; d=1e100.net; s=20230601; t=1739111851; x=1739716651; h=cc:to:from:subject:message-id:date:x-gm-message-state:from:to:cc :subject:date:message-id:reply-to; bh=An3q+ZZ3QTzCU/srfdMPxHHHI+Ia/e85He6QzjoBUjg=; b=NpwB7KniS5sA26EDXmyTYIXHfDOqX6X6uYFbJ7+BCEAIxnkMy+KxqNNpL1XkUk7dQc 8KuAyI8lanqNpDcHDsSobdMPi1LOcp4n3WRfT71KJ5RRAEazJU6OnYeR04KcsmRYscUv E8qcFhFLxq2P1dyPVQsL4Or5g4eGhSIx66xbkNnVnlIDEj6aFqgP/5Frjc77SoSz2a5U RtR9UuXfnHJp0Yh1UMBsvMJCwQIyV5Yk4sHR+sNCuBZimsI6jcKO2WO9XaN3E1ouNITu vUyPdjkFQ2EAEpLisY2fsk9bcsX388JP/Ep9LN2FL+vhsBnG3GnfeftbIEYzDHYwb/ea tQAw== X-Gm-Message-State: AOJu0YwSPeH46gAOUX+8fWShh9HPF2QgE5USwLFCvlPhCafAY7mClxPl BG0t+7tWtP7fqYdBkplxDnVjEgDH4P2UIjtSGp8g6VwbNAzrL5t0pvXj2fB2SPqhlcLIV1dJudG BMCOelo3EHw9kjj/NxqidnIH3V3nym6CiG1E8SGMl X-Gm-Gg: ASbGncvh/y9ZOxNC7z3VyZ7yUDKh9ZAzaQcGSoSlnrPKvIEIKH9mfZjMACz61RHfoHC 2byIoaqKKZwlQrjmD2GUz13GnavOmUGaIAZ5eqB8XlK89QH4Ok5HM2zchkEYNJqXRPDMXgx1Hs9 +Ldo02ZHYCc0WcjYh6lTYFO9IrX513enQErAE7R4Unbyo096dqEUW2Hnae1GDWlL1ebxg7TtEoX dCVX2WrIjIgZW5x1+/EYysxNhMrAOX9jzHRZfOQmY/JIpw4+F9NkxDmnp6dUBgTjabe7u7p5NIM hPl6ad68TBzA9fA8n9VREWyenqcz2w== X-Google-Smtp-Source: AGHT+IF7HJ2oRB/wfV5sJ/Zgj3LRjvL10JoSWxPb6paaFu/ht115jnUhOy+4vSOmxy1uiy41X6urb03NY5ja X-Received: by 2002:a05:6871:888:b0:2b3:8b27:c352 with SMTP id 586e51a60fabf-2b83ef8e912mr7088854fac.33.1739111851087; Sun, 09 Feb 2025 06:37:31 -0800 (PST) Received: from postal.iol.unh.edu (postal.iol.unh.edu. [132.177.123.84]) by smtp-relay.gmail.com with ESMTPS id 586e51a60fabf-2b893ceb41dsm11526fac.7.2025.02.09.06.37.30 (version=TLS1_2 cipher=ECDHE-ECDSA-AES128-GCM-SHA256 bits=128/128); Sun, 09 Feb 2025 06:37:31 -0800 (PST) X-Relaying-Domain: iol.unh.edu Date: Sun, 09 Feb 2025 06:37:31 -0800 (PST) Message-ID: <67a8bdab.050a0220.f2c27.0a3dSMTPIN_ADDED_MISSING@mx.google.com> Received: from [172.17.0.3] (unknown [172.18.0.217]) by postal.iol.unh.edu (Postfix) with ESMTP id 776F56052471; Sun, 9 Feb 2025 09:37:00 -0500 (EST) Subject: |WARNING| [GIT MASTER] b82daa7d47bda76b3879ef6d715b2d3eb737793f From: dpdklab@iol.unh.edu To: Test Report Cc: dpdk-test-reports@iol.unh.edu, Stephen Hemminger Content-Type: text/plain X-BeenThere: test-report@dpdk.org X-Mailman-Version: 2.1.29 Precedence: list List-Id: automatic DPDK test reports List-Unsubscribe: , List-Archive: List-Post: List-Help: List-Subscribe: , Errors-To: test-report-bounces@dpdk.org _Testing issues_ Branch: dpdk-next-net b82daa7d47bda76b3879ef6d715b2d3eb737793f --> testing issues Upstream job id: ACVP-FIPS-testing#8847 Test environment and result as below: +--------------------+----------------------+----------------------+ | Environment | compressdev_zlib_pmd | dpdk_fips_validation | +====================+======================+======================+ | Ubuntu 22.04 (ARM) | PASS | SKIPPED | +--------------------+----------------------+----------------------+ | Ubuntu 22.04 | PASS | SKIPPED | +--------------------+----------------------+----------------------+ | Ubuntu 20.04 | SKIPPED | WARN | +--------------------+----------------------+----------------------+ ==== 20 line log output for Ubuntu 20.04 (dpdk_fips_validation): ==== INFO:root:Uploading response file... INFO:root:Fetching verdict... INFO:root:Downloading verdict for vector set 2880518 INFO:root:Vector set verdict not ready, waiting 30 seconds... INFO:root:Vector set verdict not ready, waiting 30 seconds... INFO:root:Vector set verdict not ready, waiting 30 seconds... INFO:root:Done INFO:root:Using response file... INFO:root:Uploading response file... INFO:root:Fetching verdict... INFO:root:Downloading verdict for vector set 2880519 INFO:root:Vector set verdict not ready, waiting 30 seconds... INFO:root:Done INFO:root:Using response file... INFO:root:Uploading response file... INFO:root:Fetching verdict... INFO:root:Downloading verdict for vector set 2880520 INFO:root:Vector set verdict not ready, waiting 30 seconds... INFO:root:Vector set verdict not ready, waiting 30 seconds... INFO:root:Done ==== End log output ==== Ubuntu 22.04 (ARM) Kernel: 5.15.0-97-generic Compiler: gcc gcc (Ubuntu 11.4.0-1ubuntu1~22.04) 11.4.0 Ubuntu 22.04 Kernel: 5.15.0-100-generic Compiler: gcc gcc (Ubuntu 11.4.0-1ubuntu1~22.04) 11.4.0 Ubuntu 20.04 Kernel: Depends on container host Compiler: gcc (Ubuntu 9.4.0-1ubuntu1~20.04.2) 9.4.0 To view detailed results, visit: https://lab.dpdk.org/results/dashboard/tarballs/32508/ UNH-IOL DPDK Community Lab To manage your email subscriptions, visit: https://lab.dpdk.org/results/dashboard/preferences/subscriptions/