From mboxrd@z Thu Jan 1 00:00:00 1970 Return-Path: Received: from mails.dpdk.org (mails.dpdk.org [217.70.189.124]) by inbox.dpdk.org (Postfix) with ESMTP id 3E295461DA for ; Sun, 9 Feb 2025 16:56:11 +0100 (CET) Received: from mails.dpdk.org (localhost [127.0.0.1]) by mails.dpdk.org (Postfix) with ESMTP id 0E017402B7; Sun, 9 Feb 2025 16:56:11 +0100 (CET) Received: from mail-il1-f227.google.com (mail-il1-f227.google.com [209.85.166.227]) by mails.dpdk.org (Postfix) with ESMTP id 9769D402A0 for ; Sun, 9 Feb 2025 16:56:10 +0100 (CET) Received: by mail-il1-f227.google.com with SMTP id e9e14a558f8ab-3d0465a8d34so31976545ab.0 for ; Sun, 09 Feb 2025 07:56:10 -0800 (PST) DKIM-Signature: v=1; a=rsa-sha256; c=relaxed/relaxed; d=iol.unh.edu; s=unh-iol; t=1739116570; x=1739721370; darn=dpdk.org; h=references:in-reply-to:cc:to:from:subject:message-id:date:from:to :cc:subject:date:message-id:reply-to; bh=RJl4WnRJ52C8MP9ILjyiJmvuHEozH+Qf464uU3890eE=; b=gcRRhjSf4GtnYA6unU79ey345X0Bkj1QprTg3KjzbCGXMePZJ824QTye9Oxc8NjefW lX839gz0TCEs2W70Ian4jMN9qUUm67bmdiYuw2JsXhy91hYl5PZbEgozwULdsFM+LlsR rK7aRSi/bx3YyCCdxQQpydeKI/G62tQCAH33s= X-Google-DKIM-Signature: v=1; a=rsa-sha256; c=relaxed/relaxed; d=1e100.net; s=20230601; t=1739116570; x=1739721370; h=references:in-reply-to:cc:to:from:subject:message-id:date :x-gm-message-state:from:to:cc:subject:date:message-id:reply-to; bh=RJl4WnRJ52C8MP9ILjyiJmvuHEozH+Qf464uU3890eE=; b=GIIvnvO6j56QvTWGdIDXwD9lyf4gdbkln0PakFcmTN/5y3u7Pj1m1zgM3o8sz7vWVF mHieBkGrci1KpY7dP+hUq7jOZ9N1dcycAILihdUqKiSAXanXck9F5BUac9yE9x56EoNZ Zs4tVnKQ5M5htfHbu+UZwxfg47hRQvTZ3eL0GhahHjoAR7kOjNRgiTBL0OTptQBhi/xc jSVzSmvC027oEwuD31on++21TSAO10P1Gc8PAQIi97wQOIsWAx5zMmh0GvsTIadNw3Qm 1yEMBV1I0hM9BFdTK9qpaI+EhdbcedZmqajYe/mbxc0T3AOAvYcq1ik8jBrKAnELjIlB JYow== X-Gm-Message-State: AOJu0Yy67Qp5uwyqYs4pKoJ+8PyGrKlmjZy0Vc+nosT8WO34M9Omrkkn 6idu/8j8gpUTwY0XccPsY9asVihL3E/FOnuzh3iQAnfYf3q1uqikooac6XEXR+AZoPR5QnQ3La1 uEDZ/gbRtPR8u3/GUvNvhPh+htB9Dnkeujn6Q0ax2 X-Gm-Gg: ASbGncvc8Am6FmCerqG0A4jWlpxd9bOtUiCvSfU7OgBeZ3GYWf543HovO26cmFy75DK cnoftXZ7jEzGE8Q5icISAdmbuNPbo0vBRyt9JskapLWJDqbdbdaKmBuqiD28MBEU4TQNNHNYlBH zLsleirJNeBIAMk6AZljfWaeqFxt8/psHkSkYryw1oIlgLgJ2oD7nsUQSB6LQ6mt+YCWj9Emx2A FMZHLcbjZUaAma4FnSDBUPN//IkijMl+xGwq/mMYAlrdkC9sebZInVivUBra0APR3RqU2mL6JSc GbV1EDvyLC8TmGghcTM+baf23Pv82Q== X-Google-Smtp-Source: AGHT+IElFCECARsVwNhc9Ad0TgndJhstYX/CRgDzO3LNbQcfdC49d7bTlET/3ch4lHzxzyjVTyNG1EyRSSxX X-Received: by 2002:a05:6e02:1c83:b0:3ce:69ca:ef99 with SMTP id e9e14a558f8ab-3d13dd37ff7mr75950995ab.6.1739116569895; Sun, 09 Feb 2025 07:56:09 -0800 (PST) Received: from postal.iol.unh.edu (postal.iol.unh.edu. [132.177.123.84]) by smtp-relay.gmail.com with ESMTPS id e9e14a558f8ab-3d157e0a0d2sm1356185ab.48.2025.02.09.07.56.09 (version=TLS1_2 cipher=ECDHE-ECDSA-AES128-GCM-SHA256 bits=128/128); Sun, 09 Feb 2025 07:56:09 -0800 (PST) X-Relaying-Domain: iol.unh.edu Date: Sun, 09 Feb 2025 07:56:09 -0800 (PST) Message-ID: <67a8d019.920a0220.a7d05.70a7SMTPIN_ADDED_MISSING@mx.google.com> Received: from [172.17.0.3] (unknown [172.18.0.217]) by postal.iol.unh.edu (Postfix) with ESMTP id 591136052471; Sun, 9 Feb 2025 10:55:39 -0500 (EST) Subject: |WARNING| pw151183 [PATCH] drivers: allow build with VLAs From: dpdklab@iol.unh.edu To: Test Report Cc: dpdk-test-reports@iol.unh.edu In-Reply-To: <20250208092839.1238770-1-thomas@monjalon.net> References: <20250208092839.1238770-1-thomas@monjalon.net> Content-Type: text/plain X-BeenThere: test-report@dpdk.org X-Mailman-Version: 2.1.29 Precedence: list List-Id: automatic DPDK test reports List-Unsubscribe: , List-Archive: List-Post: List-Help: List-Subscribe: , Errors-To: test-report-bounces@dpdk.org Test-Label: iol-sample-apps-testing Test-Status: WARNING http://dpdk.org/patch/151183 _Testing issues_ Submitter: Thomas Monjalon Date: Saturday, February 08 2025 09:28:38 DPDK git baseline: Repo:dpdk Branch: master CommitID:3553897d84d8b54a1b1136cbf04dd7f1a40fd85b 151183 --> testing issues Upstream job id: ACVP-FIPS-testing#8848 Test environment and result as below: +--------------------+----------------------+----------------------+ | Environment | compressdev_zlib_pmd | dpdk_fips_validation | +====================+======================+======================+ | Ubuntu 22.04 (ARM) | PASS | SKIPPED | +--------------------+----------------------+----------------------+ | Ubuntu 22.04 | PASS | SKIPPED | +--------------------+----------------------+----------------------+ | Ubuntu 20.04 | SKIPPED | WARN | +--------------------+----------------------+----------------------+ ==== 20 line log output for Ubuntu 20.04 (dpdk_fips_validation): ==== INFO:root:Done INFO:root:Using response file... INFO:root:Uploading response file... INFO:root:Fetching verdict... INFO:root:Downloading verdict for vector set 2880523 INFO:root:Vector set verdict not ready, waiting 30 seconds... INFO:root:Done INFO:root:Using response file... INFO:root:Uploading response file... INFO:root:Fetching verdict... INFO:root:Downloading verdict for vector set 2880527 INFO:root:Vector set verdict not ready, waiting 30 seconds... INFO:root:Vector set verdict not ready, waiting 30 seconds... INFO:root:Done INFO:root:Using response file... INFO:root:Uploading response file... INFO:root:Fetching verdict... INFO:root:Downloading verdict for vector set 2880528 INFO:root:Vector set verdict not ready, waiting 30 seconds... INFO:root:Done ==== End log output ==== Ubuntu 22.04 (ARM) Kernel: 5.15.0-97-generic Compiler: gcc gcc (Ubuntu 11.4.0-1ubuntu1~22.04) 11.4.0 Ubuntu 22.04 Kernel: 5.15.0-100-generic Compiler: gcc gcc (Ubuntu 11.4.0-1ubuntu1~22.04) 11.4.0 Ubuntu 20.04 Kernel: Depends on container host Compiler: gcc (Ubuntu 9.4.0-1ubuntu1~20.04.2) 9.4.0 To view detailed results, visit: https://lab.dpdk.org/results/dashboard/patchsets/32536/ UNH-IOL DPDK Community Lab To manage your email subscriptions, visit: https://lab.dpdk.org/results/dashboard/preferences/subscriptions/