From mboxrd@z Thu Jan 1 00:00:00 1970 Return-Path: Received: from mails.dpdk.org (mails.dpdk.org [217.70.189.124]) by inbox.dpdk.org (Postfix) with ESMTP id F3265461DA for ; Sun, 9 Feb 2025 17:04:46 +0100 (CET) Received: from mails.dpdk.org (localhost [127.0.0.1]) by mails.dpdk.org (Postfix) with ESMTP id C03DB40647; Sun, 9 Feb 2025 17:04:46 +0100 (CET) Received: from mail-oa1-f98.google.com (mail-oa1-f98.google.com [209.85.160.98]) by mails.dpdk.org (Postfix) with ESMTP id 105C4402A0 for ; Sun, 9 Feb 2025 17:04:46 +0100 (CET) Received: by mail-oa1-f98.google.com with SMTP id 586e51a60fabf-2aa17010cbcso2683768fac.3 for ; Sun, 09 Feb 2025 08:04:46 -0800 (PST) DKIM-Signature: v=1; a=rsa-sha256; c=relaxed/relaxed; d=iol.unh.edu; s=unh-iol; t=1739117085; x=1739721885; darn=dpdk.org; h=references:in-reply-to:cc:to:from:subject:message-id:date:from:to :cc:subject:date:message-id:reply-to; bh=/QNqDowJ/HRtiVZ+8IVWvWAiUmHX43DMmnHNwLT/PSY=; b=QV7drBLLGUs95KA5EEf3OnlTL+Y+PuIyocQBL2rxqitp9D5ACDUXJHdZjZOCtBtajv oWcHBNHkLmL9DOQTWHKGQFUhj0SId5j5h0gzNRpbI/P0wa9UWZVhYQP+1xzM2jgxKFgg C6ctvOcqUrYkbh+4BUmkvCuT/Pt+aSDZ5u8AI= X-Google-DKIM-Signature: v=1; a=rsa-sha256; c=relaxed/relaxed; d=1e100.net; s=20230601; t=1739117085; x=1739721885; h=references:in-reply-to:cc:to:from:subject:message-id:date :x-gm-message-state:from:to:cc:subject:date:message-id:reply-to; bh=/QNqDowJ/HRtiVZ+8IVWvWAiUmHX43DMmnHNwLT/PSY=; b=RCQQgoichgj+pl4SwD2MQi32Nre11XdWqOnQcIo96dDxUAQaxrlwTIPYqIvY979ElZ APsuG4YHYM2DhKLTp9LsR+PnaVRemqKQXoN+OicgKhcdWxRgzPsxXddDHdKc7TS6QXbb 7NlqctVAl9wrJ6M3ONYDi1wGhDsX95qadDJfODRQR9jPPzypRhzhkowjC5RpVtDS7rdj z1/5XTsOiNyE4nkWeUYnXnW/gssaFgwnaM9/u3BF1XyPD4eBORXsCLUuivFjPSqcL5Mk tj5UVHM8AyFbtWAZk/6b/g+lFs6O8KzXIPHzWbqqzSIiwzHGeaXWRbhTEKi+RXKHmetr GLVQ== X-Gm-Message-State: AOJu0YxEDZc4tNAh/DXCud2B4pNx7k/IYAcHYF9ZG2ayC7mr+sglFyaE EIMZzcSyAUvFdMnSHVUXoE7JUTOh1Cek2fxbZknhwAtPlWpzoNpHOm3SKifiXZ15Qcx6PIiX7EP EwJ2E9xo6M2IA4fOH3QqyfdH+Wf2Uo8jJEZNq4MMR X-Gm-Gg: ASbGnctZy1mWb+DlwVQc1Q7tMQRwNKVyu2TDXjl229Bet2BzR0Bhmbg5TL2mrl+TqQY q6sQse23854mTWEQw6/4380C/Gf6FBKHHq8PZP+2W55vFWIBl8UJv8PcfHZfjK4lSXgSu2mlstn t4JO6Hd0K73z7wiS3k5ak8mx1j4JyX0ZszvnBLsyHtNh6zYbH36kNToHsxHWaPjNKh6EH+b8oak 00wKD7J/D56SoXfRDcCPv7qwj+GyLR7ibDSAEGRzTrjZqviDiVnXuxvEWmb74OnkDIdwLpwa2Ul yTR2+AK+xzIozLxj0MV8zXLcMn02mA== X-Google-Smtp-Source: AGHT+IEzyx5cbVYt4Q7A83H5w7n8152OZFgbCZlz39ZKf7WBhu0PVOQYhK2QwHLgmQvak6X3wcg0NnERmD3+ X-Received: by 2002:a05:6870:9729:b0:29e:66a1:2236 with SMTP id 586e51a60fabf-2b83e7951e7mr6017002fac.0.1739117084975; Sun, 09 Feb 2025 08:04:44 -0800 (PST) Received: from postal.iol.unh.edu (postal.iol.unh.edu. [132.177.123.84]) by smtp-relay.gmail.com with ESMTPS id 586e51a60fabf-2b88d7f753dsm26016fac.31.2025.02.09.08.04.44 (version=TLS1_2 cipher=ECDHE-ECDSA-AES128-GCM-SHA256 bits=128/128); Sun, 09 Feb 2025 08:04:44 -0800 (PST) X-Relaying-Domain: iol.unh.edu Date: Sun, 09 Feb 2025 08:04:44 -0800 (PST) Message-ID: <67a8d21c.050a0220.1f110e.16d3SMTPIN_ADDED_MISSING@mx.google.com> Received: from [172.17.0.3] (unknown [172.18.0.217]) by postal.iol.unh.edu (Postfix) with ESMTP id 5F8166052471; Sun, 9 Feb 2025 11:04:44 -0500 (EST) Subject: |SUCCESS| pw151217 [PATCH] net/mlx5/hws: change error flow on matche From: dpdklab@iol.unh.edu To: Test Report Cc: dpdk-test-reports@iol.unh.edu In-Reply-To: <20250209134806.263338-1-getelson@nvidia.com> References: <20250209134806.263338-1-getelson@nvidia.com> Content-Type: text/plain X-BeenThere: test-report@dpdk.org X-Mailman-Version: 2.1.29 Precedence: list List-Id: automatic DPDK test reports List-Unsubscribe: , List-Archive: List-Post: List-Help: List-Subscribe: , Errors-To: test-report-bounces@dpdk.org Test-Label: iol-compile-amd64-testing Test-Status: SUCCESS http://dpdk.org/patch/151217 _Testing PASS_ Submitter: Gregory Etelson Date: Sunday, February 09 2025 13:48:06 DPDK git baseline: Repo:dpdk Branch: master CommitID:af389f2da68c0e9bb08a68055996bececbd45108 151217 --> testing pass Upstream job id: Generic-DPDK-Compile-Meson#359855 Test environment and result as below: +---------------------+--------------------+------------------+-------------------+-------------------------+-------------------+----------------------+ | Environment | dpdk_meson_compile | dpdk_compile_ovs | dpdk_compile_spdk | dpdk_llvm_clang_compile | dpdk_msvc_compile | dpdk_mingw64_compile | +=====================+====================+==================+===================+=========================+===================+======================+ | CentOS Stream 9 | PASS | PASS | PASS | SKIPPED | SKIPPED | SKIPPED | +---------------------+--------------------+------------------+-------------------+-------------------------+-------------------+----------------------+ | Debian Bullseye | PASS | PASS | PASS | SKIPPED | SKIPPED | SKIPPED | +---------------------+--------------------+------------------+-------------------+-------------------------+-------------------+----------------------+ | Fedora 40 (Clang) | PASS | PASS | PASS | SKIPPED | SKIPPED | SKIPPED | +---------------------+--------------------+------------------+-------------------+-------------------------+-------------------+----------------------+ | Fedora 40 | PASS | PASS | PASS | SKIPPED | SKIPPED | SKIPPED | +---------------------+--------------------+------------------+-------------------+-------------------------+-------------------+----------------------+ | Fedora 41 (Clang) | PASS | PASS | PASS | SKIPPED | SKIPPED | SKIPPED | +---------------------+--------------------+------------------+-------------------+-------------------------+-------------------+----------------------+ | Fedora 41 | PASS | PASS | PASS | SKIPPED | SKIPPED | SKIPPED | +---------------------+--------------------+------------------+-------------------+-------------------------+-------------------+----------------------+ | openSUSE Leap 15 | PASS | SKIPPED | SKIPPED | SKIPPED | SKIPPED | SKIPPED | +---------------------+--------------------+------------------+-------------------+-------------------------+-------------------+----------------------+ | RHEL8 | PASS | PASS | SKIPPED | SKIPPED | SKIPPED | SKIPPED | +---------------------+--------------------+------------------+-------------------+-------------------------+-------------------+----------------------+ | RHEL9 | PASS | PASS | SKIPPED | SKIPPED | SKIPPED | SKIPPED | +---------------------+--------------------+------------------+-------------------+-------------------------+-------------------+----------------------+ | Ubuntu 20.04 | PASS | SKIPPED | SKIPPED | SKIPPED | SKIPPED | SKIPPED | +---------------------+--------------------+------------------+-------------------+-------------------------+-------------------+----------------------+ | Ubuntu 22.04 | PASS | PASS | PASS | SKIPPED | SKIPPED | SKIPPED | +---------------------+--------------------+------------------+-------------------+-------------------------+-------------------+----------------------+ | Ubuntu 24.04 | PASS | PASS | PASS | SKIPPED | SKIPPED | SKIPPED | +---------------------+--------------------+------------------+-------------------+-------------------------+-------------------+----------------------+ | Alpine | PASS | PASS | SKIPPED | SKIPPED | SKIPPED | SKIPPED | +---------------------+--------------------+------------------+-------------------+-------------------------+-------------------+----------------------+ | FreeBSD 13.4 | PASS | SKIPPED | SKIPPED | SKIPPED | SKIPPED | SKIPPED | +---------------------+--------------------+------------------+-------------------+-------------------------+-------------------+----------------------+ | FreeBSD 14.2 | PASS | SKIPPED | SKIPPED | SKIPPED | SKIPPED | SKIPPED | +---------------------+--------------------+------------------+-------------------+-------------------------+-------------------+----------------------+ | Debian 12 | PASS | PASS | PASS | SKIPPED | SKIPPED | SKIPPED | +---------------------+--------------------+------------------+-------------------+-------------------------+-------------------+----------------------+ | Windows Server 2022 | SKIPPED | SKIPPED | SKIPPED | PASS | PASS | PASS | +---------------------+--------------------+------------------+-------------------+-------------------------+-------------------+----------------------+ CentOS Stream 9 Kernel: Depends on container host Compiler: gcc 11.5.0 20240719 (Red Hat 11.5.0-2) Debian Bullseye Kernel: Depends on container host Compiler: gcc (Debian 10.2.1-6) 10.2.1 20210110 Fedora 40 (Clang) Kernel: Depends on container host Compiler: clang 18.1.8 (Fedora 18.1.8-1.fc40) Fedora 40 Kernel: Depends on container host Compiler: gcc 14.2.1 20240912 (Red Hat 14.2.1-3) Fedora 41 (Clang) Kernel: Depends on container host Compiler: clang 19.1.5 (Fedora 19.1.5-1.fc41) Fedora 41 Kernel: Depends on container host Compiler: gcc 14.2.1 20240912 (Red Hat 14.2.1-3) openSUSE Leap 15 Kernel: Depends on container host Compiler: gcc (SUSE Linux) 7.5.0 RHEL8 Kernel: Depends on container host Compiler: gcc 8.5.0 20210514 (Red Hat 8.5.0-22) RHEL9 Kernel: Depends on container host Compiler: gcc 11.5.0 20240719 (Red Hat 11.5.0-2) Ubuntu 20.04 Kernel: Depends on container host Compiler: gcc (Ubuntu 9.4.0-1ubuntu1~20.04.2) 9.4.0 Ubuntu 22.04 Kernel: Depends on container host Compiler: gcc (Ubuntu 11.4.0-1ubuntu1~22.04) 11.4.0 Ubuntu 24.04 Kernel: Depends on container host Compiler: gcc (Ubuntu 13.3.0-6ubuntu2~24.04) 13.3.0 Alpine Kernel: Depends on container host Compiler: gcc (Alpine 14.2.0) 14.2.0 FreeBSD 13.4 Kernel: 13.4-RELEASE-p1 Compiler: clang 18.1.6 FreeBSD 14.2 Kernel: 14.2-RELEASE Compiler: clang 18.1.6 Debian 12 Kernel: Depends on container host Compiler: gcc (Debian 12.2.0-14) 12.2.0 Windows Server 2022 Kernel: 10.0.20348.2031 Compiler: clang 15.0.7, gcc 14.1.0 (MinGW), and MSVC VS 19.39.33521 To view detailed results, visit: https://lab.dpdk.org/results/dashboard/patchsets/32539/ UNH-IOL DPDK Community Lab To manage your email subscriptions, visit: https://lab.dpdk.org/results/dashboard/preferences/subscriptions/