From: dpdklab@iol.unh.edu
To: Test Report <test-report@dpdk.org>
Cc: dpdk-test-reports@iol.unh.edu
Subject: |SUCCESS| pw151184-151215 [PATCH] [32/32] test/cryptodev: replace me
Date: Sun, 09 Feb 2025 08:22:31 -0800 (PST) [thread overview]
Message-ID: <67a8d647.920a0220.a7d05.7278SMTPIN_ADDED_MISSING@mx.google.com> (raw)
In-Reply-To: <20250208203142.242284-33-stephen@networkplumber.org>
Test-Label: iol-sample-apps-testing
Test-Status: SUCCESS
http://dpdk.org/patch/151215
_Testing PASS_
Submitter: Stephen Hemminger <stephen@networkplumber.org>
Date: Saturday, February 08 2025 20:22:24
DPDK git baseline: Repo:dpdk
Branch: master
CommitID:3553897d84d8b54a1b1136cbf04dd7f1a40fd85b
151184-151215 --> testing pass
Upstream job id: ACVP-FIPS-testing#8849
Test environment and result as below:
+--------------------+----------------------+----------------------+
| Environment | compressdev_zlib_pmd | dpdk_fips_validation |
+====================+======================+======================+
| Ubuntu 22.04 (ARM) | PASS | SKIPPED |
+--------------------+----------------------+----------------------+
| Ubuntu 22.04 | PASS | SKIPPED |
+--------------------+----------------------+----------------------+
| Ubuntu 20.04 | SKIPPED | PASS |
+--------------------+----------------------+----------------------+
Ubuntu 22.04 (ARM)
Kernel: 5.15.0-97-generic
Compiler: gcc gcc (Ubuntu 11.4.0-1ubuntu1~22.04) 11.4.0
Ubuntu 22.04
Kernel: 5.15.0-100-generic
Compiler: gcc gcc (Ubuntu 11.4.0-1ubuntu1~22.04) 11.4.0
Ubuntu 20.04
Kernel: Depends on container host
Compiler: gcc (Ubuntu 9.4.0-1ubuntu1~20.04.2) 9.4.0
To view detailed results, visit:
https://lab.dpdk.org/results/dashboard/patchsets/32537/
UNH-IOL DPDK Community Lab
To manage your email subscriptions, visit:
https://lab.dpdk.org/results/dashboard/preferences/subscriptions/
prev parent reply other threads:[~2025-02-09 16:22 UTC|newest]
Thread overview: 23+ messages / expand[flat|nested] mbox.gz Atom feed top
[not found] <20250208203142.242284-33-stephen@networkplumber.org>
2025-02-08 20:09 ` |SUCCESS| pw151184-151215 [PATCH 32/32] test/cryptodev: replace memcpy with structure assignment qemudev
2025-02-08 20:14 ` qemudev
2025-02-08 20:36 ` |SUCCESS| pw151215 " checkpatch
2025-02-08 21:09 ` |PENDING| pw151184-151215 [PATCH] [32/32] test/cryptodev: replace me dpdklab
2025-02-08 21:12 ` dpdklab
2025-02-08 21:13 ` dpdklab
2025-02-08 21:15 ` dpdklab
2025-02-08 21:17 ` |SUCCESS| " dpdklab
2025-02-08 21:17 ` dpdklab
2025-02-08 21:24 ` |SUCCESS| pw151215 [PATCH 32/32] test/cryptodev: replace memcpy with structure assignment 0-day Robot
2025-02-08 21:30 ` |SUCCESS| pw151184-151215 [PATCH] [32/32] test/cryptodev: replace me dpdklab
2025-02-08 21:37 ` dpdklab
2025-02-08 21:42 ` dpdklab
2025-02-08 21:49 ` dpdklab
2025-02-08 21:50 ` dpdklab
2025-02-08 21:52 ` dpdklab
2025-02-08 21:58 ` dpdklab
2025-02-08 22:12 ` dpdklab
2025-02-08 22:39 ` dpdklab
2025-02-09 2:07 ` dpdklab
2025-02-09 11:00 ` dpdklab
2025-02-09 11:12 ` dpdklab
2025-02-09 16:22 ` dpdklab [this message]
Reply instructions:
You may reply publicly to this message via plain-text email
using any one of the following methods:
* Save the following mbox file, import it into your mail client,
and reply-to-all from there: mbox
Avoid top-posting and favor interleaved quoting:
https://en.wikipedia.org/wiki/Posting_style#Interleaved_style
* Reply using the --to, --cc, and --in-reply-to
switches of git-send-email(1):
git send-email \
--in-reply-to=67a8d647.920a0220.a7d05.7278SMTPIN_ADDED_MISSING@mx.google.com \
--to=dpdklab@iol.unh.edu \
--cc=dpdk-test-reports@iol.unh.edu \
--cc=test-report@dpdk.org \
/path/to/YOUR_REPLY
https://kernel.org/pub/software/scm/git/docs/git-send-email.html
* If your mail client supports setting the In-Reply-To header
via mailto: links, try the mailto: link
Be sure your reply has a Subject: header at the top and a blank line
before the message body.
This is a public inbox, see mirroring instructions
for how to clone and mirror all data and code used for this inbox;
as well as URLs for NNTP newsgroup(s).