From mboxrd@z Thu Jan 1 00:00:00 1970 Return-Path: Received: from mails.dpdk.org (mails.dpdk.org [217.70.189.124]) by inbox.dpdk.org (Postfix) with ESMTP id 4E475461DA for ; Sun, 9 Feb 2025 17:49:26 +0100 (CET) Received: from mails.dpdk.org (localhost [127.0.0.1]) by mails.dpdk.org (Postfix) with ESMTP id 319C5402B7; Sun, 9 Feb 2025 17:49:26 +0100 (CET) Received: from mail-il1-f225.google.com (mail-il1-f225.google.com [209.85.166.225]) by mails.dpdk.org (Postfix) with ESMTP id C4EAB402A0 for ; Sun, 9 Feb 2025 17:49:25 +0100 (CET) Received: by mail-il1-f225.google.com with SMTP id e9e14a558f8ab-3d03ac846a7so12129425ab.2 for ; Sun, 09 Feb 2025 08:49:25 -0800 (PST) DKIM-Signature: v=1; a=rsa-sha256; c=relaxed/relaxed; d=iol.unh.edu; s=unh-iol; t=1739119765; x=1739724565; darn=dpdk.org; h=cc:to:from:subject:message-id:date:from:to:cc:subject:date :message-id:reply-to; bh=PqB3W+q+luqr9xs24XK9dG1dszppslxsT3LlpKY9a7I=; b=T50wlwrDLjt11QUziACM75A4l9PC/6pPnDxfdGaygZaObSAZx3nFwlSclNExBGWot3 GqaXtpsEsS0h0hGFVLiURvKyK9bewGbIywdnZ/qhrPRbtgi9WcvZk/wN0SoQBW8NrpvQ ljTBrYGPTbshYZ84HOB+lEDQ0KGiqX79iSGak= X-Google-DKIM-Signature: v=1; a=rsa-sha256; c=relaxed/relaxed; d=1e100.net; s=20230601; t=1739119765; x=1739724565; h=cc:to:from:subject:message-id:date:x-gm-message-state:from:to:cc :subject:date:message-id:reply-to; bh=PqB3W+q+luqr9xs24XK9dG1dszppslxsT3LlpKY9a7I=; b=UVrDRtqhVXiQ6+ebzLD9OtMPVpDjKkdmoWuSaVOhb15obFwK53bnZMCvJfC8hkImAS sr4tWPsS4Tlq6kTz5PCutdEVfRSB/FL1Cs4WCEddR/4aWqZxscmt0h6mpafB3aTQieHc Awlwy9DTMKJNVqn5FQGW+SKzIsnebcNshTTLOEX7W3gorfoBKXirZOi5Jw2+jl1DNUrS KFVkUb2aQq1g2922cmqVM8dObZZuJZFZmOqL5P5p+FGKLikBDfHjeEBRVXZNxgqzfQUz rbvXfz3HjJ85+sOIl5e55dQJfoOLa0XdVeaNlrwdu117gYjYcP1gzTOOETcyI/hvgMKn 2V5Q== X-Gm-Message-State: AOJu0YzT2kTX5zIxXcnX4xtndXTllqgkWjebpmjiaeAwgXjfeGTrCfl2 StaIMI539g96dDLCyae6N0VK7UMexMIq6CvpJG6TBkbPAbunT+5f0JoCwIg5y73B61MOB9LBnR9 K+yxPmRi6M5QxoKNXm/NL+LcEPVmRpn1A X-Gm-Gg: ASbGnctNZtNikEojyv+5hZIaXCDh/LaboeGmn5O1LWcb28KESc+yYLFLkwGNv2FxKGa CQndu5n3n5RjK1GNNF7pHWCbprYgvBQhbb4UtGwbg25aIx86NxCaCsHhz1QeBth13BP6ZJGUXsI QxpPpUdFZuaLjnitkgVygCbWAs4KvE2zFHV+6J2mBq2NcvDdHCpOCdq5uoTaVFVG8jBylJz3IGO PRXdmFA76fszqRw6s3NINA8v9EoIWNiTd2SSoIiJ2ucGszHLG77/WvTLcF/hd/RV766Uy2wmeQv gGh0CzX4kCIIbZhwahsKWS844cQ4IA== X-Google-Smtp-Source: AGHT+IEK05nmgxSP2dU2E5PQNcmHlpaEXhMEY6E/Q9xFAQsatWPik4fz6ZPk1XfsTF6oRVpyypvowUN+/wsX X-Received: by 2002:a05:6e02:b23:b0:3d0:24c0:bd3e with SMTP id e9e14a558f8ab-3d13dd2104amr88222665ab.7.1739119764887; Sun, 09 Feb 2025 08:49:24 -0800 (PST) Received: from postal.iol.unh.edu (postal.iol.unh.edu. [132.177.123.84]) by smtp-relay.gmail.com with ESMTPS id 8926c6da1cb9f-4eccf9f3925sm460923173.35.2025.02.09.08.49.24 (version=TLS1_2 cipher=ECDHE-ECDSA-AES128-GCM-SHA256 bits=128/128); Sun, 09 Feb 2025 08:49:24 -0800 (PST) X-Relaying-Domain: iol.unh.edu Date: Sun, 09 Feb 2025 08:49:24 -0800 (PST) Message-ID: <67a8dc94.050a0220.2e4456.6e12SMTPIN_ADDED_MISSING@mx.google.com> Received: from [172.17.0.3] (unknown [172.18.0.217]) by postal.iol.unh.edu (Postfix) with ESMTP id 549046052471; Sun, 9 Feb 2025 11:49:24 -0500 (EST) Subject: |WARNING| [GIT MASTER] 7ce7d3341d7e21c2a81f2fea8e451681d7306d77 From: dpdklab@iol.unh.edu To: Test Report Cc: dpdk-test-reports@iol.unh.edu, Xueming Li , Christian Ehrhardt , Kevin Traynor , Luca Boccassi Content-Type: text/plain X-BeenThere: test-report@dpdk.org X-Mailman-Version: 2.1.29 Precedence: list List-Id: automatic DPDK test reports List-Unsubscribe: , List-Archive: List-Post: List-Help: List-Subscribe: , Errors-To: test-report-bounces@dpdk.org _Testing issues_ Branch: tags/v22.11 7ce7d3341d7e21c2a81f2fea8e451681d7306d77 --> testing issues Upstream job id: ACVP-FIPS-testing#8850 Test environment and result as below: +--------------------+----------------------+----------------------+ | Environment | compressdev_zlib_pmd | dpdk_fips_validation | +====================+======================+======================+ | Ubuntu 22.04 (ARM) | PASS | SKIPPED | +--------------------+----------------------+----------------------+ | Ubuntu 22.04 | PASS | SKIPPED | +--------------------+----------------------+----------------------+ | Ubuntu 20.04 | SKIPPED | WARN | +--------------------+----------------------+----------------------+ ==== 20 line log output for Ubuntu 20.04 (dpdk_fips_validation): ==== INFO:root:Fetching verdict... INFO:root:Downloading verdict for vector set 2880538 INFO:root:Vector set verdict not ready, waiting 30 seconds... INFO:root:Vector set verdict not ready, waiting 30 seconds... INFO:root:Vector set verdict not ready, waiting 30 seconds... INFO:root:Done INFO:root:Using response file... INFO:root:Uploading response file... INFO:root:Fetching verdict... INFO:root:Downloading verdict for vector set 2880539 INFO:root:Vector set verdict not ready, waiting 30 seconds... INFO:root:Vector set verdict not ready, waiting 30 seconds... INFO:root:Done INFO:root:Using response file... Traceback (most recent call last): File "/dpdk-ci/tools/acvp/acvp_tool.py", line 368, in main( File "/dpdk-ci/tools/acvp/acvp_tool.py", line 314, in main with open(response_path, 'r') as upload_file: FileNotFoundError: [Errno 2] No such file or directory: '/root/workspace/ACVP-FIPS-testing/out/acvp-aes-ctr-answers.rsp' ==== End log output ==== Ubuntu 22.04 (ARM) Kernel: 5.15.0-97-generic Compiler: gcc gcc (Ubuntu 11.4.0-1ubuntu1~22.04) 11.4.0 Ubuntu 22.04 Kernel: 5.15.0-100-generic Compiler: gcc gcc (Ubuntu 11.4.0-1ubuntu1~22.04) 11.4.0 Ubuntu 20.04 Kernel: Depends on container host Compiler: gcc (Ubuntu 9.4.0-1ubuntu1~20.04.2) 9.4.0 To view detailed results, visit: https://lab.dpdk.org/results/dashboard/tarballs/32513/ UNH-IOL DPDK Community Lab To manage your email subscriptions, visit: https://lab.dpdk.org/results/dashboard/preferences/subscriptions/