From mboxrd@z Thu Jan 1 00:00:00 1970 Return-Path: Received: from mails.dpdk.org (mails.dpdk.org [217.70.189.124]) by inbox.dpdk.org (Postfix) with ESMTP id 7B309461DB for ; Sun, 9 Feb 2025 18:16:10 +0100 (CET) Received: from mails.dpdk.org (localhost [127.0.0.1]) by mails.dpdk.org (Postfix) with ESMTP id 534BE40647; Sun, 9 Feb 2025 18:16:10 +0100 (CET) Received: from mail-oi1-f227.google.com (mail-oi1-f227.google.com [209.85.167.227]) by mails.dpdk.org (Postfix) with ESMTP id 2C5CA402B7 for ; Sun, 9 Feb 2025 18:16:09 +0100 (CET) Received: by mail-oi1-f227.google.com with SMTP id 5614622812f47-3ebb2d8dac4so2346221b6e.0 for ; Sun, 09 Feb 2025 09:16:09 -0800 (PST) DKIM-Signature: v=1; a=rsa-sha256; c=relaxed/relaxed; d=iol.unh.edu; s=unh-iol; t=1739121368; x=1739726168; darn=dpdk.org; h=cc:to:from:subject:message-id:date:from:to:cc:subject:date :message-id:reply-to; bh=IyKmyu01v6iLsfxEuIQjZFGoF0271+Jg2MygNMEOKUI=; b=K2k1gyxYWtZQt+7TOe5HvYh4ScS7/GoAS8ebY4XpWi3qK9fwVJ23b9Xu717YHqF167 DkIZVJBYUFdmpImAsd9292RrxlaFEuVwkdIr7uBaWjpUt62HpKjOpx75R5C+WcllLRll h2SoM5xO/cuqkp4FtXzVJk2shxfiTVT5UIXYM= X-Google-DKIM-Signature: v=1; a=rsa-sha256; c=relaxed/relaxed; d=1e100.net; s=20230601; t=1739121368; x=1739726168; h=cc:to:from:subject:message-id:date:x-gm-message-state:from:to:cc :subject:date:message-id:reply-to; bh=IyKmyu01v6iLsfxEuIQjZFGoF0271+Jg2MygNMEOKUI=; b=PBCvVUVdZQOdlfXjPp/et7gBMgF+8idgVlLmpaqz88ZcHKZLr5vZGcBSgFR5fncv2K S/G7HaXkgRSLLrIktJwXofussKuLyhnG4QsHzJlrJMzWx6SiO0gYSmmbzxoRUIVN3NGq dY2pnhOxDHt12nyW33K/EHoDHq6N1nZFtUbUw4KmpmEVSMLvD8vMLMsSM3Fa5bzl6S1/ 0DxLxU/VjsCqtknDgz257eLBS9HfOdIe7VwxrU+Q+XS60ZhyoJCUOzP0djMQ1fU/8hFd H63ECIBPP87pLb53o9qkF4aTsBo2zFgsSoKnRr2u+4etGCI2jnOJ9U40HxSrQq1JnnBP evow== X-Gm-Message-State: AOJu0YzprxpRjbZ+QzKRyZ8ljLrM0L8ZkT7wxkOtO8oS9gvkLwBub0j8 U8h+6KavAydxoQU3M/rrPxp3BMp3thte6MgMK+vqciQh4yZTch61J2l+aKulZyDAKC9/Wjr5acE tEy8c/yWjC/eS9MdxAboKwiW8sw/7Z5sc X-Gm-Gg: ASbGncuexrTEGtR6nJyE1oYEczLCpnpr/D4gh2wceGqptR0eLnmXiFw4JX1a10/zdKm 145Gt9G/Vs0KmDsk+LTpomyS2LDn+GW957T/rC+YGOmUIzv8dAb/z6NkaFSdkEubv388unK8W2P Xo75sahsGsjC29BQGV0yml1YW7WIeuTqKvK1Vi6vYqclXpvprNIW6JBYhOo1cOH4PytQeTdQcbD jy2berx97ZtJI1/Q3JAK1PBIKeW1sdYmBKJF6YPIoQ4OBfCoruDomZxW2Zsm6pozr70Y5hc7Jts AKJHe6u94TmEXcZIpXFLBXijWzaL4Q== X-Google-Smtp-Source: AGHT+IGP86zBhSfzZdaqTZBiCs+19kBze33wLAr/RdoEyLM89KyEgeWLZn3/BuBCIP1SdiKyBvKr+qmZZozW X-Received: by 2002:a05:6871:a586:b0:2b8:3e6b:605 with SMTP id 586e51a60fabf-2b83ed8adbcmr5932292fac.20.1739121368141; Sun, 09 Feb 2025 09:16:08 -0800 (PST) Received: from postal.iol.unh.edu (postal.iol.unh.edu. [132.177.123.84]) by smtp-relay.gmail.com with ESMTPS id 586e51a60fabf-2b8261e77e0sm356232fac.27.2025.02.09.09.16.08 (version=TLS1_2 cipher=ECDHE-ECDSA-AES128-GCM-SHA256 bits=128/128); Sun, 09 Feb 2025 09:16:08 -0800 (PST) X-Relaying-Domain: iol.unh.edu Date: Sun, 09 Feb 2025 09:16:08 -0800 (PST) Message-ID: <67a8e2d8.050a0220.36346c.177cSMTPIN_ADDED_MISSING@mx.google.com> Received: from [172.17.0.3] (unknown [172.18.0.217]) by postal.iol.unh.edu (Postfix) with ESMTP id 5F2776052471; Sun, 9 Feb 2025 12:15:49 -0500 (EST) Subject: |SUCCESS| [GIT MASTER] f2eea2f37a82bb73fb01d56350708f7d70e21379 From: dpdklab@iol.unh.edu To: Test Report Cc: dpdk-test-reports@iol.unh.edu, Xueming Li , Christian Ehrhardt , Kevin Traynor , Luca Boccassi Content-Type: text/plain X-BeenThere: test-report@dpdk.org X-Mailman-Version: 2.1.29 Precedence: list List-Id: automatic DPDK test reports List-Unsubscribe: , List-Archive: List-Post: List-Help: List-Subscribe: , Errors-To: test-report-bounces@dpdk.org _Testing PASS_ Branch: tags/v24.11 f2eea2f37a82bb73fb01d56350708f7d70e21379 --> testing pass Upstream job id: ACVP-FIPS-testing#8851 Test environment and result as below: +--------------------+----------------------+----------------------+ | Environment | compressdev_zlib_pmd | dpdk_fips_validation | +====================+======================+======================+ | Ubuntu 22.04 (ARM) | PASS | SKIPPED | +--------------------+----------------------+----------------------+ | Ubuntu 22.04 | PASS | SKIPPED | +--------------------+----------------------+----------------------+ | Ubuntu 20.04 | SKIPPED | PASS | +--------------------+----------------------+----------------------+ Ubuntu 22.04 (ARM) Kernel: 5.15.0-97-generic Compiler: gcc gcc (Ubuntu 11.4.0-1ubuntu1~22.04) 11.4.0 Ubuntu 22.04 Kernel: 5.15.0-100-generic Compiler: gcc gcc (Ubuntu 11.4.0-1ubuntu1~22.04) 11.4.0 Ubuntu 20.04 Kernel: Depends on container host Compiler: gcc (Ubuntu 9.4.0-1ubuntu1~20.04.2) 9.4.0 To view detailed results, visit: https://lab.dpdk.org/results/dashboard/tarballs/32512/ UNH-IOL DPDK Community Lab To manage your email subscriptions, visit: https://lab.dpdk.org/results/dashboard/preferences/subscriptions/