From mboxrd@z Thu Jan 1 00:00:00 1970 Return-Path: Received: from mails.dpdk.org (mails.dpdk.org [217.70.189.124]) by inbox.dpdk.org (Postfix) with ESMTP id 7C037461DB for ; Sun, 9 Feb 2025 18:41:16 +0100 (CET) Received: from mails.dpdk.org (localhost [127.0.0.1]) by mails.dpdk.org (Postfix) with ESMTP id 95B8F40647; Sun, 9 Feb 2025 18:41:15 +0100 (CET) Received: from mail-qt1-f226.google.com (mail-qt1-f226.google.com [209.85.160.226]) by mails.dpdk.org (Postfix) with ESMTP id 3BCAD402B7 for ; Sun, 9 Feb 2025 18:41:14 +0100 (CET) Received: by mail-qt1-f226.google.com with SMTP id d75a77b69052e-4718e6fffbeso5175781cf.1 for ; Sun, 09 Feb 2025 09:41:14 -0800 (PST) DKIM-Signature: v=1; a=rsa-sha256; c=relaxed/relaxed; d=iol.unh.edu; s=unh-iol; t=1739122873; x=1739727673; darn=dpdk.org; h=cc:to:from:subject:message-id:date:from:to:cc:subject:date :message-id:reply-to; bh=6zn/TKoSpOULBFKzSc6sVHao7XwXCwBbpJUMe8Jcg7I=; b=ikvQzTVBh6kju8MYkE1pFX9uKZUOWtlWhG0eh2XhsnylddB+lRWIkKwn7v0Qu/mmVm k/dAJq5EoUFbuZmW12DVmG/rYMC2GITSilHYxFqeRUmMMsedK3BZkA9Ml2deFtFejs9h +Y0u2Kgbw3uzuttbzPrLndRfipP4AAAbIoY4w= X-Google-DKIM-Signature: v=1; a=rsa-sha256; c=relaxed/relaxed; d=1e100.net; s=20230601; t=1739122873; x=1739727673; h=cc:to:from:subject:message-id:date:x-gm-message-state:from:to:cc :subject:date:message-id:reply-to; bh=6zn/TKoSpOULBFKzSc6sVHao7XwXCwBbpJUMe8Jcg7I=; b=vaCuh38lGX/dZYdOzDVVoyPlaVghEZObn7uFTOY9xsTiqUgYp1pgqXaMFdeYXezp7j nEpP/yaOt2sgvds0WMkE0iTnt0BmS2gVfd+iJN6GacizI3oTupk79zWn9QMD9YSYQ6uG Z18/EXs5dGF8EkY2f3H0t2wkchw7i954Hc7OicGGAvtBX7+BYn/fMIHpytQfUtH+/5e3 80QoFSxS2IhpZviCWPMGTRBEG82PA+ShBdFmNbf0Wls6lEolGe/kBpOLI6V11L7YnVHH A3fgUGp8II6nVIEbGdfP4PlZewucmAc0jHA54r4cqDim4jABOpgAkbwcbMLedBSbIG6e bLSA== X-Gm-Message-State: AOJu0YzD8f/6dOfli/RheshkIYuDxVMJ2eXw7A5rJdRzyi9g7LT7CkI1 veiCKknKnZz3YaFlS9NSnSJf0gJZ0gr0S1XBeXcnMbvXZU89BydCsPZfSPLHsUQFAiw6FRBLjIW B5YMiCT8nFDZwRCXvs7KlppN5cC5mIidS X-Gm-Gg: ASbGnct3qnBu1+6es6q2ELO0pOQLdjqAUgHwX8TQmjpvKaFRGZYs7IWO/CRknBz0ZhO Hx/6aEELeU2TRgXhmU7CTOzhT8xeBRvJv/Hs3IbliRj3tIye2WfDO8iz16IOYZX0+qMKLeXdz/h RQvIjgmDSR3eUb4coeWPKeNHgoWiBRF2eaQnDoAvCwTlyxCjP1nWpDHafCxMf7XE83bi1q0GYXj 8XITP0uAUuXEXfLSrr2dpcuLUGculQlq5kGIx9UmTMxcFBkLJLEtOYPdnuEtdvMu26eXJymBGwm GEXb/eT1LO5eQqsez7R1m0KAU2PcIw== X-Google-Smtp-Source: AGHT+IHJbcVsD5cPCTHi8gE5mmW/R1GD35c38iDl/LltmCoWuGkxDnNAwxY/ezUgBkysfZEL5gfR4PHazcAK X-Received: by 2002:a05:622a:1490:b0:467:672a:abb6 with SMTP id d75a77b69052e-47167a29ff9mr155571591cf.23.1739122873489; Sun, 09 Feb 2025 09:41:13 -0800 (PST) Received: from postal.iol.unh.edu (postal.iol.unh.edu. [132.177.123.84]) by smtp-relay.gmail.com with ESMTPS id d75a77b69052e-47193699ea7sm308351cf.12.2025.02.09.09.41.13 (version=TLS1_2 cipher=ECDHE-ECDSA-AES128-GCM-SHA256 bits=128/128); Sun, 09 Feb 2025 09:41:13 -0800 (PST) X-Relaying-Domain: iol.unh.edu Date: Sun, 09 Feb 2025 09:41:13 -0800 (PST) Message-ID: <67a8e8b9.050a0220.27ca5e.1e54SMTPIN_ADDED_MISSING@mx.google.com> Received: from [172.17.0.3] (unknown [172.18.0.217]) by postal.iol.unh.edu (Postfix) with ESMTP id DDA406052471; Sun, 9 Feb 2025 12:41:08 -0500 (EST) Subject: |SUCCESS| [GIT MASTER] c66daa12e76d7b4912cfb7109a761856a7a873ab From: dpdklab@iol.unh.edu To: Test Report Cc: dpdk-test-reports@iol.unh.edu, Xueming Li , Christian Ehrhardt , Kevin Traynor , Luca Boccassi Content-Type: text/plain X-BeenThere: test-report@dpdk.org X-Mailman-Version: 2.1.29 Precedence: list List-Id: automatic DPDK test reports List-Unsubscribe: , List-Archive: List-Post: List-Help: List-Subscribe: , Errors-To: test-report-bounces@dpdk.org _Testing PASS_ Branch: tags/v23.11 c66daa12e76d7b4912cfb7109a761856a7a873ab --> testing pass Upstream job id: ACVP-FIPS-testing#8852 Test environment and result as below: +--------------------+----------------------+----------------------+ | Environment | compressdev_zlib_pmd | dpdk_fips_validation | +====================+======================+======================+ | Ubuntu 22.04 (ARM) | PASS | SKIPPED | +--------------------+----------------------+----------------------+ | Ubuntu 22.04 | PASS | SKIPPED | +--------------------+----------------------+----------------------+ | Ubuntu 20.04 | SKIPPED | PASS | +--------------------+----------------------+----------------------+ Ubuntu 22.04 (ARM) Kernel: 5.15.0-97-generic Compiler: gcc gcc (Ubuntu 11.4.0-1ubuntu1~22.04) 11.4.0 Ubuntu 22.04 Kernel: 5.15.0-100-generic Compiler: gcc gcc (Ubuntu 11.4.0-1ubuntu1~22.04) 11.4.0 Ubuntu 20.04 Kernel: Depends on container host Compiler: gcc (Ubuntu 9.4.0-1ubuntu1~20.04.2) 9.4.0 To view detailed results, visit: https://lab.dpdk.org/results/dashboard/tarballs/32514/ UNH-IOL DPDK Community Lab To manage your email subscriptions, visit: https://lab.dpdk.org/results/dashboard/preferences/subscriptions/