From mboxrd@z Thu Jan 1 00:00:00 1970 Return-Path: Received: from mails.dpdk.org (mails.dpdk.org [217.70.189.124]) by inbox.dpdk.org (Postfix) with ESMTP id D8BF1461AE for ; Sun, 9 Feb 2025 19:17:55 +0100 (CET) Received: from mails.dpdk.org (localhost [127.0.0.1]) by mails.dpdk.org (Postfix) with ESMTP id D2595402B7; Sun, 9 Feb 2025 19:17:55 +0100 (CET) Received: from mail-pl1-f227.google.com (mail-pl1-f227.google.com [209.85.214.227]) by mails.dpdk.org (Postfix) with ESMTP id 3FC674021F for ; Sun, 9 Feb 2025 19:17:54 +0100 (CET) Received: by mail-pl1-f227.google.com with SMTP id d9443c01a7336-21f6f18b474so13950615ad.1 for ; Sun, 09 Feb 2025 10:17:54 -0800 (PST) DKIM-Signature: v=1; a=rsa-sha256; c=relaxed/relaxed; d=iol.unh.edu; s=unh-iol; t=1739125073; x=1739729873; darn=dpdk.org; h=references:in-reply-to:cc:to:from:subject:message-id:date:from:to :cc:subject:date:message-id:reply-to; bh=wO29zr0MSITsDMN2JfIf80oNkukzaZWoGJrZE5jVSNs=; b=DM34TNqIKgq/VmHWs5NwpbT0XJoL39eGfe5k2/4eDQXNYhfTo92O92SS47l5UQnvwq kVHQn9ScyPDF0sjpsFj1SMFI2CCTXqgA0FVAqUHTwlQ8OgTqZJTDKSHFRSQMBoQzytaQ UPRgnj135/Mh+Y62YE9jSSEDCS9+BwRAN5E1g= X-Google-DKIM-Signature: v=1; a=rsa-sha256; c=relaxed/relaxed; d=1e100.net; s=20230601; t=1739125073; x=1739729873; h=references:in-reply-to:cc:to:from:subject:message-id:date :x-gm-message-state:from:to:cc:subject:date:message-id:reply-to; bh=wO29zr0MSITsDMN2JfIf80oNkukzaZWoGJrZE5jVSNs=; b=Z3jW34Y/2Wo6X0K6BtrFXF0rlP1w2r1+2ch/RUx4BzGskhVrFrSVNm+Mo0tLKEA2UC +mZqOzU4FFWcfJAiK4JLiiN0CytSaRLZ0T0Sfwy/Q5fP//zfVFTcTVPm0MGqcX6X96af c9hhi0IASeSHUdc6Jfv3rUdswx5pBFBump42CuoHoDxmfs2u0TJebxp2oXV3nbUobhxB XWEf6wLcFutA152msezyeyTrGqFHDifvbXyatQDRQ00MLVbM7JmsVSHX0O7t/tjufZZW 5f2GoNkRyHYBgNUKCv5UILKqqDpAALdCNAHl0ojg5jefI4UPZppIHwgEzZLyHmh5qgM7 BI7A== X-Gm-Message-State: AOJu0YyG/dMRNzVqcudaU5dDHn0ohaUhTjJqBQrHrVSAUH/gpucL59Hv GlchWnk7PF6/riJ2EXkizfKI+1CJJTOk8SWx/Gkj/PagnJMYXZQ0cxOljHLWExWsJFL1o7IaSVk K9zsiQwUc2YcxXs96bZYF0bES91c1o06R5ko2xl2T X-Gm-Gg: ASbGncuedVFRX4rxEee+5UTnJbUCJPewNr5BbEKuFSDNf218Pasne1GLDFWvoDrgF8L 7yjDAkNtNni7PQkOOoRXbGm7AVlOjI8M/YMDODEovvXjDX5wXuKLYxp00/R5qC3p1Xgk82H9hAj RNAvtv9aVSk2a8HHx9m6f1WcX6nwlRPnpYc/yMDtkpDp06lA8gLUn4ju5PjASHsW/NlN6LCurMO MCRfUBC+UbBVS7AX3hiGgo72+6p3fh0aoSYmSogF1grVM+9QNsFqIWxrufx3EzLEs6idSQlftw7 V8jNsUJUqCeM5LmJPm31+0STB/4F4w== X-Google-Smtp-Source: AGHT+IFUDajr7Uj2EqFhpnvT30JI2QOJFYa19yWA+lQZm/xuyFRZVQqkI6WK+ndeWXWLX+cKgtixcQ4qVYbO X-Received: by 2002:a05:6a21:c98:b0:1e8:b17a:a556 with SMTP id adf61e73a8af0-1ee03a41b2fmr19027276637.15.1739125073406; Sun, 09 Feb 2025 10:17:53 -0800 (PST) Received: from postal.iol.unh.edu (postal.iol.unh.edu. [132.177.123.84]) by smtp-relay.gmail.com with ESMTPS id 41be03b00d2f7-ad545a9ec81sm131201a12.26.2025.02.09.10.17.53 (version=TLS1_2 cipher=ECDHE-ECDSA-AES128-GCM-SHA256 bits=128/128); Sun, 09 Feb 2025 10:17:53 -0800 (PST) X-Relaying-Domain: iol.unh.edu Date: Sun, 09 Feb 2025 10:17:53 -0800 (PST) Message-ID: <67a8f151.630a0220.65583.6fb2SMTPIN_ADDED_MISSING@mx.google.com> Received: from [172.21.0.6] (unknown [172.18.0.240]) by postal.iol.unh.edu (Postfix) with ESMTP id A36AC6052471; Sun, 9 Feb 2025 13:17:52 -0500 (EST) Subject: |SUCCESS| pw151217 [PATCH] net/mlx5/hws: change error flow on matche From: dpdklab@iol.unh.edu To: Test Report Cc: dpdk-test-reports@iol.unh.edu In-Reply-To: <20250209134806.263338-1-getelson@nvidia.com> References: <20250209134806.263338-1-getelson@nvidia.com> Content-Type: text/plain X-BeenThere: test-report@dpdk.org X-Mailman-Version: 2.1.29 Precedence: list List-Id: automatic DPDK test reports List-Unsubscribe: , List-Archive: List-Post: List-Help: List-Subscribe: , Errors-To: test-report-bounces@dpdk.org Test-Label: iol-compile-arm64-testing Test-Status: SUCCESS http://dpdk.org/patch/151217 _Testing PASS_ Submitter: Gregory Etelson Date: Sunday, February 09 2025 13:48:06 DPDK git baseline: Repo:dpdk Branch: master CommitID:af389f2da68c0e9bb08a68055996bececbd45108 151217 --> testing pass Upstream job id: Generic-DPDK-Compile-Meson#359872 Test environment and result as below: +----------------------------------------+--------------------+ | Environment | dpdk_meson_compile | +========================================+====================+ | RHEL9 (ARM) | PASS | +----------------------------------------+--------------------+ | Ubuntu 20.04 ARM GCC Cross Compile | PASS | +----------------------------------------+--------------------+ | Ubuntu 20.04 ARM SVE | PASS | +----------------------------------------+--------------------+ | Debian 12 with MUSDK | PASS | +----------------------------------------+--------------------+ | Fedora 40 (ARM) | PASS | +----------------------------------------+--------------------+ | Fedora 40 (ARM Clang) | PASS | +----------------------------------------+--------------------+ | Fedora 41 (ARM) | PASS | +----------------------------------------+--------------------+ | Fedora 41 (ARM Clang) | PASS | +----------------------------------------+--------------------+ | Ubuntu 20.04 (ARM) | PASS | +----------------------------------------+--------------------+ | Ubuntu 22.04 (ARM) | PASS | +----------------------------------------+--------------------+ | Ubuntu 24.04 (ARM) | PASS | +----------------------------------------+--------------------+ | CentOS Stream 9 (ARM) | PASS | +----------------------------------------+--------------------+ | Debian 11 (Buster) (ARM) | PASS | +----------------------------------------+--------------------+ | Ubuntu 20.04 ARM Clang Cross Compile | PASS | +----------------------------------------+--------------------+ | Ubuntu 20.04 aarch32 GCC Cross Compile | PASS | +----------------------------------------+--------------------+ | Debian 12 (arm) | PASS | +----------------------------------------+--------------------+ RHEL9 (ARM) Kernel: Depends on container host Compiler: gcc 11.5.0 20240719 (Red Hat 11.5.0-2) Ubuntu 20.04 ARM GCC Cross Compile Kernel: Depends on container host Compiler: aarch64-linux-gnu-gcc (Ubuntu 9.4.0-1ubuntu1~20.04.2) 9.4.0 Ubuntu 20.04 ARM SVE Kernel: Depends on container host Compiler: gcc (Ubuntu 10.5.0-1ubuntu1~20.04) 10.5.0 Debian 12 with MUSDK Kernel: Depends on container host Compiler: gcc (Debian 12.2.0-14) 12.2.0 Fedora 40 (ARM) Kernel: Depends on container host Compiler: gcc 14.2.1 20240912 (Red Hat 14.2.1-3) Fedora 40 (ARM Clang) Kernel: Depends on container host Compiler: clang 18.1.8 (Fedora 18.1.8-1.fc40) Fedora 41 (ARM) Kernel: Depends on container host Compiler: gcc 14.2.1 20240912 (Red Hat 14.2.1-3) Fedora 41 (ARM Clang) Kernel: Depends on container host Compiler: clang 19.1.5 (Fedora 19.1.5-1.fc41) Ubuntu 20.04 (ARM) Kernel: Depends on container host Compiler: gcc (Ubuntu 9.4.0-1ubuntu1~20.04.2) 9.4.0 Ubuntu 22.04 (ARM) Kernel: Depends on container host Compiler: gcc (Ubuntu 11.4.0-1ubuntu1~22.04) 11.4.0 Ubuntu 24.04 (ARM) Kernel: Depends on container host Compiler: gcc (Ubuntu 13.3.0-6ubuntu2~24.04) 13.3.0 CentOS Stream 9 (ARM) Kernel: Depends on container host Compiler: gcc 11.5.0 20240719 (Red Hat 11.5.0-2) Debian 11 (Buster) (ARM) Kernel: Depends on container host Compiler: gcc (Debian 10.2.1-6) 10.2.1 20210110 Ubuntu 20.04 ARM Clang Cross Compile Kernel: Depends on container host Compiler: clang 10.0.0-4ubuntu1 Ubuntu 20.04 aarch32 GCC Cross Compile Kernel: Depends on container host Compiler: gcc 9.4.0 Debian 12 (arm) Kernel: Depends on container host Compiler: gcc (Debian 12.2.0-14) 12.2.0 To view detailed results, visit: https://lab.dpdk.org/results/dashboard/patchsets/32539/ UNH-IOL DPDK Community Lab To manage your email subscriptions, visit: https://lab.dpdk.org/results/dashboard/preferences/subscriptions/