From mboxrd@z Thu Jan 1 00:00:00 1970 Return-Path: Received: from mails.dpdk.org (mails.dpdk.org [217.70.189.124]) by inbox.dpdk.org (Postfix) with ESMTP id 35D11461DD for ; Sun, 9 Feb 2025 20:16:53 +0100 (CET) Received: from mails.dpdk.org (localhost [127.0.0.1]) by mails.dpdk.org (Postfix) with ESMTP id 3D20B402B7; Sun, 9 Feb 2025 20:16:52 +0100 (CET) Received: from mail-io1-f98.google.com (mail-io1-f98.google.com [209.85.166.98]) by mails.dpdk.org (Postfix) with ESMTP id DF4004021F for ; Sun, 9 Feb 2025 20:16:51 +0100 (CET) Received: by mail-io1-f98.google.com with SMTP id ca18e2360f4ac-855309015fdso728039f.1 for ; Sun, 09 Feb 2025 11:16:51 -0800 (PST) DKIM-Signature: v=1; a=rsa-sha256; c=relaxed/relaxed; d=iol.unh.edu; s=unh-iol; t=1739128611; x=1739733411; darn=dpdk.org; h=references:in-reply-to:cc:to:from:subject:message-id:date:from:to :cc:subject:date:message-id:reply-to; bh=jxG2lGYnel81WudpIY9Np6ldhclDQ4lNtOzh1t+X5Dw=; b=FCJyPKLjE1gSrZIa/QlG5SjPkbHbtecV9kRSawvhOff0nbijV2K34AQu8OaFp184rW hFIYqVCckcaHpVmTIQ7wrEWH6C7mnklJhCzUqPBFL69a6uN31ZSVvenNKkqCJBZjXll4 5sVKInHPRjkMGyaSgcM35x0x7lOhob/G/V2g0= X-Google-DKIM-Signature: v=1; a=rsa-sha256; c=relaxed/relaxed; d=1e100.net; s=20230601; t=1739128611; x=1739733411; h=references:in-reply-to:cc:to:from:subject:message-id:date :x-gm-message-state:from:to:cc:subject:date:message-id:reply-to; bh=jxG2lGYnel81WudpIY9Np6ldhclDQ4lNtOzh1t+X5Dw=; b=VQbfiD1BlfPvKzCq+mfN+BUw+rXoz6rq1+9SGH0P7ABTQ8/LbD/UAQlLvhdcIoXk5o A7WWYA4KzWf3oQii7bNQspZ02c8IJKqIx2XJ9zPCz/hnk6smrvmWI1GfvR6Ynxfln4ww qgeNHw8bu5iD9O/giNkwCsr/LJc1NQPlyEkP2+jxHjUVI37HMVCGH3hkMtK8KclVcxSm CboL60kz4nhXjsNK040NonvNgTiHcGkMerYqpOmlpWqlzUXIWcivvGo/mikeHnXs06JJ MRXaUizUhcqlcyKfW25d1oNfJkyecs+hH5tTjAkSUg0qXWG7uUtFI8SEZaXRsxp0S4zO +jyg== X-Gm-Message-State: AOJu0Yyx80852wKo96Y4PeAYPFtnguTy+f9h9VQp3SvIYutHu4t7+uGc uTEQmCKi8osLjTX3yCUolUIuqo1s79fSLTONUV+SsMiFJK9CD9S7V0HKQVALhyl9Yc3QAnXQ/ZR HMbsFLx5NY5OjN+mGPQ09Nywwpwa6k5fEqrvpVaWL X-Gm-Gg: ASbGncs/vmkD8EwpCYdBnpc7qngfmQF4rt7Mcs5Uq94+TbX5Wc/3mtv3lPat+0ed9AK 3axcuvRE1Kn9ObuDlLBfRMDtDMvOI5gYrSXaJQ7MTkCM4QF5+Xm+b0EjpDo451CEHAd5dxKu5Aa FVxqM/F8k4LzzLTx31H3EQKYSpGuP8CLKx/H21o1aCobBT4LulWbFXAC4n+/tg0bmfA4P8ntWu5 JqVJq4119KElL9VhaD5JeBUSfmnpDj0CP24lB+g2Isa8RhS3gcEeZQhdMeYoIPsc77Mhu9dgWlU 8kVnt1iL50SfITaIUTPHs4WGDmeLoQ== X-Google-Smtp-Source: AGHT+IE5mzjAncvmGTJ4GGDPFFBrSZa3PpegTkAGXEnO6w+4Hdn7HnLvwZ9GgEYSY5zIE471R0ic5zEUgQPS X-Received: by 2002:a05:6602:6cc8:b0:835:4b2a:e52b with SMTP id ca18e2360f4ac-854fd8f00b5mr817329839f.10.1739128611101; Sun, 09 Feb 2025 11:16:51 -0800 (PST) Received: from postal.iol.unh.edu (postal.iol.unh.edu. [132.177.123.84]) by smtp-relay.gmail.com with ESMTPS id 8926c6da1cb9f-4eccf9f3df2sm461874173.34.2025.02.09.11.16.51 (version=TLS1_2 cipher=ECDHE-ECDSA-AES128-GCM-SHA256 bits=128/128); Sun, 09 Feb 2025 11:16:51 -0800 (PST) X-Relaying-Domain: iol.unh.edu Date: Sun, 09 Feb 2025 11:16:51 -0800 (PST) Message-ID: <67a8ff23.050a0220.3b82da.7fa9SMTPIN_ADDED_MISSING@mx.google.com> Received: from [172.17.0.4] (unknown [172.18.0.217]) by postal.iol.unh.edu (Postfix) with ESMTP id A15526052471; Sun, 9 Feb 2025 14:16:43 -0500 (EST) Subject: |SUCCESS| pw151219-151228 [PATCH] [RFC,v2,10/10] eal: deprecate weak From: dpdklab@iol.unh.edu To: Test Report Cc: dpdk-test-reports@iol.unh.edu In-Reply-To: <20250209172850.2429075-11-david.marchand@redhat.com> References: <20250209172850.2429075-11-david.marchand@redhat.com> Content-Type: text/plain X-BeenThere: test-report@dpdk.org X-Mailman-Version: 2.1.29 Precedence: list List-Id: automatic DPDK test reports List-Unsubscribe: , List-Archive: List-Post: List-Help: List-Subscribe: , Errors-To: test-report-bounces@dpdk.org Test-Label: iol-unit-amd64-testing Test-Status: SUCCESS http://dpdk.org/patch/151228 _Testing PASS_ Submitter: David Marchand Date: Sunday, February 09 2025 17:28:48 DPDK git baseline: Repo:dpdk Branch: master CommitID:3553897d84d8b54a1b1136cbf04dd7f1a40fd85b 151219-151228 --> testing pass Upstream job id: Generic-Unit-Test-DPDK#313449 Test environment and result as below: +---------------------+----------------+ | Environment | dpdk_unit_test | +=====================+================+ | CentOS Stream 9 | PASS | +---------------------+----------------+ | Debian Bullseye | PASS | +---------------------+----------------+ | Debian 12 | PASS | +---------------------+----------------+ | Fedora 40 | PASS | +---------------------+----------------+ | Fedora 40 (Clang) | PASS | +---------------------+----------------+ | RHEL8 | PASS | +---------------------+----------------+ | Fedora 41 | PASS | +---------------------+----------------+ | Fedora 41 (Clang) | PASS | +---------------------+----------------+ | Ubuntu 24.04 | PASS | +---------------------+----------------+ | RHEL9 | PASS | +---------------------+----------------+ | Ubuntu 20.04 | PASS | +---------------------+----------------+ | Ubuntu 22.04 | PASS | +---------------------+----------------+ | Windows Server 2022 | PASS | +---------------------+----------------+ CentOS Stream 9 Kernel: Depends on container host Compiler: gcc 11.5.0 20240719 (Red Hat 11.5.0-2) Debian Bullseye Kernel: Depends on container host Compiler: gcc (Debian 10.2.1-6) 10.2.1 20210110 Debian 12 Kernel: Depends on container host Compiler: gcc (Debian 12.2.0-14) 12.2.0 Fedora 40 Kernel: Depends on container host Compiler: gcc 14.2.1 20240912 (Red Hat 14.2.1-3) Fedora 40 (Clang) Kernel: Depends on container host Compiler: clang 18.1.8 (Fedora 18.1.8-1.fc40) RHEL8 Kernel: Depends on container host Compiler: gcc 8.5.0 20210514 (Red Hat 8.5.0-22) Fedora 41 Kernel: Depends on container host Compiler: gcc 14.2.1 20240912 (Red Hat 14.2.1-3) Fedora 41 (Clang) Kernel: Depends on container host Compiler: clang 19.1.5 (Fedora 19.1.5-1.fc41) Ubuntu 24.04 Kernel: Depends on container host Compiler: gcc (Ubuntu 13.3.0-6ubuntu2~24.04) 13.3.0 RHEL9 Kernel: Depends on container host Compiler: gcc 11.5.0 20240719 (Red Hat 11.5.0-2) Ubuntu 20.04 Kernel: Depends on container host Compiler: gcc (Ubuntu 9.4.0-1ubuntu1~20.04.2) 9.4.0 Ubuntu 22.04 Kernel: Depends on container host Compiler: gcc (Ubuntu 11.4.0-1ubuntu1~22.04) 11.4.0 Windows Server 2022 Kernel: 10.0.20348.2031 Compiler: clang 15.0.7, gcc 14.1.0 (MinGW), and MSVC VS 19.39.33521 To view detailed results, visit: https://lab.dpdk.org/results/dashboard/patchsets/32541/ UNH-IOL DPDK Community Lab To manage your email subscriptions, visit: https://lab.dpdk.org/results/dashboard/preferences/subscriptions/