From mboxrd@z Thu Jan 1 00:00:00 1970 Return-Path: Received: from mails.dpdk.org (mails.dpdk.org [217.70.189.124]) by inbox.dpdk.org (Postfix) with ESMTP id 5E92F461DD for ; Sun, 9 Feb 2025 20:16:55 +0100 (CET) Received: from mails.dpdk.org (localhost [127.0.0.1]) by mails.dpdk.org (Postfix) with ESMTP id 5C34E402B7; Sun, 9 Feb 2025 20:16:55 +0100 (CET) Received: from mail-io1-f100.google.com (mail-io1-f100.google.com [209.85.166.100]) by mails.dpdk.org (Postfix) with ESMTP id B974A4021F for ; Sun, 9 Feb 2025 20:16:53 +0100 (CET) Received: by mail-io1-f100.google.com with SMTP id ca18e2360f4ac-844ee166150so89183239f.2 for ; Sun, 09 Feb 2025 11:16:53 -0800 (PST) DKIM-Signature: v=1; a=rsa-sha256; c=relaxed/relaxed; d=iol.unh.edu; s=unh-iol; t=1739128613; x=1739733413; darn=dpdk.org; h=references:in-reply-to:cc:to:from:subject:message-id:date:from:to :cc:subject:date:message-id:reply-to; bh=lequ3+zUJhiXQaXCDf7ahwp7edq05QTZq7q0VMJQ2Bg=; b=UEZ1Tqu+1jlbxdIC9CGqhzmuN2r8fgofwOLpLNVjkzpgM7+uNEGz09E8yq7bq+2Mn/ QXceX7Qa+3xppzaMaH9+tXCrvUw5oTo9adws0V+EawX1LrenatdUUB6N42wO3oPrJnRI Uhh5yChVXkKjMofuHrFR62Q/GeO94KsSzyuSU= X-Google-DKIM-Signature: v=1; a=rsa-sha256; c=relaxed/relaxed; d=1e100.net; s=20230601; t=1739128613; x=1739733413; h=references:in-reply-to:cc:to:from:subject:message-id:date :x-gm-message-state:from:to:cc:subject:date:message-id:reply-to; bh=lequ3+zUJhiXQaXCDf7ahwp7edq05QTZq7q0VMJQ2Bg=; b=Q/Rjp7rOVQlUvSriUTEvf6CWGTzOO5qR8xDeoVno6RVMFtl4qjHxNYKexC6vBY/5vY sMELmfxesANNW/OUGa6+C2N/PTNRtJyYdh9av9tStBV/20Be4e1DI/F4Y9tF/8EVsVo9 L5tbmIMOCJTNMv2qYaofLtcBEVPRjZzP75MYSprgc3iME/fTv1DuLnzYXYVdt7PcNOmf 3ym14pa4d3A5RLGJ8CD/lT73Qupu+uOSxlhmaPOa2o9HpPzJAWAzFWNlAIEpEE0RHuBS OWv/kxSYPxPPm937+bsMGjF3fAUIWGNkkok3sD7jbOc2krisFyjpu9jgHLIwM0VFSDuj iUUw== X-Gm-Message-State: AOJu0YyLmnBY/gQ+YSp0ZO23jfD90MaynEK/S5dN3iYjMcWUx18tL2Sj avh5MlbSL+uyTt96AHgnZ9w3QIDNuxZ8frAPg6guh2MQFO5B2U0ubPK1XsC/4J8asTM3zijESiG +/Ivv7eNF/LGAdy/RyXjJ9W0B6DN7guXNss24C2c+ X-Gm-Gg: ASbGncsdhQvv5svHw2EAJRuIghfRRh22hCjUwAazJPtuXkUVmr9rFrvv7tKcsjUGG9e iovz/RHostn773s1XDnfKsT5YGbS1AZEzz3HG4N5abwJMAQ3HxTaiCUB7NV5doTHiRRf602ihmT K4s42raeVpVfKVYvHHJ13F5pLKHJlCR6kjVAUQQC5Gnzxx6zo9Lxr1gHA/p67jvpprhRrs1ahrA kw5De8kx4fFS2AqI2jbRGAY7AVE3s+Tyx+3yn4MS+Fl8D6cV9oO6hdq8nGLmL4+YRF/S1hRcbxQ SIyCmXiZt4dwDXU8OkHXkoC+jgonfA== X-Google-Smtp-Source: AGHT+IEulhEFjFL25xR/tJN9LURT9yzo9bySu/de+8URD/oH8uwHeniIgxo05jOLgBfH/azUroz99xHQ6nLc X-Received: by 2002:a05:6602:3946:b0:84a:5201:41ff with SMTP id ca18e2360f4ac-854fd886d54mr939295539f.3.1739128613106; Sun, 09 Feb 2025 11:16:53 -0800 (PST) Received: from postal.iol.unh.edu (postal.iol.unh.edu. [132.177.123.84]) by smtp-relay.gmail.com with ESMTPS id 8926c6da1cb9f-4eccf9f5b05sm476968173.40.2025.02.09.11.16.53 (version=TLS1_2 cipher=ECDHE-ECDSA-AES128-GCM-SHA256 bits=128/128); Sun, 09 Feb 2025 11:16:53 -0800 (PST) X-Relaying-Domain: iol.unh.edu Date: Sun, 09 Feb 2025 11:16:53 -0800 (PST) Message-ID: <67a8ff25.050a0220.1b099.913fSMTPIN_ADDED_MISSING@mx.google.com> Received: from [172.17.0.5] (unknown [172.18.0.217]) by postal.iol.unh.edu (Postfix) with ESMTP id 866E66052471; Sun, 9 Feb 2025 14:16:52 -0500 (EST) Subject: |SUCCESS| pw151219-151228 [PATCH] [RFC,v2,10/10] eal: deprecate weak From: dpdklab@iol.unh.edu To: Test Report Cc: dpdk-test-reports@iol.unh.edu In-Reply-To: <20250209172850.2429075-11-david.marchand@redhat.com> References: <20250209172850.2429075-11-david.marchand@redhat.com> Content-Type: text/plain X-BeenThere: test-report@dpdk.org X-Mailman-Version: 2.1.29 Precedence: list List-Id: automatic DPDK test reports List-Unsubscribe: , List-Archive: List-Post: List-Help: List-Subscribe: , Errors-To: test-report-bounces@dpdk.org Test-Label: iol-abi-testing Test-Status: SUCCESS http://dpdk.org/patch/151228 _Testing PASS_ Submitter: David Marchand Date: Sunday, February 09 2025 17:28:48 DPDK git baseline: Repo:dpdk Branch: master CommitID:3553897d84d8b54a1b1136cbf04dd7f1a40fd85b 151219-151228 --> testing pass Upstream job id: Generic-DPDK-Compile-ABI#115543 Test environment and result as below: +-------------------+----------+ | Environment | abi_test | +===================+==========+ | Debian Bullseye | PASS | +-------------------+----------+ | Debian 12 | PASS | +-------------------+----------+ | CentOS Stream 9 | PASS | +-------------------+----------+ | Fedora 41 (Clang) | PASS | +-------------------+----------+ | RHEL8 | PASS | +-------------------+----------+ | Fedora 41 | PASS | +-------------------+----------+ | Fedora 40 | PASS | +-------------------+----------+ | Fedora 40 (Clang) | PASS | +-------------------+----------+ | openSUSE Leap 15 | PASS | +-------------------+----------+ | Ubuntu 24.04 | PASS | +-------------------+----------+ | RHEL9 | PASS | +-------------------+----------+ | Ubuntu 22.04 | PASS | +-------------------+----------+ Debian Bullseye Kernel: Depends on container host Compiler: gcc (Debian 10.2.1-6) 10.2.1 20210110 Debian 12 Kernel: Depends on container host Compiler: gcc (Debian 12.2.0-14) 12.2.0 CentOS Stream 9 Kernel: Depends on container host Compiler: gcc 11.5.0 20240719 (Red Hat 11.5.0-2) Fedora 41 (Clang) Kernel: Depends on container host Compiler: clang 19.1.5 (Fedora 19.1.5-1.fc41) RHEL8 Kernel: Depends on container host Compiler: gcc 8.5.0 20210514 (Red Hat 8.5.0-22) Fedora 41 Kernel: Depends on container host Compiler: gcc 14.2.1 20240912 (Red Hat 14.2.1-3) Fedora 40 Kernel: Depends on container host Compiler: gcc 14.2.1 20240912 (Red Hat 14.2.1-3) Fedora 40 (Clang) Kernel: Depends on container host Compiler: clang 18.1.8 (Fedora 18.1.8-1.fc40) openSUSE Leap 15 Kernel: Depends on container host Compiler: gcc (SUSE Linux) 7.5.0 Ubuntu 24.04 Kernel: Depends on container host Compiler: gcc (Ubuntu 13.3.0-6ubuntu2~24.04) 13.3.0 RHEL9 Kernel: Depends on container host Compiler: gcc 11.5.0 20240719 (Red Hat 11.5.0-2) Ubuntu 22.04 Kernel: Depends on container host Compiler: gcc (Ubuntu 11.4.0-1ubuntu1~22.04) 11.4.0 To view detailed results, visit: https://lab.dpdk.org/results/dashboard/patchsets/32541/ UNH-IOL DPDK Community Lab To manage your email subscriptions, visit: https://lab.dpdk.org/results/dashboard/preferences/subscriptions/