From mboxrd@z Thu Jan 1 00:00:00 1970 Return-Path: Received: from mails.dpdk.org (mails.dpdk.org [217.70.189.124]) by inbox.dpdk.org (Postfix) with ESMTP id 70857461DD for ; Sun, 9 Feb 2025 20:16:58 +0100 (CET) Received: from mails.dpdk.org (localhost [127.0.0.1]) by mails.dpdk.org (Postfix) with ESMTP id 68318402B7; Sun, 9 Feb 2025 20:16:58 +0100 (CET) Received: from mail-il1-f227.google.com (mail-il1-f227.google.com [209.85.166.227]) by mails.dpdk.org (Postfix) with ESMTP id 772F84021F for ; Sun, 9 Feb 2025 20:16:57 +0100 (CET) Received: by mail-il1-f227.google.com with SMTP id e9e14a558f8ab-3d149f4c64aso5728355ab.0 for ; Sun, 09 Feb 2025 11:16:57 -0800 (PST) DKIM-Signature: v=1; a=rsa-sha256; c=relaxed/relaxed; d=iol.unh.edu; s=unh-iol; t=1739128617; x=1739733417; darn=dpdk.org; h=references:in-reply-to:cc:to:from:subject:message-id:date:from:to :cc:subject:date:message-id:reply-to; bh=mlii5b1ZTpbhCcBjMkhb9CJ4HJ9vElJ/iCMBW/55zsw=; b=HuZQk02xvGn3r67wzn9Fic0pp3ngSY/osk49Ija8WRexdqaJkP0GwX/kisTSXGtzTt mUNhJSR9QJkXJNZZ5IA6PUphJ3Nm2yuPxU996QQYtnWDVQsCX3ExYVDQdVFvbwSjYRfE Y+pLZIJLHtMyovQrGu0nZNs6CokwLk/Fmk70s= X-Google-DKIM-Signature: v=1; a=rsa-sha256; c=relaxed/relaxed; d=1e100.net; s=20230601; t=1739128617; x=1739733417; h=references:in-reply-to:cc:to:from:subject:message-id:date :x-gm-message-state:from:to:cc:subject:date:message-id:reply-to; bh=mlii5b1ZTpbhCcBjMkhb9CJ4HJ9vElJ/iCMBW/55zsw=; b=isrbgJItesC4zSbUnKedzvxa5My2c9PisMvspejbRYkTuwrRd3BbBN0Hch98Y6h+s+ vIekkvcIZGNGVMqZIBVp9uX4UrawdILDK1yTzQGFiv1oVGEqmehIu48KVte1zWQjy5Zv DKzMJMZ+R4mQjRvG9IncnrdxuyLTYiU7y7DmZSeUGtwexl2V53XQsqLVio2gSvBxwKVB ELpEkLjvndKMPlQAEqmGw6x+IUodkaT6BzI1mZ7o9j2Fax7IQTcrXE6SzoIoVWU2ju1u GqxRtdGjouTvBq/D0/4Q4E004SFPljRj8Js27czuDPDMrJwD32PvkgssOij6ZnjCLjYo fVkA== X-Gm-Message-State: AOJu0Yw8BDDW8efb5W6UHyGi3P1FLjWfpfl06fcPXrfvxT488bCOvUWR Xg4mG9DDjp9OzED/7X7G4RJ7Rp7CXvfqDnl6dgVBzXPILvVf2XJNNU3mlSZFDfQftydDTH5pzxE 8CEdp6VmSTSK/cjWaaozQmtCkxOryJed/TtG2+M6m X-Gm-Gg: ASbGncu4N8mxgGhLGTF+Yr3nLiuSOtyPyvxBNPaKyPcnPAlFvGHtmJVa/5iQ/NE9HbM nQMpXqoen8j3QSUva/1E6q2Bbkooo6g/8LeU4L0TNm8wS0HCCpyQCZO1xtiQJ5fgWetNhgIH4lC Qwbv75AxGuRdRE1gxew+61dnVZo0ixRqDdDypGuA55gzxDaOsijoeWt7nq/ts6kTsMcZaK05hWv pwhLNxkbKuCBrT0ndivIbsc8LdZ5AFpqERtVvL4RwrwtjPUj+b194NoTIKRB+wzTnAs7kVfHpHa N2CBRNUke1gs1u4odlgRIYhxSoClLQ== X-Google-Smtp-Source: AGHT+IFrH6pr5uLMiJP5tmGqilF5/Kx9AxP46UW6Q+Cx1ChxHXnP6oG6pbOZHg0Es6SQ9HV4yG+HBOhsj/T1 X-Received: by 2002:a05:6e02:3c05:b0:3cf:e76b:3937 with SMTP id e9e14a558f8ab-3d13db4808emr87550875ab.0.1739128616733; Sun, 09 Feb 2025 11:16:56 -0800 (PST) Received: from postal.iol.unh.edu (postal.iol.unh.edu. [132.177.123.84]) by smtp-relay.gmail.com with ESMTPS id e9e14a558f8ab-3d154895a5bsm1907775ab.58.2025.02.09.11.16.56 (version=TLS1_2 cipher=ECDHE-ECDSA-AES128-GCM-SHA256 bits=128/128); Sun, 09 Feb 2025 11:16:56 -0800 (PST) X-Relaying-Domain: iol.unh.edu Date: Sun, 09 Feb 2025 11:16:56 -0800 (PST) Message-ID: <67a8ff28.050a0220.3627e6.9a28SMTPIN_ADDED_MISSING@mx.google.com> Received: from [172.21.0.5] (unknown [172.18.0.240]) by postal.iol.unh.edu (Postfix) with ESMTP id 3AD4E6052471; Sun, 9 Feb 2025 14:16:56 -0500 (EST) Subject: |SUCCESS| pw151219-151228 [PATCH] [RFC,v2,10/10] eal: deprecate weak From: dpdklab@iol.unh.edu To: Test Report Cc: dpdk-test-reports@iol.unh.edu In-Reply-To: <20250209172850.2429075-11-david.marchand@redhat.com> References: <20250209172850.2429075-11-david.marchand@redhat.com> Content-Type: text/plain X-BeenThere: test-report@dpdk.org X-Mailman-Version: 2.1.29 Precedence: list List-Id: automatic DPDK test reports List-Unsubscribe: , List-Archive: List-Post: List-Help: List-Subscribe: , Errors-To: test-report-bounces@dpdk.org Test-Label: iol-unit-amd64-testing Test-Status: SUCCESS http://dpdk.org/patch/151228 _Testing PASS_ Submitter: David Marchand Date: Sunday, February 09 2025 17:28:48 DPDK git baseline: Repo:dpdk Branch: master CommitID:3553897d84d8b54a1b1136cbf04dd7f1a40fd85b 151219-151228 --> testing pass Upstream job id: Generic-Unit-Test-DPDK#313447 Test environment and result as below: +---------------------+----------------+ | Environment | dpdk_unit_test | +=====================+================+ | CentOS Stream 9 | PASS | +---------------------+----------------+ | Debian Bullseye | PASS | +---------------------+----------------+ | Debian 12 | PASS | +---------------------+----------------+ | Fedora 40 | PASS | +---------------------+----------------+ | Fedora 40 (Clang) | PASS | +---------------------+----------------+ | RHEL8 | PASS | +---------------------+----------------+ | Fedora 41 | PASS | +---------------------+----------------+ | Fedora 41 (Clang) | PASS | +---------------------+----------------+ | Ubuntu 24.04 | PASS | +---------------------+----------------+ | RHEL9 | PASS | +---------------------+----------------+ | Ubuntu 20.04 | PASS | +---------------------+----------------+ | Ubuntu 22.04 | PASS | +---------------------+----------------+ | Windows Server 2022 | PASS | +---------------------+----------------+ CentOS Stream 9 Kernel: Depends on container host Compiler: gcc 11.5.0 20240719 (Red Hat 11.5.0-2) Debian Bullseye Kernel: Depends on container host Compiler: gcc (Debian 10.2.1-6) 10.2.1 20210110 Debian 12 Kernel: Depends on container host Compiler: gcc (Debian 12.2.0-14) 12.2.0 Fedora 40 Kernel: Depends on container host Compiler: gcc 14.2.1 20240912 (Red Hat 14.2.1-3) Fedora 40 (Clang) Kernel: Depends on container host Compiler: clang 18.1.8 (Fedora 18.1.8-1.fc40) RHEL8 Kernel: Depends on container host Compiler: gcc 8.5.0 20210514 (Red Hat 8.5.0-22) Fedora 41 Kernel: Depends on container host Compiler: gcc 14.2.1 20240912 (Red Hat 14.2.1-3) Fedora 41 (Clang) Kernel: Depends on container host Compiler: clang 19.1.5 (Fedora 19.1.5-1.fc41) Ubuntu 24.04 Kernel: Depends on container host Compiler: gcc (Ubuntu 13.3.0-6ubuntu2~24.04) 13.3.0 RHEL9 Kernel: Depends on container host Compiler: gcc 11.5.0 20240719 (Red Hat 11.5.0-2) Ubuntu 20.04 Kernel: Depends on container host Compiler: gcc (Ubuntu 9.4.0-1ubuntu1~20.04.2) 9.4.0 Ubuntu 22.04 Kernel: Depends on container host Compiler: gcc (Ubuntu 11.4.0-1ubuntu1~22.04) 11.4.0 Windows Server 2022 Kernel: 10.0.20348.2031 Compiler: clang 15.0.7, gcc 14.1.0 (MinGW), and MSVC VS 19.39.33521 To view detailed results, visit: https://lab.dpdk.org/results/dashboard/patchsets/32541/ UNH-IOL DPDK Community Lab To manage your email subscriptions, visit: https://lab.dpdk.org/results/dashboard/preferences/subscriptions/