From mboxrd@z Thu Jan  1 00:00:00 1970
Return-Path: <test-report-bounces@dpdk.org>
Received: from mails.dpdk.org (mails.dpdk.org [217.70.189.124])
	by inbox.dpdk.org (Postfix) with ESMTP id D7688461DD
	for <public@inbox.dpdk.org>; Sun,  9 Feb 2025 20:42:25 +0100 (CET)
Received: from mails.dpdk.org (localhost [127.0.0.1])
	by mails.dpdk.org (Postfix) with ESMTP id CF65F40647;
	Sun,  9 Feb 2025 20:42:25 +0100 (CET)
Received: from mail-qv1-f98.google.com (mail-qv1-f98.google.com
 [209.85.219.98]) by mails.dpdk.org (Postfix) with ESMTP id 10F07402B7
 for <test-report@dpdk.org>; Sun,  9 Feb 2025 20:42:25 +0100 (CET)
Received: by mail-qv1-f98.google.com with SMTP id
 6a1803df08f44-6e44f9db46bso18078856d6.1
 for <test-report@dpdk.org>; Sun, 09 Feb 2025 11:42:25 -0800 (PST)
DKIM-Signature: v=1; a=rsa-sha256; c=relaxed/relaxed;
 d=iol.unh.edu; s=unh-iol; t=1739130144; x=1739734944; darn=dpdk.org;
 h=references:in-reply-to:cc:to:from:subject:message-id:date:from:to
 :cc:subject:date:message-id:reply-to;
 bh=fO2ifEZzUcnh76rtmi2BUSTHGP5y4NxhY/vFK47q1Sw=;
 b=OrXk6ryCt3PkiFyCac5u61SNsxpNcz+uxKLiQDCmPaaiP/h0I57Ta/EqDlbWu1XlX4
 ML3AQ82Gvm1p7UsmR2NQVbcgaka6FMyRdZd+BqUtN/9ag7yvZ6Tcpsj5q4RI3penKhix
 /YFYPbb6JGZCoQf98XQdSSSjGF8tvc9vpctco=
X-Google-DKIM-Signature: v=1; a=rsa-sha256; c=relaxed/relaxed;
 d=1e100.net; s=20230601; t=1739130144; x=1739734944;
 h=references:in-reply-to:cc:to:from:subject:message-id:date
 :x-gm-message-state:from:to:cc:subject:date:message-id:reply-to;
 bh=fO2ifEZzUcnh76rtmi2BUSTHGP5y4NxhY/vFK47q1Sw=;
 b=Th2xUMCYcib0LGEi3IIewuP7EzkhKUCyFuCnD1ywrUZ045hVhDzHSuLjM2HKZTzfQR
 6xB1CJL2CzJKtxBk5Y3SMs8zD1ANKVm1S3NwxrWLXfbZHZ48RDcDOG23/jq7PcWHqXOU
 qNthxBnRZ3humyIQUvfyF4jyZ4TiG7SJHaP2Gi1lV4LuPnYU3MQiTeYszfMo/WVPbMbK
 TU2X+sLaHDq1zQHxtL/Y60PDfaL32rcmqoVELFWLfCi5C2nPiBhT/BY42P19zifnT4sT
 yA6v1aPqOFFVRYtFlMcP2SbE/HefknNXGZn8pQLpUWYSHRIbF6Z2uS/XJr1MqEC+JESm
 A1aQ==
X-Gm-Message-State: AOJu0YyX0bRTF6hEbzAVHwTLVOZcgPzjtvKu2my9NnuRMcrQSrhnvUAQ
 u4BY69hT6lxSHxUFV+L83/F4qEGk/Mgk1bAzOUlgeVAO57fd9kJrcTqioooLMinYi+cjNffmARN
 ymAmaOhP4BsYAyT0hAQvREXxaRF8832sNaY6tdiy0
X-Gm-Gg: ASbGncu1lt5HZQWxwhkgZHiKxpNUkTGjO3uefMpYspDY/CLcuMWC9RJSyv1gCBNMt6i
 2au0sqLUs6hkrUUk609tXVLhI9SPWnbNBYss6WLqNA001MIKfVT5NK2yhNQX6U4+chU3PR2pNCO
 YUiGDKI6GNPkPv9Wn2fGRwdKJhiRdW7VtjoeWv+G4sWHHBTv7PTJxx2Zr3qZ8/CnffYqlGM6xQy
 qOogQKStWwyVLNBUaD6mRpMr6rIl8a51J9FpHzWyb9oe2a2G0+mPB+XVJYif1eMmdFY2DAmoR9w
 wgsCA96Ye24eSJauc8+yGhWm93N/TA==
X-Google-Smtp-Source: AGHT+IGuddYgI9iPmjo2G81xt8Wzj2mN6g7+RnddvyR/U2Z9wgvKzhKJmM6zg7y035kBx0LmLLv6UnJBtx0Z
X-Received: by 2002:a05:6214:2688:b0:6e4:4331:aad2 with SMTP id
 6a1803df08f44-6e4455bd5a5mr190135166d6.9.1739130144306; 
 Sun, 09 Feb 2025 11:42:24 -0800 (PST)
Received: from postal.iol.unh.edu (postal.iol.unh.edu. [132.177.123.84])
 by smtp-relay.gmail.com with ESMTPS id
 6a1803df08f44-6e45fa614d5sm485136d6.48.2025.02.09.11.42.24
 (version=TLS1_2 cipher=ECDHE-ECDSA-AES128-GCM-SHA256 bits=128/128);
 Sun, 09 Feb 2025 11:42:24 -0800 (PST)
X-Relaying-Domain: iol.unh.edu
Date: Sun, 09 Feb 2025 11:42:24 -0800 (PST)
Message-ID: <67a90520.050a0220.6e6cd.2a61SMTPIN_ADDED_MISSING@mx.google.com>
Received: from [172.21.0.5] (unknown [172.18.0.240])
 by postal.iol.unh.edu (Postfix) with ESMTP id 01C0F6052471;
 Sun,  9 Feb 2025 14:41:54 -0500 (EST)
Subject: |WARNING| pw151219-151228 [PATCH] [RFC,v2,10/10] eal: deprecate weak
From: dpdklab@iol.unh.edu
To: Test Report <test-report@dpdk.org>
Cc: dpdk-test-reports@iol.unh.edu
In-Reply-To: <20250209172850.2429075-11-david.marchand@redhat.com>
References: <20250209172850.2429075-11-david.marchand@redhat.com>
Content-Type: text/plain
X-BeenThere: test-report@dpdk.org
X-Mailman-Version: 2.1.29
Precedence: list
List-Id: automatic DPDK test reports <test-report.dpdk.org>
List-Unsubscribe: <https://mails.dpdk.org/options/test-report>,
 <mailto:test-report-request@dpdk.org?subject=unsubscribe>
List-Archive: <http://mails.dpdk.org/archives/test-report/>
List-Post: <mailto:test-report@dpdk.org>
List-Help: <mailto:test-report-request@dpdk.org?subject=help>
List-Subscribe: <https://mails.dpdk.org/listinfo/test-report>,
 <mailto:test-report-request@dpdk.org?subject=subscribe>
Errors-To: test-report-bounces@dpdk.org

Test-Label: iol-sample-apps-testing
Test-Status: WARNING
http://dpdk.org/patch/151228

_Testing issues_

Submitter: David Marchand <david.marchand@redhat.com>
Date: Sunday, February 09 2025 17:28:48 
DPDK git baseline: Repo:dpdk
  Branch: master
  CommitID:3553897d84d8b54a1b1136cbf04dd7f1a40fd85b

151219-151228 --> testing issues

Upstream job id: ACVP-FIPS-testing#8854

Test environment and result as below:

+--------------------+----------------------+----------------------+
|    Environment     | compressdev_zlib_pmd | dpdk_fips_validation |
+====================+======================+======================+
| Ubuntu 22.04 (ARM) | PASS                 | SKIPPED              |
+--------------------+----------------------+----------------------+
| Ubuntu 22.04       | PASS                 | SKIPPED              |
+--------------------+----------------------+----------------------+
| Ubuntu 20.04       | SKIPPED              | WARN                 |
+--------------------+----------------------+----------------------+

==== 20 line log output for Ubuntu 20.04 (dpdk_fips_validation): ====
INFO:root:Downloading verdict for vector set 2880561
INFO:root:Vector set verdict not ready, waiting 30 seconds...
INFO:root:Vector set verdict not ready, waiting 30 seconds...
INFO:root:Vector set verdict not ready, waiting 30 seconds...
INFO:root:Done
INFO:root:Using response file...
INFO:root:Uploading response file...
INFO:root:Fetching verdict...
INFO:root:Downloading verdict for vector set 2880562
INFO:root:Vector set verdict not ready, waiting 30 seconds...
INFO:root:Vector set verdict not ready, waiting 30 seconds...
INFO:root:Done
INFO:root:Using response file...
INFO:root:Uploading response file...
INFO:root:Fetching verdict...
INFO:root:Downloading verdict for vector set 2880563
INFO:root:Vector set verdict not ready, waiting 30 seconds...
INFO:root:Vector set verdict not ready, waiting 30 seconds...
INFO:root:Vector set verdict not ready, waiting 30 seconds...
INFO:root:Done
==== End log output ====

Ubuntu 22.04 (ARM)
	Kernel: 5.15.0-97-generic
	Compiler: gcc gcc (Ubuntu 11.4.0-1ubuntu1~22.04) 11.4.0

Ubuntu 22.04
	Kernel: 5.15.0-100-generic
	Compiler: gcc gcc (Ubuntu 11.4.0-1ubuntu1~22.04) 11.4.0

Ubuntu 20.04
	Kernel: Depends on container host
	Compiler: gcc (Ubuntu 9.4.0-1ubuntu1~20.04.2) 9.4.0

To view detailed results, visit:
https://lab.dpdk.org/results/dashboard/patchsets/32541/

UNH-IOL DPDK Community Lab

To manage your email subscriptions, visit: 
https://lab.dpdk.org/results/dashboard/preferences/subscriptions/