From mboxrd@z Thu Jan 1 00:00:00 1970 Return-Path: Received: from mails.dpdk.org (mails.dpdk.org [217.70.189.124]) by inbox.dpdk.org (Postfix) with ESMTP id 149F8461AE for ; Sun, 9 Feb 2025 21:37:57 +0100 (CET) Received: from mails.dpdk.org (localhost [127.0.0.1]) by mails.dpdk.org (Postfix) with ESMTP id E759640647; Sun, 9 Feb 2025 21:37:56 +0100 (CET) Received: from mail-qk1-f227.google.com (mail-qk1-f227.google.com [209.85.222.227]) by mails.dpdk.org (Postfix) with ESMTP id A0978402B7 for ; Sun, 9 Feb 2025 21:37:55 +0100 (CET) Received: by mail-qk1-f227.google.com with SMTP id af79cd13be357-7c05bb6dab7so52722485a.0 for ; Sun, 09 Feb 2025 12:37:55 -0800 (PST) DKIM-Signature: v=1; a=rsa-sha256; c=relaxed/relaxed; d=iol.unh.edu; s=unh-iol; t=1739133475; x=1739738275; darn=dpdk.org; h=references:in-reply-to:cc:to:from:subject:message-id:date:from:to :cc:subject:date:message-id:reply-to; bh=nCG8wVk/uOSDzIQuUCscIL+a5hQ+xHDyIUMoIWCJLdA=; b=SOjsKGJkmPpjU5WEgtVxPNP8N50B2ybE2Y4ouLfSSSOVVPr3Kv0WH5EZjOg5Sq3vc9 EyBb1EUtrSt9ponFOlgKeocEDIPtMh+dx3QsOzHArkPNUmZj1KcvYSO9evEQBcKXnYLF KtYM58Hr4dJLNIIvC0/JsO1XBizm05XcLQeKo= X-Google-DKIM-Signature: v=1; a=rsa-sha256; c=relaxed/relaxed; d=1e100.net; s=20230601; t=1739133475; x=1739738275; h=references:in-reply-to:cc:to:from:subject:message-id:date :x-gm-message-state:from:to:cc:subject:date:message-id:reply-to; bh=nCG8wVk/uOSDzIQuUCscIL+a5hQ+xHDyIUMoIWCJLdA=; b=LE/Yu2b6miskRNRIrqpxi4jh8961fmoFTqCjZaFgj6XMvlVvsdCiz7+mIz13Sr1j0D uXwgAjPtVtiVfN3ruEqpkD2fc0oJomCtJtTXqbZCZ72UcvUh2BZAUBena1uOoKKMPQ6u kLx5yU/8cxrPlXDyrSxu8FbgFC1RtbDXAbiCK9JcqoXYJ8705GaiGT/5ddWSgCFHfd4D EhzK/5evGy0mP/Rv1OsPJu3c1yqjKtNgcY3VEyrvSzcEhEu8mdmJYv2c2epiuTW40guP rUHl3wip+iKu+7quUx7buvWhIXe9wdio1CQpEIUj1fk6DMDKDMGT5Rv3ZeRrLNzFD98p Ip4w== X-Gm-Message-State: AOJu0YxBi/SieOYfdzsCOvN9NJ6wVOuDvA0xflpVnXkvr/KAidIMP6c/ M/hjwOU49zjbAwK/xuyl0dxqaO0kimJ4B0WO8Z5NH89I1qiYE9Ba8COnkjeVf+I0plNyf8WtvmI DQtsEqJ5mTbBBVtxFtpKaMzdPnhsvCH1kQoM153gr X-Gm-Gg: ASbGncu5HuZ4MKAOoQwPkFduCCtnOIUBuCr9H4i0/O0i55yqscNhYqb8PkzmVU7HAZM 04oI5BIYAGUnJf0JOIKCJWZjYFRhB+ykQ0noD9I3vbf4H7wlvcr8nmVbwMr4vK7J7RU8LyzNJqW qTIaOMqnB+2/tpwYKN+nBJanW4h3KLSlaG+jajyLBc+VAjR9vnMHkwHZ7kRLmN8QdXdgcjVKMCz b8CBj7kVLgYwEW45RNAuz2m9Vuk9k5a7i+m07A1+yYOyq2pyQnrJBJURCC/hnV0uWS1TKVeLZYQ ahFpokS6PadoKs1SXBG0YdwDXCe5cg== X-Google-Smtp-Source: AGHT+IFzEGbX+Kn08i5aq/ckea07O9+jolCxO49/3uWtjj9p7YuaUjl5lv007V5CLbTauDw7SP+ERDYxn+3n X-Received: by 2002:a05:620a:280d:b0:7be:513c:3371 with SMTP id af79cd13be357-7c047ec45b2mr1475101385a.14.1739133475004; Sun, 09 Feb 2025 12:37:55 -0800 (PST) Received: from postal.iol.unh.edu (postal.iol.unh.edu. [132.177.123.84]) by smtp-relay.gmail.com with ESMTPS id d75a77b69052e-47149277917sm4070261cf.1.2025.02.09.12.37.54 (version=TLS1_2 cipher=ECDHE-ECDSA-AES128-GCM-SHA256 bits=128/128); Sun, 09 Feb 2025 12:37:54 -0800 (PST) X-Relaying-Domain: iol.unh.edu Date: Sun, 09 Feb 2025 12:37:54 -0800 (PST) Message-ID: <67a91222.050a0220.222a1c.4961SMTPIN_ADDED_MISSING@mx.google.com> Received: from [172.21.0.5] (unknown [172.18.0.240]) by postal.iol.unh.edu (Postfix) with ESMTP id 97B4F6052471; Sun, 9 Feb 2025 15:37:24 -0500 (EST) Subject: |SUCCESS| pw151219-151228 [PATCH] [RFC,v2,10/10] eal: deprecate weak From: dpdklab@iol.unh.edu To: Test Report Cc: dpdk-test-reports@iol.unh.edu In-Reply-To: <20250209172850.2429075-11-david.marchand@redhat.com> References: <20250209172850.2429075-11-david.marchand@redhat.com> Content-Type: text/plain X-BeenThere: test-report@dpdk.org X-Mailman-Version: 2.1.29 Precedence: list List-Id: automatic DPDK test reports List-Unsubscribe: , List-Archive: List-Post: List-Help: List-Subscribe: , Errors-To: test-report-bounces@dpdk.org Test-Label: iol-unit-arm64-testing Test-Status: SUCCESS http://dpdk.org/patch/151228 _Testing PASS_ Submitter: David Marchand Date: Sunday, February 09 2025 17:28:48 DPDK git baseline: Repo:dpdk Branch: master CommitID:3553897d84d8b54a1b1136cbf04dd7f1a40fd85b 151219-151228 --> testing pass Upstream job id: Generic-Unit-Test-DPDK#313457 Test environment and result as below: +-----------------------------+----------------+------------------------------+--------------+---------------------------+ | Environment | dpdk_unit_test | cryptodev_sw_snow3g_autotest | lpm_autotest | cryptodev_sw_zuc_autotest | +=============================+================+==============================+==============+===========================+ | Debian 11 (Buster) (ARM) | PASS | SKIPPED | SKIPPED | SKIPPED | +-----------------------------+----------------+------------------------------+--------------+---------------------------+ | CentOS Stream 9 (ARM) | PASS | SKIPPED | SKIPPED | SKIPPED | +-----------------------------+----------------+------------------------------+--------------+---------------------------+ | Debian 12 (arm) | PASS | PASS | SKIPPED | PASS | +-----------------------------+----------------+------------------------------+--------------+---------------------------+ | Fedora 41 (ARM Clang) | PASS | SKIPPED | SKIPPED | SKIPPED | +-----------------------------+----------------+------------------------------+--------------+---------------------------+ | Fedora 40 (ARM) | PASS | SKIPPED | SKIPPED | SKIPPED | +-----------------------------+----------------+------------------------------+--------------+---------------------------+ | 32-bit Ubuntu 22.04.4 (ARM) | PASS | SKIPPED | SKIPPED | SKIPPED | +-----------------------------+----------------+------------------------------+--------------+---------------------------+ | Fedora 41 (ARM) | PASS | SKIPPED | SKIPPED | SKIPPED | +-----------------------------+----------------+------------------------------+--------------+---------------------------+ | Ubuntu 24.04 (ARM) | PASS | SKIPPED | SKIPPED | SKIPPED | +-----------------------------+----------------+------------------------------+--------------+---------------------------+ | Ubuntu 20.04 (ARM) | PASS | SKIPPED | SKIPPED | SKIPPED | +-----------------------------+----------------+------------------------------+--------------+---------------------------+ | Ubuntu 22.04 (ARM) | PASS | SKIPPED | SKIPPED | SKIPPED | +-----------------------------+----------------+------------------------------+--------------+---------------------------+ | RHEL9 (ARM) | PASS | SKIPPED | SKIPPED | SKIPPED | +-----------------------------+----------------+------------------------------+--------------+---------------------------+ | Fedora 40 (ARM Clang) | PASS | SKIPPED | SKIPPED | SKIPPED | +-----------------------------+----------------+------------------------------+--------------+---------------------------+ | Ubuntu 20.04 ARM SVE | SKIPPED | SKIPPED | PASS | SKIPPED | +-----------------------------+----------------+------------------------------+--------------+---------------------------+ Debian 11 (Buster) (ARM) Kernel: Depends on container host Compiler: gcc (Debian 10.2.1-6) 10.2.1 20210110 CentOS Stream 9 (ARM) Kernel: Depends on container host Compiler: gcc 11.5.0 20240719 (Red Hat 11.5.0-2) Debian 12 (arm) Kernel: Depends on container host Compiler: gcc (Debian 12.2.0-14) 12.2.0 Fedora 41 (ARM Clang) Kernel: Depends on container host Compiler: clang 19.1.5 (Fedora 19.1.5-1.fc41) Fedora 40 (ARM) Kernel: Depends on container host Compiler: gcc 14.2.1 20240912 (Red Hat 14.2.1-3) 32-bit Ubuntu 22.04.4 (ARM) Kernel: 5.15.83+ aarch64 Compiler: gcc (Ubuntu 11.4.0-1ubuntu1~22.04) 11.4.0 Fedora 41 (ARM) Kernel: Depends on container host Compiler: gcc 14.2.1 20240912 (Red Hat 14.2.1-3) Ubuntu 24.04 (ARM) Kernel: Depends on container host Compiler: gcc (Ubuntu 13.3.0-6ubuntu2~24.04) 13.3.0 Ubuntu 20.04 (ARM) Kernel: Depends on container host Compiler: gcc (Ubuntu 9.4.0-1ubuntu1~20.04.2) 9.4.0 Ubuntu 22.04 (ARM) Kernel: Depends on container host Compiler: gcc (Ubuntu 11.4.0-1ubuntu1~22.04) 11.4.0 RHEL9 (ARM) Kernel: Depends on container host Compiler: gcc 11.5.0 20240719 (Red Hat 11.5.0-2) Fedora 40 (ARM Clang) Kernel: Depends on container host Compiler: clang 18.1.8 (Fedora 18.1.8-1.fc40) Ubuntu 20.04 ARM SVE Kernel: Depends on container host Compiler: gcc (Ubuntu 10.5.0-1ubuntu1~20.04) 10.5.0 To view detailed results, visit: https://lab.dpdk.org/results/dashboard/patchsets/32541/ UNH-IOL DPDK Community Lab To manage your email subscriptions, visit: https://lab.dpdk.org/results/dashboard/preferences/subscriptions/