From mboxrd@z Thu Jan 1 00:00:00 1970 Return-Path: Received: from mails.dpdk.org (mails.dpdk.org [217.70.189.124]) by inbox.dpdk.org (Postfix) with ESMTP id 92756461DD for ; Sun, 9 Feb 2025 21:44:33 +0100 (CET) Received: from mails.dpdk.org (localhost [127.0.0.1]) by mails.dpdk.org (Postfix) with ESMTP id 7735B402B7; Sun, 9 Feb 2025 21:44:33 +0100 (CET) Received: from mail-pl1-f225.google.com (mail-pl1-f225.google.com [209.85.214.225]) by mails.dpdk.org (Postfix) with ESMTP id 2A6034021F for ; Sun, 9 Feb 2025 21:44:32 +0100 (CET) Received: by mail-pl1-f225.google.com with SMTP id d9443c01a7336-21f61b01630so27707315ad.1 for ; Sun, 09 Feb 2025 12:44:32 -0800 (PST) DKIM-Signature: v=1; a=rsa-sha256; c=relaxed/relaxed; d=iol.unh.edu; s=unh-iol; t=1739133871; x=1739738671; darn=dpdk.org; h=references:in-reply-to:cc:to:from:subject:message-id:date:from:to :cc:subject:date:message-id:reply-to; bh=0GRdpGhOoPrKUCC1mz38CdjqiY0M+XjMVolZxieOwhE=; b=U6c+dFY9IFO7F6PiF9JNF7Qtgcm2xpMTb8oxR+4u3nJVk/UEckKnign3HGUS7nNl3O wWkwacHFiMpAYVPlX1DMdFmyWdglA+FPA8RKD/hnhmFY+rnckYqdaRK3gzWDMsmT7mwb H6yjEfqZ+/YxvEmUU5JX4VDGOXQK8XiRIfEqA= X-Google-DKIM-Signature: v=1; a=rsa-sha256; c=relaxed/relaxed; d=1e100.net; s=20230601; t=1739133871; x=1739738671; h=references:in-reply-to:cc:to:from:subject:message-id:date :x-gm-message-state:from:to:cc:subject:date:message-id:reply-to; bh=0GRdpGhOoPrKUCC1mz38CdjqiY0M+XjMVolZxieOwhE=; b=Gcb1dXXopwkXG/UrF2YSKPBpcvHroQdxPbl1a2KKzkaFF+8NurjCmx29U4YFLExL+y KjNzbt4wCDzdDcRuazHmm1nJaUZEsnwW0zV8vechoyzFHSfiyGIa8xjl2Y33MU80nyXa C2xZMN1TyeFLUkxc6gthnaVfLlyV4eFxU+bph1zfE1RqoHmiCHrvaIu+72ksQF7pac2n Bw7mlj641oH8MsYQ8oPdpQBuy1412JJDUkPluJGXlkaiX5+gz/LUqzzxSuJwm+nVbT4g 3JG1HgESMlafn9OftdkKGJiuCviMFmP4J6/FUiELuiuvnDQeAkRMEGYwHtxrm47Mzhof jCJw== X-Gm-Message-State: AOJu0Yy9gIn+bfepHhCKxft+FuOT9IlP5tcs4BVgmFEkn+71u3LE1y2P RNajhaLdTDyI6Ha0SMsMKZpphVYZYq8yJRR9q+wGOf/cc8meG4dua6WMdWYVKHVgdKp5x0337gd TYZoL7+FAcP1h3DOyzTo5BkZ79FSTVhm8/SguOC95 X-Gm-Gg: ASbGncuYQZudoSHcNQU9pb84fDvwAvbR6m1fI3vTKhqvrzjnIe77OQINrGPraYzMzAH qlLhqE2/Tkim9m9ejjbv0eZWHRO/2xJWNDBptawYwSxxg91lUq9arhwECOkJ+C/kdfM/I0HtA0V nEe6MP5QIfQUvMQEpjUDChdAuqc9PSgELnhTd60goBop9pQyLiU3ws0+SVSpn+DV8Jn3LFbyCeu 3CmxQ8rqkjEbFwJf0FMoTPXpyZDnumcDXMA5ty8woEfhi7lgN4fZn6/qsPn1k0KDtyojOeoR90L RzB1hv5JWxDCOjPxUG+rd0dqz+z6Ew== X-Google-Smtp-Source: AGHT+IFis5GRlAGs8HSv9X9gcrnvgAS1ZmsWD4dRfrcSZHbR0o9Nc04GGUNrCx+RU5lf6fwVFeHlJvnnBppQ X-Received: by 2002:aa7:8d52:0:b0:72f:f86d:c543 with SMTP id d2e1a72fcca58-73042c71fdbmr21458819b3a.9.1739133871243; Sun, 09 Feb 2025 12:44:31 -0800 (PST) Received: from postal.iol.unh.edu (postal.iol.unh.edu. [132.177.123.84]) by smtp-relay.gmail.com with ESMTPS id d2e1a72fcca58-730923737d7sm24092b3a.17.2025.02.09.12.44.31 (version=TLS1_2 cipher=ECDHE-ECDSA-AES128-GCM-SHA256 bits=128/128); Sun, 09 Feb 2025 12:44:31 -0800 (PST) X-Relaying-Domain: iol.unh.edu Date: Sun, 09 Feb 2025 12:44:31 -0800 (PST) Message-ID: <67a913af.050a0220.2199b1.13c6SMTPIN_ADDED_MISSING@mx.google.com> Received: from [172.21.0.5] (unknown [172.18.0.240]) by postal.iol.unh.edu (Postfix) with ESMTP id 4EA0C6052471; Sun, 9 Feb 2025 15:44:30 -0500 (EST) Subject: |SUCCESS| pw151218 [PATCH] net/mlx5: fix packet hardware ptype trans From: dpdklab@iol.unh.edu To: Test Report Cc: dpdk-test-reports@iol.unh.edu In-Reply-To: <20250209140106.264556-1-getelson@nvidia.com> References: <20250209140106.264556-1-getelson@nvidia.com> Content-Type: text/plain X-BeenThere: test-report@dpdk.org X-Mailman-Version: 2.1.29 Precedence: list List-Id: automatic DPDK test reports List-Unsubscribe: , List-Archive: List-Post: List-Help: List-Subscribe: , Errors-To: test-report-bounces@dpdk.org Test-Label: iol-unit-amd64-testing Test-Status: SUCCESS http://dpdk.org/patch/151218 _Testing PASS_ Submitter: Gregory Etelson Date: Sunday, February 09 2025 14:01:06 DPDK git baseline: Repo:dpdk Branch: master CommitID:af389f2da68c0e9bb08a68055996bececbd45108 151218 --> testing pass Upstream job id: Generic-Unit-Test-DPDK#313477 Test environment and result as below: +---------------------+----------------+ | Environment | dpdk_unit_test | +=====================+================+ | Debian Bullseye | PASS | +---------------------+----------------+ | Debian 12 | PASS | +---------------------+----------------+ | CentOS Stream 9 | PASS | +---------------------+----------------+ | RHEL8 | PASS | +---------------------+----------------+ | Fedora 40 (Clang) | PASS | +---------------------+----------------+ | RHEL9 | PASS | +---------------------+----------------+ | Fedora 41 (Clang) | PASS | +---------------------+----------------+ | Fedora 41 | PASS | +---------------------+----------------+ | Fedora 40 | PASS | +---------------------+----------------+ | Ubuntu 20.04 | PASS | +---------------------+----------------+ | Ubuntu 22.04 | PASS | +---------------------+----------------+ | Ubuntu 24.04 | PASS | +---------------------+----------------+ | Windows Server 2022 | PASS | +---------------------+----------------+ Debian Bullseye Kernel: Depends on container host Compiler: gcc (Debian 10.2.1-6) 10.2.1 20210110 Debian 12 Kernel: Depends on container host Compiler: gcc (Debian 12.2.0-14) 12.2.0 CentOS Stream 9 Kernel: Depends on container host Compiler: gcc 11.5.0 20240719 (Red Hat 11.5.0-2) RHEL8 Kernel: Depends on container host Compiler: gcc 8.5.0 20210514 (Red Hat 8.5.0-22) Fedora 40 (Clang) Kernel: Depends on container host Compiler: clang 18.1.8 (Fedora 18.1.8-1.fc40) RHEL9 Kernel: Depends on container host Compiler: gcc 11.5.0 20240719 (Red Hat 11.5.0-2) Fedora 41 (Clang) Kernel: Depends on container host Compiler: clang 19.1.5 (Fedora 19.1.5-1.fc41) Fedora 41 Kernel: Depends on container host Compiler: gcc 14.2.1 20240912 (Red Hat 14.2.1-3) Fedora 40 Kernel: Depends on container host Compiler: gcc 14.2.1 20240912 (Red Hat 14.2.1-3) Ubuntu 20.04 Kernel: Depends on container host Compiler: gcc (Ubuntu 9.4.0-1ubuntu1~20.04.2) 9.4.0 Ubuntu 22.04 Kernel: Depends on container host Compiler: gcc (Ubuntu 11.4.0-1ubuntu1~22.04) 11.4.0 Ubuntu 24.04 Kernel: Depends on container host Compiler: gcc (Ubuntu 13.3.0-6ubuntu2~24.04) 13.3.0 Windows Server 2022 Kernel: 10.0.20348.2031 Compiler: clang 15.0.7, gcc 14.1.0 (MinGW), and MSVC VS 19.39.33521 To view detailed results, visit: https://lab.dpdk.org/results/dashboard/patchsets/32540/ UNH-IOL DPDK Community Lab To manage your email subscriptions, visit: https://lab.dpdk.org/results/dashboard/preferences/subscriptions/