From mboxrd@z Thu Jan 1 00:00:00 1970 Return-Path: Received: from mails.dpdk.org (mails.dpdk.org [217.70.189.124]) by inbox.dpdk.org (Postfix) with ESMTP id 18672461DD for ; Sun, 9 Feb 2025 21:48:14 +0100 (CET) Received: from mails.dpdk.org (localhost [127.0.0.1]) by mails.dpdk.org (Postfix) with ESMTP id CFA1240655; Sun, 9 Feb 2025 21:48:13 +0100 (CET) Received: from mail-pl1-f228.google.com (mail-pl1-f228.google.com [209.85.214.228]) by mails.dpdk.org (Postfix) with ESMTP id 825444021F for ; Sun, 9 Feb 2025 21:48:12 +0100 (CET) Received: by mail-pl1-f228.google.com with SMTP id d9443c01a7336-21f2f386cbeso67932095ad.0 for ; Sun, 09 Feb 2025 12:48:12 -0800 (PST) DKIM-Signature: v=1; a=rsa-sha256; c=relaxed/relaxed; d=iol.unh.edu; s=unh-iol; t=1739134091; x=1739738891; darn=dpdk.org; h=references:in-reply-to:cc:to:from:subject:message-id:date:from:to :cc:subject:date:message-id:reply-to; bh=rAMAl+64rYZtnb/f8Db8j7eAfPftN92dE6ON9WcBDI4=; b=dNOf17WoSWySoWvnHh6IrsfpNh69q9mJ8rBseEepceEhDgI1yLxg6aLVJJIes+N5El CWSgNVzWo1p52AdnOyTjnhoqD1xprSnHJJjyG+TbtuCe5QUoNE+U9rbAYK7tlDa6wE5J aQW/E3M+5R5ObikdC9mDdFHKMJQUE25p8IH0g= X-Google-DKIM-Signature: v=1; a=rsa-sha256; c=relaxed/relaxed; d=1e100.net; s=20230601; t=1739134091; x=1739738891; h=references:in-reply-to:cc:to:from:subject:message-id:date :x-gm-message-state:from:to:cc:subject:date:message-id:reply-to; bh=rAMAl+64rYZtnb/f8Db8j7eAfPftN92dE6ON9WcBDI4=; b=xQ6+WmpkEMxXeMRU/FkFVRUxSmOVb16UZVAphXUGcwOeVQuphwi0two3s0aYJslCWB PLbpFO3HCyV5YPjMl4O9suXMVi0Y4kcp0fSUJaPaQfgEx/BZcaDUK6tKq3y/vuY2HXd8 tnPoLo0m5VrikxJ7jnG5/wJHP5VCzz/pnyUE/LKSWV+ffUMZqJ9PWdRDRlRv8eaBYxGj 9Oze49NkBBdt9mR5aupJUfssQ2gkQfeBs2hSTWGPXxFkRQJsOhf3UZvj2CAIimaGwqtx +F0nlexuISUBgmlAzhGmiiBZ58yjLNzzNtDxavD3q3v2TeKvL3Ydgy4lnqhkCoAcYi7Y l9dg== X-Gm-Message-State: AOJu0YwCMrPlyVm4Q//DpmvDMP1b3sZcfWn+59weKIQgkVsAN8IiuNCQ V+n/QNVLwpvaBl8+R7abU1KAuzBJlV20S/q9T3lPPx5raDm/ONMQm2MBZ0c4Snx+SJTkxXmjDUm fZ1Aj+h2wPl7mFGwgNG5qs9q3aD6auV5yEZeRLCfw X-Gm-Gg: ASbGncsMqtwkNQPCZEWtvi8sIZgFEYZtTkoNN8fFEFr35Ozx9f3KKzq1rl22FHC0Coy Sqtd4hmCx1kLRLIdK7oTTMogIMNgfr8bFMvXssDUUcy/GdrCkMB0AX2zZTQKwac4BtMzerk4n+h L72IlynqjDcz3QiimJu01oMvQhicpwtfe332eEsezAtd6igQ7WavJoPfvWzBsdu8LNn0rqdgKOT imhRemBQYDzdiQc3mzuKxOO1q2sLXCo00nzEz4V4WeWtiqQJ9iNlt6lgFTJIT4q/mLvMCv21eh0 zzLSzWIFmmNvBa4Rg8r37D16mjnRcw== X-Google-Smtp-Source: AGHT+IEOvY38FBWVYtPOLGJizvmwY9gBudokPPaCeR5JwKcxCRAJLuFtlnB+eoJCpmwyyb/xfVCWvKE5YY1C X-Received: by 2002:a17:903:2f84:b0:21f:3f1e:900f with SMTP id d9443c01a7336-21f4e6e2f98mr151340705ad.23.1739134091629; Sun, 09 Feb 2025 12:48:11 -0800 (PST) Received: from postal.iol.unh.edu (postal.iol.unh.edu. [132.177.123.84]) by smtp-relay.gmail.com with ESMTPS id d9443c01a7336-21f3653bab3sm4423445ad.36.2025.02.09.12.48.11 (version=TLS1_2 cipher=ECDHE-ECDSA-AES128-GCM-SHA256 bits=128/128); Sun, 09 Feb 2025 12:48:11 -0800 (PST) X-Relaying-Domain: iol.unh.edu Date: Sun, 09 Feb 2025 12:48:11 -0800 (PST) Message-ID: <67a9148b.170a0220.2a91d5.68a7SMTPIN_ADDED_MISSING@mx.google.com> Received: from [172.17.0.3] (unknown [172.18.0.217]) by postal.iol.unh.edu (Postfix) with ESMTP id 14D196052471; Sun, 9 Feb 2025 15:48:11 -0500 (EST) Subject: |SUCCESS| pw151218 [PATCH] net/mlx5: fix packet hardware ptype trans From: dpdklab@iol.unh.edu To: Test Report Cc: dpdk-test-reports@iol.unh.edu In-Reply-To: <20250209140106.264556-1-getelson@nvidia.com> References: <20250209140106.264556-1-getelson@nvidia.com> Content-Type: text/plain X-BeenThere: test-report@dpdk.org X-Mailman-Version: 2.1.29 Precedence: list List-Id: automatic DPDK test reports List-Unsubscribe: , List-Archive: List-Post: List-Help: List-Subscribe: , Errors-To: test-report-bounces@dpdk.org Test-Label: iol-abi-testing Test-Status: SUCCESS http://dpdk.org/patch/151218 _Testing PASS_ Submitter: Gregory Etelson Date: Sunday, February 09 2025 14:01:06 DPDK git baseline: Repo:dpdk Branch: master CommitID:af389f2da68c0e9bb08a68055996bececbd45108 151218 --> testing pass Upstream job id: Generic-DPDK-Compile-ABI#115560 Test environment and result as below: +-------------------+----------+ | Environment | abi_test | +===================+==========+ | CentOS Stream 9 | PASS | +-------------------+----------+ | Debian Bullseye | PASS | +-------------------+----------+ | Debian 12 | PASS | +-------------------+----------+ | Fedora 40 | PASS | +-------------------+----------+ | Fedora 40 (Clang) | PASS | +-------------------+----------+ | Fedora 41 | PASS | +-------------------+----------+ | Fedora 41 (Clang) | PASS | +-------------------+----------+ | openSUSE Leap 15 | PASS | +-------------------+----------+ | RHEL8 | PASS | +-------------------+----------+ | RHEL9 | PASS | +-------------------+----------+ | Ubuntu 22.04 | PASS | +-------------------+----------+ | Ubuntu 24.04 | PASS | +-------------------+----------+ CentOS Stream 9 Kernel: Depends on container host Compiler: gcc 11.5.0 20240719 (Red Hat 11.5.0-2) Debian Bullseye Kernel: Depends on container host Compiler: gcc (Debian 10.2.1-6) 10.2.1 20210110 Debian 12 Kernel: Depends on container host Compiler: gcc (Debian 12.2.0-14) 12.2.0 Fedora 40 Kernel: Depends on container host Compiler: gcc 14.2.1 20240912 (Red Hat 14.2.1-3) Fedora 40 (Clang) Kernel: Depends on container host Compiler: clang 18.1.8 (Fedora 18.1.8-1.fc40) Fedora 41 Kernel: Depends on container host Compiler: gcc 14.2.1 20240912 (Red Hat 14.2.1-3) Fedora 41 (Clang) Kernel: Depends on container host Compiler: clang 19.1.5 (Fedora 19.1.5-1.fc41) openSUSE Leap 15 Kernel: Depends on container host Compiler: gcc (SUSE Linux) 7.5.0 RHEL8 Kernel: Depends on container host Compiler: gcc 8.5.0 20210514 (Red Hat 8.5.0-22) RHEL9 Kernel: Depends on container host Compiler: gcc 11.5.0 20240719 (Red Hat 11.5.0-2) Ubuntu 22.04 Kernel: Depends on container host Compiler: gcc (Ubuntu 11.4.0-1ubuntu1~22.04) 11.4.0 Ubuntu 24.04 Kernel: Depends on container host Compiler: gcc (Ubuntu 13.3.0-6ubuntu2~24.04) 13.3.0 To view detailed results, visit: https://lab.dpdk.org/results/dashboard/patchsets/32540/ UNH-IOL DPDK Community Lab To manage your email subscriptions, visit: https://lab.dpdk.org/results/dashboard/preferences/subscriptions/