From mboxrd@z Thu Jan 1 00:00:00 1970 Return-Path: Received: from mails.dpdk.org (mails.dpdk.org [217.70.189.124]) by inbox.dpdk.org (Postfix) with ESMTP id D3A6D461DE for ; Sun, 9 Feb 2025 22:12:48 +0100 (CET) Received: from mails.dpdk.org (localhost [127.0.0.1]) by mails.dpdk.org (Postfix) with ESMTP id AC633402B7; Sun, 9 Feb 2025 22:12:48 +0100 (CET) Received: from mail-il1-f228.google.com (mail-il1-f228.google.com [209.85.166.228]) by mails.dpdk.org (Postfix) with ESMTP id 111454021F for ; Sun, 9 Feb 2025 22:12:48 +0100 (CET) Received: by mail-il1-f228.google.com with SMTP id e9e14a558f8ab-3d146df0afeso15738535ab.3 for ; Sun, 09 Feb 2025 13:12:47 -0800 (PST) DKIM-Signature: v=1; a=rsa-sha256; c=relaxed/relaxed; d=iol.unh.edu; s=unh-iol; t=1739135567; x=1739740367; darn=dpdk.org; h=references:in-reply-to:cc:to:from:subject:message-id:date:from:to :cc:subject:date:message-id:reply-to; bh=xIi5jqc16T30Q+kG7dCJ2plrmQV1xApfRA50xE3fag8=; b=dhcALIc0Oz2YC+lZISgrdvU9tJqn7mCDP2oJAJu6eQGJXgOf0QtVzwhRiWrIRMMBdz Ym/erwkzk7NdY131WaibYC4p0xfld+u1o/SwspbqOW3MsUwBkcwR++OFObYcbVD2/f41 y1si4CVwgRHOSLAJHzeAjA8p4+iG3MLR+W/w4= X-Google-DKIM-Signature: v=1; a=rsa-sha256; c=relaxed/relaxed; d=1e100.net; s=20230601; t=1739135567; x=1739740367; h=references:in-reply-to:cc:to:from:subject:message-id:date :x-gm-message-state:from:to:cc:subject:date:message-id:reply-to; bh=xIi5jqc16T30Q+kG7dCJ2plrmQV1xApfRA50xE3fag8=; b=W0wCjewv6bBcjf1+mSS1zsAnmK/uThRqdqapQEi0qewfkdU48DvJsbDBXAfCu7IESE BtiUthVoBbObCAZY+6sQI7QAn+5yoGOv/dUNdEC1PiLvybXYHDEnsYVrCbd252Pud0/j 9NWSb85DrEB4g16UXCxM21q+89KaOgM8Om/cgTDHB+PjqAAOfddduuc0hBnNn7reffmp Ut7GAR4CJLaDKz7NDX88cFPf5gEATVnmIZLArODmpkeEj3ydn2f7tEXrEZvPX3Omq6Kt LAmw3l2hj8ORCgc1QHByen6+NjuMYp8CnkC0EKwyJnIYwQCIvg0jnb/Ky0cww/kpBqLA pxTQ== X-Gm-Message-State: AOJu0YwBmblXsvG/OH+T9y0DvR/6VAB/Gic4OdCztrZiBZMSJVKWDtGc T+g24eZEooZzY8HnjTvibkGT+jqMBOXKNE75/wK0Fs7Rq1VVeVsNqRHzvZ+SAfRlMyc8npisj71 HRD4wNkI2d7AmlT9lVCbldsWV2p+OAe8KNbA3Yq04 X-Gm-Gg: ASbGncuJCiLFwfA6DXYqyTne1yPmvkedw3P9fVH6Z+DBEXwXi9kwp9jm4YTvscadhkh L1BK98PkLRrqRERu4KOzsKW96POgZS1gIUZLEId8IZ74YNYouTAVVRssLj0BTQNj6qXUIMRCcTL fFSBINUtrc5KA6SDNxVQikOwOUS9sqdX60a2Ka5jbfk61oybVsfrmKyP/z26dTBJ1rwXuvN3o0x Mko6lkRF160MdjkoGy0z5orqnURta7jI25/WjselW4tK0KFuslJd6pjdDY6+Q9L2NykX3+5aUEc 3/tmv7iNE2bYEg6c/SNn+MljR78iJQ== X-Google-Smtp-Source: AGHT+IGlaKKjt6xqERKk2VAIZZxLrPWmEMG244Pf2k1XUfRcVmS0/8fqCLotbrBWI9ilnbrXEyz+VLc8/rA7 X-Received: by 2002:a05:6e02:b49:b0:3d0:24c0:bd45 with SMTP id e9e14a558f8ab-3d13df5445emr76260965ab.20.1739135567296; Sun, 09 Feb 2025 13:12:47 -0800 (PST) Received: from postal.iol.unh.edu (postal.iol.unh.edu. [132.177.123.84]) by smtp-relay.gmail.com with ESMTPS id e9e14a558f8ab-3d1519b90bcsm2409505ab.68.2025.02.09.13.12.47 (version=TLS1_2 cipher=ECDHE-ECDSA-AES128-GCM-SHA256 bits=128/128); Sun, 09 Feb 2025 13:12:47 -0800 (PST) X-Relaying-Domain: iol.unh.edu Date: Sun, 09 Feb 2025 13:12:47 -0800 (PST) Message-ID: <67a91a4f.050a0220.250bfb.c258SMTPIN_ADDED_MISSING@mx.google.com> Received: from [172.17.0.3] (unknown [172.18.0.217]) by postal.iol.unh.edu (Postfix) with ESMTP id B5A686052471; Sun, 9 Feb 2025 16:12:46 -0500 (EST) Subject: |SUCCESS| pw151218 [PATCH] net/mlx5: fix packet hardware ptype trans From: dpdklab@iol.unh.edu To: Test Report Cc: dpdk-test-reports@iol.unh.edu In-Reply-To: <20250209140106.264556-1-getelson@nvidia.com> References: <20250209140106.264556-1-getelson@nvidia.com> Content-Type: text/plain X-BeenThere: test-report@dpdk.org X-Mailman-Version: 2.1.29 Precedence: list List-Id: automatic DPDK test reports List-Unsubscribe: , List-Archive: List-Post: List-Help: List-Subscribe: , Errors-To: test-report-bounces@dpdk.org Test-Label: iol-compile-amd64-testing Test-Status: SUCCESS http://dpdk.org/patch/151218 _Testing PASS_ Submitter: Gregory Etelson Date: Sunday, February 09 2025 14:01:06 DPDK git baseline: Repo:dpdk Branch: master CommitID:af389f2da68c0e9bb08a68055996bececbd45108 151218 --> testing pass Upstream job id: Generic-DPDK-Compile-Meson#359926 Test environment and result as below: +---------------------+--------------------+------------------+-------------------+-------------------------+-------------------+----------------------+ | Environment | dpdk_meson_compile | dpdk_compile_ovs | dpdk_compile_spdk | dpdk_llvm_clang_compile | dpdk_msvc_compile | dpdk_mingw64_compile | +=====================+====================+==================+===================+=========================+===================+======================+ | CentOS Stream 9 | PASS | PASS | PASS | SKIPPED | SKIPPED | SKIPPED | +---------------------+--------------------+------------------+-------------------+-------------------------+-------------------+----------------------+ | Debian Bullseye | PASS | PASS | PASS | SKIPPED | SKIPPED | SKIPPED | +---------------------+--------------------+------------------+-------------------+-------------------------+-------------------+----------------------+ | Debian 12 | PASS | PASS | PASS | SKIPPED | SKIPPED | SKIPPED | +---------------------+--------------------+------------------+-------------------+-------------------------+-------------------+----------------------+ | Fedora 41 | PASS | PASS | PASS | SKIPPED | SKIPPED | SKIPPED | +---------------------+--------------------+------------------+-------------------+-------------------------+-------------------+----------------------+ | Fedora 41 (Clang) | PASS | PASS | PASS | SKIPPED | SKIPPED | SKIPPED | +---------------------+--------------------+------------------+-------------------+-------------------------+-------------------+----------------------+ | Fedora 40 | PASS | PASS | PASS | SKIPPED | SKIPPED | SKIPPED | +---------------------+--------------------+------------------+-------------------+-------------------------+-------------------+----------------------+ | openSUSE Leap 15 | PASS | SKIPPED | SKIPPED | SKIPPED | SKIPPED | SKIPPED | +---------------------+--------------------+------------------+-------------------+-------------------------+-------------------+----------------------+ | Ubuntu 20.04 | PASS | SKIPPED | SKIPPED | SKIPPED | SKIPPED | SKIPPED | +---------------------+--------------------+------------------+-------------------+-------------------------+-------------------+----------------------+ | RHEL9 | PASS | PASS | SKIPPED | SKIPPED | SKIPPED | SKIPPED | +---------------------+--------------------+------------------+-------------------+-------------------------+-------------------+----------------------+ | Ubuntu 22.04 | PASS | PASS | PASS | SKIPPED | SKIPPED | SKIPPED | +---------------------+--------------------+------------------+-------------------+-------------------------+-------------------+----------------------+ | Ubuntu 24.04 | PASS | PASS | PASS | SKIPPED | SKIPPED | SKIPPED | +---------------------+--------------------+------------------+-------------------+-------------------------+-------------------+----------------------+ | Alpine | PASS | PASS | SKIPPED | SKIPPED | SKIPPED | SKIPPED | +---------------------+--------------------+------------------+-------------------+-------------------------+-------------------+----------------------+ | FreeBSD 13.4 | PASS | SKIPPED | SKIPPED | SKIPPED | SKIPPED | SKIPPED | +---------------------+--------------------+------------------+-------------------+-------------------------+-------------------+----------------------+ | FreeBSD 14.2 | PASS | SKIPPED | SKIPPED | SKIPPED | SKIPPED | SKIPPED | +---------------------+--------------------+------------------+-------------------+-------------------------+-------------------+----------------------+ | Fedora 40 (Clang) | PASS | PASS | PASS | SKIPPED | SKIPPED | SKIPPED | +---------------------+--------------------+------------------+-------------------+-------------------------+-------------------+----------------------+ | RHEL8 | PASS | PASS | SKIPPED | SKIPPED | SKIPPED | SKIPPED | +---------------------+--------------------+------------------+-------------------+-------------------------+-------------------+----------------------+ | Windows Server 2022 | SKIPPED | SKIPPED | SKIPPED | PASS | PASS | PASS | +---------------------+--------------------+------------------+-------------------+-------------------------+-------------------+----------------------+ CentOS Stream 9 Kernel: Depends on container host Compiler: gcc 11.5.0 20240719 (Red Hat 11.5.0-2) Debian Bullseye Kernel: Depends on container host Compiler: gcc (Debian 10.2.1-6) 10.2.1 20210110 Debian 12 Kernel: Depends on container host Compiler: gcc (Debian 12.2.0-14) 12.2.0 Fedora 41 Kernel: Depends on container host Compiler: gcc 14.2.1 20240912 (Red Hat 14.2.1-3) Fedora 41 (Clang) Kernel: Depends on container host Compiler: clang 19.1.5 (Fedora 19.1.5-1.fc41) Fedora 40 Kernel: Depends on container host Compiler: gcc 14.2.1 20240912 (Red Hat 14.2.1-3) openSUSE Leap 15 Kernel: Depends on container host Compiler: gcc (SUSE Linux) 7.5.0 Ubuntu 20.04 Kernel: Depends on container host Compiler: gcc (Ubuntu 9.4.0-1ubuntu1~20.04.2) 9.4.0 RHEL9 Kernel: Depends on container host Compiler: gcc 11.5.0 20240719 (Red Hat 11.5.0-2) Ubuntu 22.04 Kernel: Depends on container host Compiler: gcc (Ubuntu 11.4.0-1ubuntu1~22.04) 11.4.0 Ubuntu 24.04 Kernel: Depends on container host Compiler: gcc (Ubuntu 13.3.0-6ubuntu2~24.04) 13.3.0 Alpine Kernel: Depends on container host Compiler: gcc (Alpine 14.2.0) 14.2.0 FreeBSD 13.4 Kernel: 13.4-RELEASE-p1 Compiler: clang 18.1.6 FreeBSD 14.2 Kernel: 14.2-RELEASE Compiler: clang 18.1.6 Fedora 40 (Clang) Kernel: Depends on container host Compiler: clang 18.1.8 (Fedora 18.1.8-1.fc40) RHEL8 Kernel: Depends on container host Compiler: gcc 8.5.0 20210514 (Red Hat 8.5.0-22) Windows Server 2022 Kernel: 10.0.20348.2031 Compiler: clang 15.0.7, gcc 14.1.0 (MinGW), and MSVC VS 19.39.33521 To view detailed results, visit: https://lab.dpdk.org/results/dashboard/patchsets/32540/ UNH-IOL DPDK Community Lab To manage your email subscriptions, visit: https://lab.dpdk.org/results/dashboard/preferences/subscriptions/