From mboxrd@z Thu Jan 1 00:00:00 1970 Return-Path: Received: from mails.dpdk.org (mails.dpdk.org [217.70.189.124]) by inbox.dpdk.org (Postfix) with ESMTP id 88CF7461DE for ; Sun, 9 Feb 2025 22:21:46 +0100 (CET) Received: from mails.dpdk.org (localhost [127.0.0.1]) by mails.dpdk.org (Postfix) with ESMTP id 7853C402B7; Sun, 9 Feb 2025 22:21:45 +0100 (CET) Received: from mail-qv1-f100.google.com (mail-qv1-f100.google.com [209.85.219.100]) by mails.dpdk.org (Postfix) with ESMTP id 342494021F for ; Sun, 9 Feb 2025 22:21:44 +0100 (CET) Received: by mail-qv1-f100.google.com with SMTP id 6a1803df08f44-6dd01781b56so46249386d6.0 for ; Sun, 09 Feb 2025 13:21:44 -0800 (PST) DKIM-Signature: v=1; a=rsa-sha256; c=relaxed/relaxed; d=iol.unh.edu; s=unh-iol; t=1739136103; x=1739740903; darn=dpdk.org; h=references:in-reply-to:cc:to:from:subject:message-id:date:from:to :cc:subject:date:message-id:reply-to; bh=Gyx5TPzf84Y7kgMQMKul9ArGZBeE5S+184j0tOXwozA=; b=BgrLJ9b/DjuGw4tvwGBlUS6p6nJjumkljlNdoqEhWCZly4tqO0F8JD4pb2k9pBT8J4 b9aG2OXN4mRSs71UyFa5kj4Lpy6gIMi2bVsWF5dBjbzC8KGdAavJA4s7v+sef6J8RANr 6Bp19Mg2ryXxFJJPi/AdBJZr5oIFp5F/EcdlI= X-Google-DKIM-Signature: v=1; a=rsa-sha256; c=relaxed/relaxed; d=1e100.net; s=20230601; t=1739136103; x=1739740903; h=references:in-reply-to:cc:to:from:subject:message-id:date :x-gm-message-state:from:to:cc:subject:date:message-id:reply-to; bh=Gyx5TPzf84Y7kgMQMKul9ArGZBeE5S+184j0tOXwozA=; b=qRDQNoWy3p6sI7GvyoFjf/Dw8JaESm0HZxTjG61WxEMrY84o8yhgAf75xdIPkVxT7p VsVCfDNjAO2PQyhG0ivVFNWuzMNqfVnY7t6rm3H3AmEUdPI3Ju8hHcVF+g1srzu7J//f Br2eioHOh+x1Pk6IxfN05uvLogY2VGkDoxm4dej5Q3hwNghw2m94SQR47zpEQB4wtCLC S413yybNCASC6UuyR12+AU+Eb9BINCIQBcJ0GHXPOJ3TpFzid/kY9I4dtW2X+WzTVLLI XwAUBJdgMNmCpEOGQ6DBrHLQYaQVBTbrQZM57gZQ9KOAz5ITJmJSnZF52JVIa1xF7KQ6 aw7A== X-Gm-Message-State: AOJu0YyrXV1dYRkx3+X9XPhh5/cI4qXXwguDg0O5MUvXGtChO3FDR/6f 1vr5ANlgshCtNycNbUyELmO4gQyqYhctNXSJ03ZRng675FxVHkl76nvlHREm5EwkSvLqrgeVKHw qWgQ5FtAesCqr3n9oj03V8x8KqKWbtktlzo99CQvn X-Gm-Gg: ASbGncux63Sz7zPT1BC2mHOK8+agJt9G2WSy9WWo96wdzEJm8j0brmDyOiAubXbiquk 31Nt+cgS3g0tabKv0cg6RIP8BHukt5ByzR6G3njtBCWQM+CnQOupAAldo+P0bEkrgek1RqDBfqL N7FkkLLLkTyDkGY/2jXRbgEflz9h3CLKNdmCOoXUo1ym2LbYsG78f9vPrNv6JFuUu8PRWwuJTmF b3eG1sBDAYrqMr/otQUkNHfj3HvGjWUuMwGXqnMm6jhApVLWcslMteYqq52fLubcSeR/feEDJvY exbrFD58ofjBFVwT4KloRZoSLnCcSA== X-Google-Smtp-Source: AGHT+IGGbGfvTlbLuw3A+w52T6+eiG7w+XOuJ1hKO5fHM9sR+9uRn4EnFpxU0rZ8IR4988E31fkIKVcg/ujf X-Received: by 2002:ad4:5f89:0:b0:6d8:960e:5785 with SMTP id 6a1803df08f44-6e4455ea408mr179906196d6.13.1739136103543; Sun, 09 Feb 2025 13:21:43 -0800 (PST) Received: from postal.iol.unh.edu (postal.iol.unh.edu. [132.177.123.84]) by smtp-relay.gmail.com with ESMTPS id 6a1803df08f44-6e45d8e0826sm898986d6.37.2025.02.09.13.21.43 (version=TLS1_2 cipher=ECDHE-ECDSA-AES128-GCM-SHA256 bits=128/128); Sun, 09 Feb 2025 13:21:43 -0800 (PST) X-Relaying-Domain: iol.unh.edu Date: Sun, 09 Feb 2025 13:21:43 -0800 (PST) Message-ID: <67a91c67.050a0220.92ceb.4a0eSMTPIN_ADDED_MISSING@mx.google.com> Received: from [172.17.0.3] (unknown [172.18.0.217]) by postal.iol.unh.edu (Postfix) with ESMTP id 321326052471; Sun, 9 Feb 2025 16:21:13 -0500 (EST) Subject: |WARNING| pw151218 [PATCH] net/mlx5: fix packet hardware ptype trans From: dpdklab@iol.unh.edu To: Test Report Cc: dpdk-test-reports@iol.unh.edu In-Reply-To: <20250209140106.264556-1-getelson@nvidia.com> References: <20250209140106.264556-1-getelson@nvidia.com> Content-Type: text/plain X-BeenThere: test-report@dpdk.org X-Mailman-Version: 2.1.29 Precedence: list List-Id: automatic DPDK test reports List-Unsubscribe: , List-Archive: List-Post: List-Help: List-Subscribe: , Errors-To: test-report-bounces@dpdk.org Test-Label: iol-sample-apps-testing Test-Status: WARNING http://dpdk.org/patch/151218 _Testing issues_ Submitter: Gregory Etelson Date: Sunday, February 09 2025 14:01:06 DPDK git baseline: Repo:dpdk Branch: master CommitID:af389f2da68c0e9bb08a68055996bececbd45108 151218 --> testing issues Upstream job id: ACVP-FIPS-testing#8855 Test environment and result as below: +--------------------+----------------------+----------------------+ | Environment | compressdev_zlib_pmd | dpdk_fips_validation | +====================+======================+======================+ | Ubuntu 22.04 (ARM) | PASS | SKIPPED | +--------------------+----------------------+----------------------+ | Ubuntu 22.04 | PASS | SKIPPED | +--------------------+----------------------+----------------------+ | Ubuntu 20.04 | SKIPPED | WARN | +--------------------+----------------------+----------------------+ ==== 20 line log output for Ubuntu 20.04 (dpdk_fips_validation): ==== INFO:root:Downloading verdict for vector set 2881071 INFO:root:Vector set verdict not ready, waiting 30 seconds... INFO:root:Vector set verdict not ready, waiting 30 seconds... INFO:root:Vector set verdict not ready, waiting 30 seconds... INFO:root:Done INFO:root:Using response file... INFO:root:Uploading response file... INFO:root:Fetching verdict... INFO:root:Downloading verdict for vector set 2881072 INFO:root:Vector set verdict not ready, waiting 30 seconds... INFO:root:Vector set verdict not ready, waiting 30 seconds... INFO:root:Done INFO:root:Using response file... INFO:root:Uploading response file... INFO:root:Fetching verdict... INFO:root:Downloading verdict for vector set 2881073 INFO:root:Vector set verdict not ready, waiting 30 seconds... INFO:root:Vector set verdict not ready, waiting 30 seconds... INFO:root:Vector set verdict not ready, waiting 30 seconds... INFO:root:Done ==== End log output ==== Ubuntu 22.04 (ARM) Kernel: 5.15.0-97-generic Compiler: gcc gcc (Ubuntu 11.4.0-1ubuntu1~22.04) 11.4.0 Ubuntu 22.04 Kernel: 5.15.0-100-generic Compiler: gcc gcc (Ubuntu 11.4.0-1ubuntu1~22.04) 11.4.0 Ubuntu 20.04 Kernel: Depends on container host Compiler: gcc (Ubuntu 9.4.0-1ubuntu1~20.04.2) 9.4.0 To view detailed results, visit: https://lab.dpdk.org/results/dashboard/patchsets/32540/ UNH-IOL DPDK Community Lab To manage your email subscriptions, visit: https://lab.dpdk.org/results/dashboard/preferences/subscriptions/