From mboxrd@z Thu Jan 1 00:00:00 1970 Return-Path: Received: from mails.dpdk.org (mails.dpdk.org [217.70.189.124]) by inbox.dpdk.org (Postfix) with ESMTP id B3C8C461DE for ; Sun, 9 Feb 2025 22:46:34 +0100 (CET) Received: from mails.dpdk.org (localhost [127.0.0.1]) by mails.dpdk.org (Postfix) with ESMTP id 86ACF402B7; Sun, 9 Feb 2025 22:46:34 +0100 (CET) Received: from mail-qv1-f99.google.com (mail-qv1-f99.google.com [209.85.219.99]) by mails.dpdk.org (Postfix) with ESMTP id 79C834021F for ; Sun, 9 Feb 2025 22:46:33 +0100 (CET) Received: by mail-qv1-f99.google.com with SMTP id 6a1803df08f44-6e46269d2c2so1548746d6.3 for ; Sun, 09 Feb 2025 13:46:33 -0800 (PST) DKIM-Signature: v=1; a=rsa-sha256; c=relaxed/relaxed; d=iol.unh.edu; s=unh-iol; t=1739137593; x=1739742393; darn=dpdk.org; h=references:in-reply-to:cc:to:from:subject:message-id:date:from:to :cc:subject:date:message-id:reply-to; bh=p1UyqYuuD484Z2zK80Ksjjw/5fSQVMZA3j25i86BQAw=; b=i5UWqqgw2mb4Ayw1ZWa5xKhfLUOSsBecid1AVI9W1JAaqkaxGNIWucPvuCWTEwIn/Q I/QGrymoQfdkM/uCrrChlKodiS4GpBattFOZcqH+AgK9jwtN5bmtN44no1GEbXqvqzp3 ihJHqesBoSNAHA9bvWFFb0kp7KpZHPgRd/JNw= X-Google-DKIM-Signature: v=1; a=rsa-sha256; c=relaxed/relaxed; d=1e100.net; s=20230601; t=1739137593; x=1739742393; h=references:in-reply-to:cc:to:from:subject:message-id:date :x-gm-message-state:from:to:cc:subject:date:message-id:reply-to; bh=p1UyqYuuD484Z2zK80Ksjjw/5fSQVMZA3j25i86BQAw=; b=NlJweTKe0oItsNt10qiNMrLrAnLW1SwHFhXzbaWpD2V6yuPoPL9YJiHSZxHiNxZcZ7 DnvhV5P3q+2yDEoLDOO68/KLO9pq3sjBtwVeTXMI0n1NybzOSGT4CE1ppJcAY+eE3me5 nG60f8Pprxn5hZ9KMcI7YIfGUEh9S6zXMYmRwmxH1+o37NgZTxOFUdXeycoVUZaG4DTk bD/dNiVQ+u5EQJfJ0zOiXyKz76NhdjIKtn03YTRkQ90vOE5mJ8OKHxSvCfskkgec2A+/ lcD+xTPjAWcwRtxTvBEcVGTCjDsGYHJGo221bVvJYyQ3IPUXo8Rwn05fNBsuTza9vgAc Cvcw== X-Gm-Message-State: AOJu0YzVm3zykxpXRdMHEBdAWIlGFnrTpGRMzMcVEGLaR6qACuf7OBhH gDfPQMnyYB4jh0IBUtC228g3X5HUGuPqt90OV4VIykWpu8TXXAouBUHFfvfCinbBiQtIu1pdBs3 Q+xyHFBbW7NvZ9qB7nZQIrtSuYAz+ziStsrNFJR+Y X-Gm-Gg: ASbGncvnvbY31h212FDZ8HJnMPackenBNi+FBYRScnp+Ua5B6TYDGeo9vcvJlIgJFbW BpGqORqOF3SFgl2n0V5iDPmbfyC7gEbvWOLJiUFl8uRLoToeuMfCJwItyHxIbRQNvr97z6KgJiX 9uuNsMM0BDiDH6x2LSSNy2WviX7o49+X2foyOF8+PUW6s2W62Q0zOrDu4CvOwLczXV4GfNN6fAF YLib61GvhzgjrWQkjZ/pAID2ytoYC54F+T4hHU35xDaLGLY5/mZ8zdYl25oN8I9Dlw4dqDmg2rl BZrgLbJsmVOPbJL6Vmgx+r8OnwBVSQ== X-Google-Smtp-Source: AGHT+IFDqTCNxdrfCiho8KpY67RxBFiJSJjM96BmYgUVpGd6aqTKRGKk15T1oMMCJ/01qnDvh4G4K8F45YFH X-Received: by 2002:a05:6214:d69:b0:6e4:3fb2:538a with SMTP id 6a1803df08f44-6e44572761fmr191734826d6.42.1739137592887; Sun, 09 Feb 2025 13:46:32 -0800 (PST) Received: from postal.iol.unh.edu (postal.iol.unh.edu. [132.177.123.84]) by smtp-relay.gmail.com with ESMTPS id 6a1803df08f44-6e46146943esm311766d6.67.2025.02.09.13.46.32 (version=TLS1_2 cipher=ECDHE-ECDSA-AES128-GCM-SHA256 bits=128/128); Sun, 09 Feb 2025 13:46:32 -0800 (PST) X-Relaying-Domain: iol.unh.edu Date: Sun, 09 Feb 2025 13:46:32 -0800 (PST) Message-ID: <67a92238.050a0220.1e2c5c.1a82SMTPIN_ADDED_MISSING@mx.google.com> Received: from [172.17.0.3] (unknown [172.18.0.217]) by postal.iol.unh.edu (Postfix) with ESMTP id 829726052471; Sun, 9 Feb 2025 16:46:02 -0500 (EST) Subject: |SUCCESS| pw151218 [PATCH] net/mlx5: fix packet hardware ptype trans From: dpdklab@iol.unh.edu To: Test Report Cc: dpdk-test-reports@iol.unh.edu In-Reply-To: <20250209140106.264556-1-getelson@nvidia.com> References: <20250209140106.264556-1-getelson@nvidia.com> Content-Type: text/plain X-BeenThere: test-report@dpdk.org X-Mailman-Version: 2.1.29 Precedence: list List-Id: automatic DPDK test reports List-Unsubscribe: , List-Archive: List-Post: List-Help: List-Subscribe: , Errors-To: test-report-bounces@dpdk.org Test-Label: iol-unit-arm64-testing Test-Status: SUCCESS http://dpdk.org/patch/151218 _Testing PASS_ Submitter: Gregory Etelson Date: Sunday, February 09 2025 14:01:06 DPDK git baseline: Repo:dpdk Branch: master CommitID:af389f2da68c0e9bb08a68055996bececbd45108 151218 --> testing pass Upstream job id: Generic-Unit-Test-DPDK#313476 Test environment and result as below: +-----------------------------+----------------+--------------+---------------------------+------------------------------+ | Environment | dpdk_unit_test | lpm_autotest | cryptodev_sw_zuc_autotest | cryptodev_sw_snow3g_autotest | +=============================+================+==============+===========================+==============================+ | Debian 11 (Buster) (ARM) | PASS | SKIPPED | SKIPPED | SKIPPED | +-----------------------------+----------------+--------------+---------------------------+------------------------------+ | CentOS Stream 9 (ARM) | PASS | SKIPPED | SKIPPED | SKIPPED | +-----------------------------+----------------+--------------+---------------------------+------------------------------+ | Fedora 40 (ARM) | PASS | SKIPPED | SKIPPED | SKIPPED | +-----------------------------+----------------+--------------+---------------------------+------------------------------+ | Fedora 40 (ARM Clang) | PASS | SKIPPED | SKIPPED | SKIPPED | +-----------------------------+----------------+--------------+---------------------------+------------------------------+ | Debian 12 (arm) | PASS | SKIPPED | PASS | PASS | +-----------------------------+----------------+--------------+---------------------------+------------------------------+ | Fedora 41 (ARM Clang) | PASS | SKIPPED | SKIPPED | SKIPPED | +-----------------------------+----------------+--------------+---------------------------+------------------------------+ | Fedora 41 (ARM) | PASS | SKIPPED | SKIPPED | SKIPPED | +-----------------------------+----------------+--------------+---------------------------+------------------------------+ | 32-bit Ubuntu 22.04.4 (ARM) | PASS | SKIPPED | SKIPPED | SKIPPED | +-----------------------------+----------------+--------------+---------------------------+------------------------------+ | RHEL9 (ARM) | PASS | SKIPPED | SKIPPED | SKIPPED | +-----------------------------+----------------+--------------+---------------------------+------------------------------+ | Ubuntu 24.04 (ARM) | PASS | SKIPPED | SKIPPED | SKIPPED | +-----------------------------+----------------+--------------+---------------------------+------------------------------+ | Ubuntu 22.04 (ARM) | PASS | SKIPPED | SKIPPED | SKIPPED | +-----------------------------+----------------+--------------+---------------------------+------------------------------+ | Ubuntu 20.04 (ARM) | PASS | SKIPPED | SKIPPED | SKIPPED | +-----------------------------+----------------+--------------+---------------------------+------------------------------+ | Ubuntu 20.04 ARM SVE | SKIPPED | PASS | SKIPPED | SKIPPED | +-----------------------------+----------------+--------------+---------------------------+------------------------------+ Debian 11 (Buster) (ARM) Kernel: Depends on container host Compiler: gcc (Debian 10.2.1-6) 10.2.1 20210110 CentOS Stream 9 (ARM) Kernel: Depends on container host Compiler: gcc 11.5.0 20240719 (Red Hat 11.5.0-2) Fedora 40 (ARM) Kernel: Depends on container host Compiler: gcc 14.2.1 20240912 (Red Hat 14.2.1-3) Fedora 40 (ARM Clang) Kernel: Depends on container host Compiler: clang 18.1.8 (Fedora 18.1.8-1.fc40) Debian 12 (arm) Kernel: Depends on container host Compiler: gcc (Debian 12.2.0-14) 12.2.0 Fedora 41 (ARM Clang) Kernel: Depends on container host Compiler: clang 19.1.5 (Fedora 19.1.5-1.fc41) Fedora 41 (ARM) Kernel: Depends on container host Compiler: gcc 14.2.1 20240912 (Red Hat 14.2.1-3) 32-bit Ubuntu 22.04.4 (ARM) Kernel: 5.15.83+ aarch64 Compiler: gcc (Ubuntu 11.4.0-1ubuntu1~22.04) 11.4.0 RHEL9 (ARM) Kernel: Depends on container host Compiler: gcc 11.5.0 20240719 (Red Hat 11.5.0-2) Ubuntu 24.04 (ARM) Kernel: Depends on container host Compiler: gcc (Ubuntu 13.3.0-6ubuntu2~24.04) 13.3.0 Ubuntu 22.04 (ARM) Kernel: Depends on container host Compiler: gcc (Ubuntu 11.4.0-1ubuntu1~22.04) 11.4.0 Ubuntu 20.04 (ARM) Kernel: Depends on container host Compiler: gcc (Ubuntu 9.4.0-1ubuntu1~20.04.2) 9.4.0 Ubuntu 20.04 ARM SVE Kernel: Depends on container host Compiler: gcc (Ubuntu 10.5.0-1ubuntu1~20.04) 10.5.0 To view detailed results, visit: https://lab.dpdk.org/results/dashboard/patchsets/32540/ UNH-IOL DPDK Community Lab To manage your email subscriptions, visit: https://lab.dpdk.org/results/dashboard/preferences/subscriptions/